Workbook

Sheet Year-end Performance Review
A1: The University of Kansas
A2: Year-end Rate Performance Review
A4: Form Requirements: Any department that is charging a fee for a good or service is required to complete the following form on annual basis and submit it to the Service Center Fee Evaluation Committee by December 31st. Departments that do not complete this form by the required due date face the risk of having their fee approval revoked and will not be allowed to collect any future collections.
A6: Service Center:
A7: Dept/Cost Center:
A8: Primary Contact:
B9: Name/Title
B10: Direct Phone #
B11: E-mail Address
A13: DESCRIPTION OF GOOD/SERVICE PROVIDED BY SERVICE CENTER:
A23: DATE OF APPROVED RATE STRUCTURE:
A25: IS A RATE CHANGE REQUESTED FOR THE UPCOMING FISCAL YEAR: | L25: YES | N25: NO
A26: If YES, attach completed "Service Center Request Form"
A28: CASH FLOW SUMMARY: (Provide both Current Year and Prior Year)
H30: FY200Y | J30: FY200X
B31: Revenues:
B32: Internal Users
C33: KU Departments | H33: 225000 | J33: 210000
C34: Sponsored Projects | H34: 680000 | J34: 675000
B35: External Users
C36: Students | H36: 0 | J36: 0
C37: Faculty/Staff | H37: 0 | J37: 0
C38: Off Campus Entities: | H38: 0 | J38: 0
D39: Other Kansas Universities | H39: 0 | J39: 0
D40: Other Universities | H40: 0 | J40: 0
D41: Kansas State Agencies | H41: 0 | J41: 0
D42: Other State Agencies | H42: 0 | J42: 0
D43: Other (Foundations, Corporations, etc.) | H43: 0 | J43: 0
E44: Total Revenues | H44: =SUM(H33:H43) -> 905000 | J44: =SUM(J33:J43) -> 885000
B46: Expenses:
C47: Salaries | H47: 85000 | J47: 80000
C48: Fringe Benefits | H48: 22880 | J48: 20250
C49: Inventory | H49: 750000 | J49: 770000
C50: Stockroom Supplies | H50: 22000 | J50: 25000
C51: Other Expenses | H51: 1200 | J51: 2500
E52: Total Recoverable Expenses | H52: =SUM(H47:H51) -> 881080 | J52: =SUM(J47:J51) -> 897750
B54: Operating Gain/Loss | H54: =H44-H52 -> 23920 | J54: =J44-J52 -> -12750
B56: Percentage of Expenses | H56: =H54/H52 -> 0.0271485 | J56: =J54/J52 -> -0.014202172
B58: Excluded Expenses
C59: Capitalized Equipment | H59: 0 | J59: 0
...

Sheet Salary and Wage
A1: Service Center: | E1: Date:
A3: Boston University
A4: Salary and Wage Included in Rate Calculation
G5: Fiscal Year 2025
B6: Items To Be Filled In By Service Center
K8: Cost Allocation
K9: Service Description
H10: Federal | K10: =+'Forecasted Usage'!B14 -> 0 | M10: =+'Forecasted Usage'!B15 -> 0 | O10: =+'Forecasted Usage'!B16 -> 0
A11: Employee Name | B11: Title | C11: BU Personnel # | D11: SAP Cost Center | E11: Annual Salary | F11: Effort % | G11: Effort Amount | H11: Fringe Benefit Rate % | I11: Fringe Benefits Amount | J11: Total Salary & FB | K11: Service #1 | L11: % of Time | M11: Service #2 | N11: % of Time | O11: Service #3 | P11: % of Time | Q11: Check Total | R11: Comments
A12: Example: | R12: Check Total Must Equal 100%
A13: Jane Doe | B13: Technician | C13: 12345678 | D13: 1234567890 | E13: 34900 | F13: 1 | G13: =+E13*F13 -> 34900 | H13: 0.243 | I13: =+G13*H13 -> 8480.7 | J13: =SUM(G13:I13) -> 43380.943 | K13: =J13*L13 -> 32535.707 | L13: 0.75 | M13: =J13*N13 -> 10845.236 | N13: 0.25 | O13: =$J13*P13 -> 0 | P13: 0 | Q13: =SUM(L13,N13,P13) -> 1
G14: =+E14*F14 -> 0 | H14: 0.294 | I14: =+G14*H14 -> 0 | J14: =+G14+I14 -> 0 | K14: =$J14*L14 -> 0 | M14: =$J14*N14 -> 0 | O14: =$J14*P14 -> 0 | Q14: =SUM(L14,N14,P14) -> 0
G15: =+E15*F15 -> 0 | H15: 0.294 | I15: =+G15*H15 -> 0 | J15: =+G15+I15 -> 0 | K15: =$J15*L15 -> 0 | M15: =$J15*N15 -> 0 | O15: =$J15*P15 -> 0 | Q15: =SUM(L15,N15,P15) -> 0
G16: =+E16*F16 -> 0 | H16: 0.294 | I16: =+G16*H16 -> 0 | J16: =+G16+I16 -> 0 | K16: =$J16*L16 -> 0 | M16: =$J16*N16 -> 0 | O16: =$J16*P16 -> 0 | Q16: =SUM(L16,N16,P16) -> 0
G17: =+E17*F17 -> 0 | H17: 0.294 | I17: =+G17*H17 -> 0 | J17: =+G17+I17 -> 0 | K17: =$J17*L17 -> 0 | M17: =$J17*N17 -> 0 | O17: =$J17*P17 -> 0 | Q17: =SUM(L17,N17,P17) -> 0
G18: =+E18*F18 -> 0 | H18: 0.294 | I18: =+G18*H18 -> 0 | J18: =+G18+I18 -> 0 | K18: =$J18*L18 -> 0 | M18: =$J18*N18 -> 0 | O18: =$J18*P18 -> 0 | Q18: =SUM(L18,N18,P18) -> 0
G19: =+E19*F19 -> 0 | H19: 0.294 | I19: =+G19*H19 -> 0 | J19: =+G19+I19 -> 0 | K19: =$J19*L19 -> 0 | M19: =$J19*N19 -> 0 | O19: =$J19*P19 -> 0 | Q19: =SUM(L19,N19,P19) -> 0
G20: =+E20*F20 -> 0 | H20: 0.294 | I20: =+G20*H20 -> 0 | J20: =+G20+I20 -> 0 | K20: =$J20*L20 -> 0 | M20: =$J20*N20 -> 0 | O20: =$J20*P20 -> 0 | Q20: =SUM(L20,N20,P20) -> 0
G21: =+E21*F21 -> 0 | H21: 0.294 | I21: =+G21*H21 -> 0 | J21: =+G21+I21 -> 0 | K21: =$J21*L21 -> 0 | M21: =$J21*N21 -> 0 | O21: =$J21*P21 -> 0 | Q21: =SUM(L21,N21,P21) -> 0
G22: =+E22*F22 -> 0 | H22: 0.294 | I22: =+G22*H22 -> 0 | J22: =+G22+I22 -> 0 | K22: =$J22*L22 -> 0 | M22: =$J22*N22 -> 0 | O22: =$J22*P22 -> 0 | Q22: =SUM(L22,N22,P22) -> 0
G23: =+E23*F23 -> 0 | H23: 0.294 | I23: =+G23*H23 -> 0 | J23: =+G23+I23 -> 0 | K23: =$J23*L23 -> 0 | M23: =$J23*N23 -> 0 | O23: =$J23*P23 -> 0 | Q23: =SUM(L23,N23,P23) -> 0
G24: =+E24*F24 -> 0 | H24: 0.294 | I24: =+G24*H24 -> 0 | J24: =+G24+I24 -> 0 | K24: =$J24*L24 -> 0 | M24: =$J24*N24 -> 0 | O24: =$J24*P24 -> 0 | Q24: =SUM(L24,N24,P24) -> 0
G25: =+E25*F25 -> 0 | H25: 0.294 | I25: =+G25*H25 -> 0 | J25: =+G25+I25 -> 0 | K25: =$J25*L25 -> 0 | M25: =$J25*N25 -> 0 | O25: =$J25*P25 -> 0 | Q25: =SUM(L25,N25,P25) -> 0
... G47: =+E47*F47 -> 0 | H47: 0.294 | I47: =+G47*H47 -> 0 | J47: =+G47+I47 -> 0 | K47: =$J47*L47 -> 0 | M47: =$J47*N47 -> 0 | O47: =$J47*P47 -> 0 | Q47: =SUM(L47,N47,P47) -> 0
D48: Totals | E48: =SUM(E14:E47) -> 0 | G48: =SUM(G14:G47) -> 0 | I48: =SUM(I14:I47) -> 0 | J48: =SUM(J14:J47) -> 0 | K48: =SUM(K14:K47) -> 0 | M48: =SUM(M14:M47) -> 0 | O48: =SUM(O14:O47) -> 0
K49: (carry these amounts to the summary)
A51: Notes:
A52: Fringe Benefits are calculated based on the approved federal rate.
A53: The federal fringe benefit rate % has been populated with the BU Professional Rate.
A54: Input the rate % from the below listed federal rates if the rate is other than the one listed.
A55: The approved Federal Fringe Benefit Rates are as follows:
C56: FY 2025
B57: BU Professional | C57: 0.294
B58: BU Support Staff | C58: 0.314
A59: BU Graduate Students (CRC and MED) | C59: 0.116

Sheet Other Direct Expenses
A1: Service Center: | B1: ='Salary and Wage'!B1 -> 0 | E1: Date: | F1: ='Salary and Wage'!F1 -> 0
A3: Boston University
A4: Other Direct Expenses Included in Rate Calculation
C5: Fiscal Year 2025
B7: Items To Be Filled In By Service Center
D9: Cost Allocation
D10: Service Description
D11: =+'Forecasted Usage'!B14 -> 0 | F11: =+'Forecasted Usage'!B15 -> 0 | H11: =+'Forecasted Usage'!B16 -> 0
A12: Description of Service or Supply | B12: SAP Cost Center | C12: Total | D12: Service #1 | E12: % of Time | F12: Service #2 | G12: % of Time | H12: Service #3 | I12: % of Time | J12: Check Total | K12: Comments
A13: Example: | K13: Check Total Must Equal 100%
A14: Equipment Maintenance Agreement | B14: 1234567890 | C14: 5000 | D14: =C14*E14 -> 5000 | E14: 1 | F14: =C14*G14 -> 0 | G14: 0 | H14: =C14*I14 -> 0 | I14: 0 | J14: =SUM(E14,G14,I14) -> 1
A15: Direct Supplies (e.g. equipment supplies) | B15: 1234567890 | C15: 1200 | D15: =C15*E15 -> 600 | E15: 0.5 | F15: =C15*G15 -> 600 | G15: 0.5 | H15: =C15*I15 -> 0 | I15: 0 | J15: =SUM(E15,G15,I15) -> 1
D16: =C16*E16 -> 0 | F16: =$C16*G16 -> 0 | H16: =$C16*I16 -> 0 | J16: =SUM(E16,G16,I16) -> 0
D17: =C17*E17 -> 0 | F17: =$C17*G17 -> 0 | H17: =$C17*I17 -> 0 | J17: =SUM(E17,G17,I17) -> 0
D18: =C18*E18 -> 0 | F18: =$C18*G18 -> 0 | H18: =$C18*I18 -> 0 | J18: =SUM(E18,G18,I18) -> 0
D19: =C19*E19 -> 0 | F19: =$C19*G19 -> 0 | H19: =$C19*I19 -> 0 | J19: =SUM(E19,G19,I19) -> 0
D20: =C20*E20 -> 0 | F20: =$C20*G20 -> 0 | H20: =$C20*I20 -> 0 | J20: =SUM(E20,G20,I20) -> 0
D21: =C21*E21 -> 0 | F21: =$C21*G21 -> 0 | H21: =$C21*I21 -> 0 | J21: =SUM(E21,G21,I21) -> 0
D22: =C22*E22 -> 0 | F22: =$C22*G22 -> 0 | H22: =$C22*I22 -> 0 | J22: =SUM(E22,G22,I22) -> 0
D23: =C23*E23 -> 0 | F23: =$C23*G23 -> 0 | H23: =$C23*I23 -> 0 | J23: =SUM(E23,G23,I23) -> 0
D24: =C24*E24 -> 0 | F24: =$C24*G24 -> 0 | H24: =$C24*I24 -> 0 | J24: =SUM(E24,G24,I24) -> 0
D25: =C25*E25 -> 0 | F25: =$C25*G25 -> 0 | H25: =$C25*I25 -> 0 | J25: =SUM(E25,G25,I25) -> 0
D26: =C26*E26 -> 0 | F26: =$C26*G26 -> 0 | H26: =$C26*I26 -> 0 | J26: =SUM(E26,G26,I26) -> 0
D27: =C27*E27 -> 0 | F27: =$C27*G27 -> 0 | H27: =$C27*I27 -> 0 | J27: =SUM(E27,G27,I27) -> 0
... D30: =C30*E30 -> 0 | F30: =$C30*G30 -> 0 | H30: =$C30*I30 -> 0 | J30: =SUM(E30,G30,I30) -> 0
B31: Totals | C31: =SUM(C16:C30) -> 0 | D31: =SUM(D16:D30) -> 0 | F31: =SUM(F16:F30) -> 0 | H31: =SUM(H16:H30) -> 0
D32: (carry these amounts to the summary)

Sheet Equipment Depreciation
A1: Service Center: | B1: ='Salary and Wage'!B1 -> 0 | F1: Date: | G1: ='Salary and Wage'!F1 -> 0
A3: Boston University
A4: Equipment Depreciation Included in Rate Calculation
G5: Fiscal Year 2025
B7: Items To Be Filled In By Service Center
K9: Cost Allocation
K10: Service Description
K11: ='Other Direct Expenses'!$D$11 -> 0 | M11: ='Other Direct Expenses'!F11 -> 0 | O11: ='Other Direct Expenses'!$H$11 -> 0
A12: Equipment Description | B12: Serial # | C12: Model # | D12: BU Asset ID (Tag) # | E12: Acquisition Date | F12: SAP Cost Center | G12: Purchase Price | H12: Accum. Depr.** | I12: Useful Life | J12: Annual Depr.** | K12: Service #1 | L12: % of Usage | M12: Service #2 | N12: % of Usage | O12: Service #3 | P12: % of Usage | Q12: Check Total | R12: Comments
A13: Example: | R13: Check Total Must Equal 100%
A14: Ultraviolet/Visible spectrophotometer | B14: ABC12345 | C14: 00499999 | D14: 888555 | E14: 44378 | F14: 1234567890 | G14: 85000 | H14: 8500 | I14: 10 | J14: =IF(G14-H14<G14/I14,G14-H14,G14/I14) -> 8500 | K14: =J14*L14 -> 8500 | L14: 1 | M14: =J14*N14 -> 0 | N14: 0 | O14: =J14*P14 -> 0 | P14: 0 | Q14: =SUM(L14,N14,P14) -> 1
I15: 1 | J15: =IF(G15-H15<G15/I15,G15-H15,G15/I15) -> 0 | K15: =$J15*L15 -> 0 | M15: =$J15*N15 -> 0 | O15: =$J15*P15 -> 0 | Q15: =SUM(L15,N15,P15) -> 0
I16: 1 | J16: =IF(G16-H16<G16/I16,G16-H16,G16/I16) -> 0 | K16: =$J16*L16 -> 0 | M16: =$J16*N16 -> 0 | O16: =$J16*P16 -> 0 | Q16: =SUM(L16,N16,P16) -> 0
I17: 1 | J17: =IF(G17-H17<G17/I17,G17-H17,G17/I17) -> 0 | K17: =$J17*L17 -> 0 | M17: =$J17*N17 -> 0 | O17: =$J17*P17 -> 0 | Q17: =SUM(L17,N17,P17) -> 0
I18: 1 | J18: =IF(G18-H18<G18/I18,G18-H18,G18/I18) -> 0 | K18: =$J18*L18 -> 0 | M18: =$J18*N18 -> 0 | O18: =$J18*P18 -> 0 | Q18: =SUM(L18,N18,P18) -> 0
I19: 1 | J19: =IF(G19-H19<G19/I19,G19-H19,G19/I19) -> 0 | K19: =$J19*L19 -> 0 | M19: =$J19*N19 -> 0 | O19: =$J19*P19 -> 0 | Q19: =SUM(L19,N19,P19) -> 0
I20: 1 | J20: =IF(G20-H20<G20/I20,G20-H20,G20/I20) -> 0 | K20: =$J20*L20 -> 0 | M20: =$J20*N20 -> 0 | O20: =$J20*P20 -> 0 | Q20: =SUM(L20,N20,P20) -> 0
I21: 1 | J21: =IF(G21-H21<G21/I21,G21-H21,G21/I21) -> 0 | K21: =$J21*L21 -> 0 | M21: =$J21*N21 -> 0 | O21: =$J21*P21 -> 0 | Q21: =SUM(L21,N21,P21) -> 0
I22: 1 | J22: =IF(G22-H22<G22/I22,G22-H22,G22/I22) -> 0 | K22: =$J22*L22 -> 0 | M22: =$J22*N22 -> 0 | O22: =$J22*P22 -> 0 | Q22: =SUM(L22,N22,P22) -> 0
I23: 1 | J23: =IF(G23-H23<G23/I23,G23-H23,G23/I23) -> 0 | K23: =$J23*L23 -> 0 | M23: =$J23*N23 -> 0 | O23: =$J23*P23 -> 0 | Q23: =SUM(L23,N23,P23) -> 0
I24: 1 | J24: =IF(G24-H24<G24/I24,G24-H24,G24/I24) -> 0 | K24: =$J24*L24 -> 0 | M24: =$J24*N24 -> 0 | O24: =$J24*P24 -> 0 | Q24: =SUM(L24,N24,P24) -> 0
H25: Totals | J25: =SUM(J15:J24) -> 0 | K25: =SUM(K15:K24) -> 0 | M25: =SUM(M15:M24) -> 0 | O25: =SUM(O15:O24) -> 0
K26: (carry these amounts to the summary)
A32: **

Sheet Admin. Overhead Expenses
A1: Service Center: | B1: ='Salary and Wage'!B1 -> 0 | H1: Date: | J1: ='Salary and Wage'!F1 -> 0
A3: Boston University
A4: Administrative Overhead Expenses Included in Rate Calculation
D5: Fiscal Year 2025
B7: Items To Be Filled In By Service Center
F9: Federal
A10: Description of Service of Supply | B10: SAP Cost Center | C10: Annual Salary | D10: Effort % | E10: Effort Amount | F10: Fringe Benefit Rate % | G10: Fringe Benefits Amount | H10: Less: University Subsidy | I10: Other | J10: Total | K10: Comments
A11: Example:
A12: Administrative Staff | B12: 1234567890 | C12: 50000 | D12: 1 | E12: =+C12*D12 -> 50000 | F12: 0.252 | G12: =+E12*F12 -> 12600 | H12: -40000 | J12: =SUM(E12:I12) -> 22600.252
A13: General Office Supplies | B13: 1234567890 | I13: 500 | J13: =SUM(E13:I13) -> 500
E14: =+C14*D14 -> 0 | F14: 0.294 | G14: =+E14*F14 -> 0 | J14: =+E14+G14+H14+I14 -> 0
E15: =+C15*D15 -> 0 | F15: 0.294 | G15: =+E15*F15 -> 0 | J15: =+E15+G15+H15+I15 -> 0
E16: =+C16*D16 -> 0 | F16: 0.294 | G16: =+E16*F16 -> 0 | J16: =+E16+G16+H16+I16 -> 0
E17: =+C17*D17 -> 0 | F17: 0.294 | G17: =+E17*F17 -> 0 | J17: =+E17+G17+H17+I17 -> 0
E18: =+C18*D18 -> 0 | F18: 0.294 | G18: =+E18*F18 -> 0 | J18: =+E18+G18+H18+I18 -> 0
E19: =+C19*D19 -> 0 | F19: 0.294 | G19: =+E19*F19 -> 0 | J19: =+E19+G19+H19+I19 -> 0
E20: =+C20*D20 -> 0 | F20: 0.294 | G20: =+E20*F20 -> 0 | J20: =+E20+G20+H20+I20 -> 0
E21: =+C21*D21 -> 0 | F21: 0.294 | G21: =+E21*F21 -> 0 | J21: =+E21+G21+H21+I21 -> 0
E22: =+C22*D22 -> 0 | F22: 0.294 | G22: =+E22*F22 -> 0 | J22: =+E22+G22+H22+I22 -> 0
E23: =+C23*D23 -> 0 | F23: 0.294 | G23: =+E23*F23 -> 0 | J23: =+E23+G23+H23+I23 -> 0
E24: =+C24*D24 -> 0 | F24: 0.294 | G24: =+E24*F24 -> 0 | J24: =+E24+G24+H24+I24 -> 0
E25: =+C25*D25 -> 0 | F25: 0.294 | G25: =+E25*F25 -> 0 | J25: =+E25+G25+H25+I25 -> 0
... E28: =+C28*D28 -> 0 | F28: 0.294 | G28: =+E28*F28 -> 0 | J28: =+E28+G28+H28+I28 -> 0
B29: Totals | C29: =SUM(C14:C28) -> 0 | E29: =SUM(E14:E28) -> 0 | G29: =SUM(G14:G28) -> 0 | H29: =SUM(H14:H28) -> 0 | I29: =SUM(I14:I28) -> 0 | J29: =SUM(J14:J28) -> 0
A32: Notes:
A33: Fringe Benefits are calculated based on the approved federal rate.
A34: The federal fringe benefit rate % has been populated with the BU Professional Rate.
A35: Input the rate % from the below listed federal rates if the rate is other than the one listed.
A36: The approved Federal Fringe Benefit Rates are as follows:
B37: FY 2025
A38: BU Professional | B38: 0.294
A39: BU Support Staff | B39: 0.314
A40: BU Graduate Students (CRC and MED) | B40: 0.116

Sheet Forecasted Usage
A1: Service Center: | B1: ='Salary and Wage'!B1 -> 0 | I1: Date: | J1: ='Salary and Wage'!F1 -> 0
A3: Boston University
A4: Forecasted Usage Included in Rate Calculation
E5: Fiscal Year 2025
B7: Items To Be Filled In By Service Center
E8: Internal | I8: External - Academic | N8: External - Market
E9: BU | G9: BMC
A10: Service Number | B10: Service Description | C10: Metric | D10: Total Estimated Annual Usage | E10: (Non-Federal) | F10: Sponsored Projects (Federal) | G10: (Non-Federal) | H10: Sponsored Projects (Federal) | I10: Students | J10: Faculty/Staff | K10: Other Universities | L10: Other State Agencies | M10: Other (Foundations, etc.) | N10: Other (Corporations, etc.)
A11: Example:
A12: Service #1 | C12: Machine Hours | D12: =SUM(E12:N12) -> 1500 | E12: 100 | F12: 1000 | H12: 200 | M12: 195 | N12: 5
A13: Service #2 | C13: Completed Test | D13: =SUM(E13:N13) -> 300 | E13: 15 | F13: 250 | K13: 15 | M13: 20
A14: Service #1 | D14: =SUM(E14:N14) -> 0
A15: Service #2 | D15: =SUM(E15:N15) -> 0
A16: Service #3 | D16: =SUM(E16:N16) -> 0

Sheet Expense Summary
A1: Service Center: | B1: ='Salary and Wage'!B1 -> 0 | F1: Date: | I1: Date: | K1: ='Salary and Wage'!F1 -> 0
A3: Boston University
A4: Summary of Expenses and Calculation of Rate
E5: Fiscal Year 2025
B7: Items To Be Filled In By Service Center
I9: Service #1 | K9: Service #2 | M9: Service #3
A10: Allowable Costs: | D10: EXAMPLE | I10: ='Forecasted Usage'!B14 -> 0 | K10: ='Forecasted Usage'!B15 -> 0 | M10: ='Forecasted Usage'!B16 -> 0
D11: Service #1 | E11: Service #2 | F11: Total | O11: Total
A13: Salary and Wage Expenses (From Salary and Wage Worksheet) | D13: 32535.707 | E13: 10845.236 | F13: =SUM(D13:E13) -> 43380.943 | G13: a | I13: =SUM('Salary and Wage'!K48) -> 0 | K13: =SUM('Salary and Wage'!M48) -> 0 | M13: =SUM('Salary and Wage'!O48) -> 0 | O13: =SUM(I13:M13) -> 0
A15: Other Expenses (From Other Expenses Worksheet) | D15: 5600 | E15: 600 | F15: =SUM(D15:E15) -> 6200 | G15: b | I15: =SUM('Other Direct Expenses'!D31) -> 0 | K15: =SUM('Other Direct Expenses'!F31) -> 0 | M15: =SUM('Other Direct Expenses'!H31) -> 0 | O15: =SUM(I15:M15) -> 0
A17: Depreciation (From Equipment Depreciation Worksheet) | D17: 8500 | E17: 0 | F17: =SUM(D17:E17) -> 8500 | G17: c | I17: =SUM('Equipment Depreciation'!K25) -> 0 | K17: =SUM('Equipment Depreciation'!M25) -> 0 | M17: =SUM('Equipment Depreciation'!O25) -> 0 | O17: =SUM(I17:M17) -> 0
A19: Total Direct Operating Costs | D19: =SUM(D13:D18) -> 46635.707 | E19: =SUM(E13:E18) -> 11445.236 | F19: =SUM(D19:E19) -> 58080.943 | G19: d = a + b + c | I19: =SUM(I13:I18) -> 0 | K19: =SUM(K13:K18) -> 0 | M19: =SUM(M13:M18) -> 0 | O19: =SUM(O13:O18) -> 0
A21: Admin. Overhead Expenses (From Admin.Overhead Exps Worksheet) | F21: 23100.252 | G21: e | O21: =SUM('Admin. Overhead Expenses'!J29) -> 0
A22: Prior Year Deficit (Surplus) Adjustment | F22: 1000 | G22: f | O22: 0
A24: Total Allowable Overhead | F24: =SUM(F21:F22) -> 24100.252 | G24: g = e + f | O24: =SUM(O21:O23) -> 0
A25: % of Allowable Overhead to Total Direct Operating Costs | F25: =F24/SUM(F19) -> 0.41494251 | G25: h = g / d | O25: =IF(O24<>0,O24/SUM(O19),0) -> 0
A27: Administrative Overhead Allocation | D27: =D19*$F$25 -> 19351.137 | E27: =E19*$F$25 -> 4749.1148 | F27: =SUM(D27:E27) -> 24100.252 | G27: i = d x h | I27: =I19*$O$25 -> 0 | K27: =K19*$O$25 -> 0 | M27: =M19*$O$25 -> 0 | O27: =SUM(I27:M27) -> 0
A29: Total Allowable Costs | D29: =SUM(D19,D27) -> 65986.844 | E29: =SUM(E19,E27) -> 16194.351 | F29: =SUM(F19,F27) -> 82181.195 | G29: j = d + i | I29: =SUM(I19,I27) -> 0 | K29: =SUM(K19,K27) -> 0 | M29: =SUM(M19,M27) -> 0 | O29: =SUM(O19,O27) -> 0
A31: Forecasted Units of Good or Service:
A32: Total Number of Units Per Year (From Forecasted Usage Worksheet) | D32: 1500 | E32: 300 | G32: k | I32: =+'Forecasted Usage'!D14 -> 0 | K32: =+'Forecasted Usage'!D15 -> 0 | M32: =+'Forecasted Usage'!D16 -> 0
A34: Cost Per Unit: | D34: =D29/D32 -> 43.99123 | E34: =E29/E32 -> 53.981168 | G34: l = j / k | I34: =IF(I29>0,I29/I32,0) -> 0 | K34: =IF(K29>0,K29/K32,0) -> 0 | M34: =IF(M29>0,M29/M32,0) -> 0

Sheet Proposed Rate(s)
A1: Service Center: | B1: ='Salary and Wage'!B1 -> 0 | E1: Date: | I1: Date: | K1: ='Salary and Wage'!F1 -> 0
A3: Boston University
A4: Summary of Proposed Rate(s)
B5: Fiscal Year 2025
G7: Service #1 | I7: Service #2 | K7: Service #3
D8: EXAMPLE | G8: ='Forecasted Usage'!B14 -> 0 | I8: ='Forecasted Usage'!B15 -> 0 | K8: ='Forecasted Usage'!B16 -> 0
D9: Service #1 | E9: Service #2
A11: Cost Per Unit: (From Expense Summary) | D11: 43.99123 | E11: 53.981168 | G11: =SUM('Expense Summary'!I$34) -> 0 | I11: =SUM('Expense Summary'!K$34) -> 0 | K11: =SUM('Expense Summary'!M$34) -> 0
A14: Proposed Rate(s):
A15: Internal: | D15: =ROUND(D11,0) -> 44 | E15: =ROUND(E11,0) -> 54 | G15: =ROUND(G11,0) -> 0 | I15: =ROUND(I11,0) -> 0 | K15: =ROUND(K11,0) -> 0
A16: Rate Distribution:
A17: Operations | D17: =D15-D18 -> 38 | E17: =E15-E18 -> 54 | G17: =G15-G18 -> 0 | I17: =I15-I18 -> 0 | K17: =K15-K18 -> 0
A18: Equipment Reserve | D18: 6 | E18: 0 | G18: =IF(G15>0,ROUND('Expense Summary'!I$17/'Expense Summary'!I$32,0),0) -> 0 | I18: =IF(I15>0,ROUND('Expense Summary'!K$17/'Expense Summary'!K$32,0),0) -> 0 | K18: =IF(K15>0,ROUND('Expense Summary'!M$17/'Expense Summary'!M$32,0),0) -> 0
A20: External - Academic: | D20: =ROUND(D15*1.625,0) -> 72 | E20: =ROUND(E15*1.625,0) -> 88 | G20: =ROUND(G15*1.78,0) -> 0 | I20: =ROUND(I15*1.78,0) -> 0 | K20: =ROUND(K15*1.78,0) -> 0
A21: * typically internal rate plus + uncapped F&A overhead rate (Y%)
A22: Rate Distribution:
A23: Operations | D23: =D20-D24-D25 -> 38.5 | E23: =E20-E24-E25 -> 54.25 | G23: =G20-G24-G25 -> 0 | I23: =I20-I24-I25 -> 0 | K23: =K20-K24-K25 -> 0
A24: Equipment Reserve | D24: 6 | E24: 0 | G24: =IF(G20>0,ROUND('Expense Summary'!I$17/'Expense Summary'!I$32,0),0) -> 0 | I24: =IF(I20>0,ROUND('Expense Summary'!K$17/'Expense Summary'!K$32,0),0) -> 0 | K24: =IF(K20>0,ROUND('Expense Summary'!M$17/'Expense Summary'!M$32,0),0) -> 0
A25: BU F&A OH | D25: =D$15*0.625 -> 27.5 | E25: =E$15*0.625 -> 33.75 | G25: =G$15*0.78 -> 0 | I25: =I$15*0.78 -> 0 | K25: =K$15*0.78 -> 0
A28: External - Market: | D28: 100 | E28: 0 | G28: =+G15*1.78 -> 0 | I28: =+I15*1.78 -> 0 | K28: =+K15*1.78 -> 0
A30: Rate Distribution:
A31: Operations | D31: =IF(D$28>0,SUM(D17),0) -> 38 | E31: =IF(E$28>0,SUM(E17),0) -> 0 | G31: =IF(G$28>0,SUM(G17),0) -> 0 | I31: =IF(I$28>0,SUM(I17),0) -> 0 | K31: =IF(K$28>0,SUM(K17),0) -> 0
A32: Equipment Reserve | D32: 6 | E32: 0 | G32: =IF(G28>0,ROUND('Expense Summary'!I$17/'Expense Summary'!I$32,0),0) -> 0 | I32: =IF(I28>0,ROUND('Expense Summary'!K$17/'Expense Summary'!K$32,0),0) -> 0 | K32: =IF(K28>0,ROUND('Expense Summary'!M$17/'Expense Summary'!M$32,0),0) -> 0
A33: Excess Revenue | D33: =D28-D31-D32-D34 -> 28.5 | E33: =E28-E31-E32-E34 -> 0 | G33: =G28-G31-G32-G34 -> 0 | I33: =I28-I31-I32-I34 -> 0 | K33: =K28-K31-K32-K34 -> 0
A34: BU F&A OH | D34: =IF(D$28>0,D$15*0.625,0) -> 27.5 | E34: =IF(E$28>0,E$15*0.625,0) -> 0 | G34: =IF(G$28>0,G$15*0.78,0) -> 0 | I34: =IF(I$28>0,I$15*0.78,0) -> 0 | K34: =IF(K$28>0,K$15*0.78,0) -> 0

Sheet Revenue Summary
A1: Service Center: | B1: ='Salary and Wage'!B1 -> 0 | K1: Date: | M1: ='Salary and Wage'!F1 -> 0
A3: Boston University
A4: Summary of Projected Revenues
C5: Fiscal Year 2025
I7: Service #1 | K7: Service #2 | M7: Service #3
D8: EXAMPLE | I8: ='Forecasted Usage'!B14 -> 0 | K8: ='Forecasted Usage'!B15 -> 0 | M8: ='Forecasted Usage'!B16 -> 0
D9: Service #1 | E9: Service #2 | F9: Total | O9: Total
A10: Requested Rate(s)
A11: Internal (From Proposed Rate(s) Worksheet) | D11: 44 | E11: 54 | I11: =SUM('Proposed Rate(s)'!G$15) -> 0 | K11: =SUM('Proposed Rate(s)'!I$15) -> 0 | M11: =SUM('Proposed Rate(s)'!K$15) -> 0
A12: External - Academic (From Proposed Rate(s) Worksheet) | D12: 72 | E12: 88 | I12: =SUM('Proposed Rate(s)'!G$20) -> 0 | K12: =SUM('Proposed Rate(s)'!I$20) -> 0 | M12: =SUM('Proposed Rate(s)'!K$20) -> 0
A13: External - Market (From Proposed Rate(s) Worksheet) | D13: 100 | E13: 0 | I13: =SUM('Proposed Rate(s)'!G$28) -> 0 | K13: =SUM('Proposed Rate(s)'!I$28) -> 0 | M13: =SUM('Proposed Rate(s)'!K$28) -> 0
A15: Forecasted Units of Good or Service:
A16: Internal (From Forecasted Usage Worksheet) | D16: 1300 | E16: 265 | I16: =SUM('Forecasted Usage'!$E14:$H14) -> 0 | K16: =SUM('Forecasted Usage'!$E15:$H15) -> 0 | M16: =SUM('Forecasted Usage'!$E16:$H16) -> 0
A17: External - Academic (From Forecasted Usage Worksheet) | D17: 195 | E17: 35 | I17: =SUM('Forecasted Usage'!$I14:$M14) -> 0 | K17: =SUM('Forecasted Usage'!$I15:$M15) -> 0 | M17: =SUM('Forecasted Usage'!$I16:$M16) -> 0
A18: External - Market (From Forecasted Usage Worksheet) | D18: 5 | E18: 0 | I18: =SUM('Forecasted Usage'!$N14) -> 0 | K18: =SUM('Forecasted Usage'!$N15) -> 0 | M18: =SUM('Forecasted Usage'!$N16) -> 0
A20: Total Forecasted Units of Good or Service | D20: =SUM(D14:D19) -> 1500 | E20: =SUM(E14:E19) -> 300 | I20: =SUM(I14:I19) -> 0 | K20: =SUM(K14:K19) -> 0 | M20: =SUM(M14:M19) -> 0
A22: Forecasted Revenue:
A23: Internal | D23: =D11*D16 -> 57200 | E23: =E11*E16 -> 14310 | I23: =I11*I16 -> 0 | K23: =K11*K16 -> 0 | M23: =M11*M16 -> 0
A24: External - Academic | D24: =D12*D17 -> 14040 | E24: =E12*E17 -> 3080 | I24: =I12*I17 -> 0 | K24: =K12*K17 -> 0 | M24: =M12*M17 -> 0
A25: External - Market | D25: =D13*D18 -> 500 | E25: =E13*E18 -> 0 | I25: =I13*I18 -> 0 | K25: =K13*K18 -> 0 | M25: =M13*M18 -> 0
A27: Total Forecasted Revenue | D27: =SUM(D23:D26) -> 71740 | E27: =SUM(E23:E26) -> 17390 | F27: =SUM(D27:E27) -> 89130 | I27: =SUM(I23:I26) -> 0 | K27: =SUM(K23:K26) -> 0 | M27: =SUM(M23:M26) -> 0 | O27: =SUM(I27:M27) -> 0
A29: Forecasted Revenue Distribution:
A30: Service Center Operating Cost Center | D30: 57097.5 | E30: 16208.75 | F30: =SUM(D30:E30) -> 73306.25 | I30: =(I$16*'Proposed Rate(s)'!G$17)+('Revenue Summary'!I$17*'Proposed Rate(s)'!G$23)+(I$18*'Proposed Rate(s)'!G$31) -> 0 | K30: =(K$16*'Proposed Rate(s)'!I$17)+('Revenue Summary'!K$17*'Proposed Rate(s)'!I$23)+(K$18*'Proposed Rate(s)'!I$31) -> 0 | M30: =(M$16*'Proposed Rate(s)'!K$17)+('Revenue Summary'!M$17*'Proposed Rate(s)'!K$23)+(M$18*'Proposed Rate(s)'!K$31) -> 0 | O30: =SUM(I30:M30) -> 0
A31: Service Center Equipment Reserve Cost Center (recovered depreciation) | D31: 9000 | E31: 0 | F31: =SUM(D31:E31) -> 9000 | I31: =(I$16*'Proposed Rate(s)'!G$18)+('Revenue Summary'!I$17*'Proposed Rate(s)'!G$24)+(I$18*'Proposed Rate(s)'!G$32) -> 0 | K31: =(K$16*'Proposed Rate(s)'!I$18)+('Revenue Summary'!K$17*'Proposed Rate(s)'!I$24)+(K$18*'Proposed Rate(s)'!I$32) -> 0 | M31: =(M$16*'Proposed Rate(s)'!K$18)+('Revenue Summary'!M$17*'Proposed Rate(s)'!K$24)+(M$18*'Proposed Rate(s)'!K$32) -> 0 | O31: =SUM(I31:M31) -> 0
A32: Service Center Excess Revenue Reserve Cost Center | D32: 142.5 | E32: 0 | F32: =SUM(D32:E32) -> 142.5 | I32: =(I$18*'Proposed Rate(s)'!G$33) -> 0 | K32: =(K$18*'Proposed Rate(s)'!I$33) -> 0 | M32: =(M$18*'Proposed Rate(s)'!K$33) -> 0 | O32: =SUM(I32:M32) -> 0
A33: BU F&A Overhead (Y% of External Sales -- transfer to Fund) | D33: 5500 | E33: 1181.25 | F33: =SUM(D33:E33) -> 6681.25 | I33: =('Revenue Summary'!I$17*'Proposed Rate(s)'!G$25)+(I$18*'Proposed Rate(s)'!G$34) -> 0 | K33: =('Revenue Summary'!K$17*'Proposed Rate(s)'!I$25)+(K$18*'Proposed Rate(s)'!I$34) -> 0 | M33: =('Revenue Summary'!M$17*'Proposed Rate(s)'!K$25)+(M$18*'Proposed Rate(s)'!K$34) -> 0 | O33: =SUM(I33:M33) -> 0
A34: Total | D34: =SUM(D30:D33) -> 71740 | E34: =SUM(E30:E33) -> 17390 | F34: =SUM(D34:E34) -> 89130 | I34: =SUM(I30:I33) -> 0 | K34: =SUM(K30:K33) -> 0 | M34: =SUM(M30:M33) -> 0 | O34: =SUM(I34:M34) -> 0
A36: check total (service center operating & equipment revenue less operating expenses) | D36: 110.65555 | E36: 14.399454 | F36: =SUM(D36:E36) -> 125.055 | I36: =SUM(I30:I31)-'Expense Summary'!I29 -> 0 | K36: =SUM(K30:K31)-'Expense Summary'!K29 -> 0 | M36: =SUM(M30:M31)-'Expense Summary'!M29 -> 0 | O36: =SUM(I36:M36) -> 0
A37: * goal is to be balanced to $0, however minimal differences allowed for rounding of fees
