Workbook
Name Fringe: Table37[#All]
Name Fringe: Table3[#All]
Name Month: #REF!
Name Month: #REF!
Name Month: #REF!
Name MonthAppointment: #REF!
Name MonthAppointment: #REF!
Name MonthAppointment: #REF!
Name Months: #REF!
Name Months: #REF!
Name RoleCategory: #REF!
Name RoleCategory: #REF!
Name RoleCategory: #REF!

Sheet FEDERAL
A1: PI Name: | B1: Bob | I1: complete blue fields only, please! | K1: FEDERAL
A2: Department Submitting Proposal: | B2: Photonics Center
A3: Budget Preparer: | B3: Sue | E3: Fringe Rates
A4: Proposal Title: | B4: Really long name of something that is very complicated and scientitfic or something | E4: Professional | F4: 0.27
A5: Start date: | B5: 42759 | E5: Support Staff | F5: 0.24
A6: End date: | B6: 44298 | E6: Student | F6: 0.088
A7: Federal Sponsor: | B7: NIH | E7: Other | F7: 0.2
A8: If sub, prime institution: | B8: N/A | S8: Effort Changes
J9: Year 1 | M9: Year 2 | N9: Year 3 | O9: Year 4 | P9: Year 5 | Q9: TOTAL request | R9: Merit? | S9: Year 2 | T9: Year 3 | U9: Year 4 | V9: Year 5
A10: Personnel | B10: Role | C10: Appointment | D10: Salary | E10: Effort | F10: Effort Months | G10: Salary Requested | H10: Fringe Rate | I10: Fringe Requested | J10: Effort | K10: total | L10: Effort
A11: =B1 -> Bob | B11: Professional | C11: 9 | D11: 120000 | E11: 0.15 | F11: =C11*E11 -> 1.35 | G11: =D11*E11 -> 18000 | H11: =VLOOKUP(B11, $E$4:$F$7, 2, 0) -> 0.27 | I11: =H11*G11 -> 4860 | K11: =G11+I11 -> 22860 | M11: =(D11*(1+R11))*(1+H11)*S11 -> 23088.6 | N11: =((D11*(1+R11))*(1+R11))*T11*(1+H11) -> 23319.486 | O11: =(((D11*(1+R11))*(1+R11))*(1+R11))*U11*(1+H11) -> 23552.681 | P11: =((((D11*(1+R11))*(1+R11))*(1+R11))*(1+R11))*V11*(1+H11) -> 23788.208 | Q11: =SUM(K11:P11) -> 116608.97 | R11: 0.01 | S11: =$E11 -> 0.15 | T11: =$E11 -> 0.15 | U11: =$E11 -> 0.15 | V11: =$E11 -> 0.15
B12: Professional | C12: 3 | D12: 85000 | E12: 0.2 | F12: =C12*E12 -> 0.6 | G12: =D12*E12 -> 17000 | H12: =VLOOKUP(B12, $E$4:$F$7, 2, 0) -> 0.27 | I12: =H12*G12 -> 4590 | K12: =G12+I12 -> 21590 | M12: =(D12*(1+R12))*(1+H12)*S12 -> 22021.8 | N12: =((D12*(1+R12))*(1+R12))*T12*(1+H12) -> 22462.236 | O12: =(((D12*(1+R12))*(1+R12))*(1+R12))*U12*(1+H12) -> 22911.481 | P12: =((((D12*(1+R12))*(1+R12))*(1+R12))*(1+R12))*V12*(1+H12) -> 23369.71 | Q12: =SUM(K12:P12) -> 112355.23 | R12: 0.02 | S12: =$E12 -> 0.2 | T12: =$E12 -> 0.2 | U12: =$E12 -> 0.2 | V12: =$E12 -> 0.2
B13: Support Staff | C13: 3 | D13: 50000 | E13: 0.3 | F13: =C13*E13 -> 0.9 | G13: =D13*E13 -> 15000 | H13: =VLOOKUP(B13, $E$4:$F$7, 2, 0) -> 0.24 | I13: =H13*G13 -> 3600 | K13: =G13+I13 -> 18600 | M13: =(D13*(1+R13))*(1+H13)*S13 -> 18786 | N13: =((D13*(1+R13))*(1+R13))*T13*(1+H13) -> 18973.86 | O13: =(((D13*(1+R13))*(1+R13))*(1+R13))*U13*(1+H13) -> 19163.599 | P13: =((((D13*(1+R13))*(1+R13))*(1+R13))*(1+R13))*V13*(1+H13) -> 19355.235 | Q13: =SUM(K13:P13) -> 94878.693 | R13: 0.01 | S13: =$E13 -> 0.3 | T13: =$E13 -> 0.3 | U13: =$E13 -> 0.3 | V13: =$E13 -> 0.3
B14: Student | C14: 12 | D14: 25000 | E14: 0.05 | F14: =C14*E14 -> 0.6 | G14: =D14*E14 -> 1250 | H14: =VLOOKUP(B14, $E$4:$F$7, 2, 0) -> 0.088 | I14: =H14*G14 -> 110 | K14: =G14+I14 -> 1360 | M14: =(D14*(1+R14))*(1+H14)*S14 -> 1373.6 | N14: =((D14*(1+R14))*(1+R14))*T14*(1+H14) -> 1387.336 | O14: =(((D14*(1+R14))*(1+R14))*(1+R14))*U14*(1+H14) -> 1401.2094 | P14: =((((D14*(1+R14))*(1+R14))*(1+R14))*(1+R14))*V14*(1+H14) -> 1415.2215 | Q14: =SUM(K14:P14) -> 6937.3668 | R14: 0.01 | S14: =$E14 -> 0.05 | T14: =$E14 -> 0.05 | U14: =$E14 -> 0.05 | V14: =$E14 -> 0.05
B15: Student | C15: 9 | D15: 40000 | E15: 0.05 | F15: =C15*E15 -> 0.45 | G15: =D15*E15 -> 2000 | H15: =VLOOKUP(B15, $E$4:$F$7, 2, 0) -> 0.088 | I15: =H15*G15 -> 176 | K15: =G15+I15 -> 2176 | M15: =(D15*(1+R15))*(1+H15)*S15 -> 2197.76 | N15: =((D15*(1+R15))*(1+R15))*T15*(1+H15) -> 2219.7376 | O15: =(((D15*(1+R15))*(1+R15))*(1+R15))*U15*(1+H15) -> 2241.935 | P15: =((((D15*(1+R15))*(1+R15))*(1+R15))*(1+R15))*V15*(1+H15) -> 2264.3543 | Q15: =SUM(K15:P15) -> 11099.787 | R15: 0.01 | S15: =$E15 -> 0.05 | T15: =$E15 -> 0.05 | U15: =$E15 -> 0.05 | V15: =$E15 -> 0.05
B16: Other | C16: 3 | D16: 10000 | E16: 0.25 | F16: =C16*E16 -> 0.75 | G16: =D16*E16 -> 2500 | H16: =VLOOKUP(B16, $E$4:$F$7, 2, 0) -> 0.2 | I16: =H16*G16 -> 500 | K16: =G16+I16 -> 3000 | M16: =(D16*(1+R16))*(1+H16)*S16 -> 3030 | N16: =((D16*(1+R16))*(1+R16))*T16*(1+H16) -> 3060.3 | O16: =(((D16*(1+R16))*(1+R16))*(1+R16))*U16*(1+H16) -> 3090.903 | P16: =((((D16*(1+R16))*(1+R16))*(1+R16))*(1+R16))*V16*(1+H16) -> 3121.812 | Q16: =SUM(K16:P16) -> 15303.015 | R16: 0.01 | S16: =$E16 -> 0.25 | T16: =$E16 -> 0.25 | U16: =$E16 -> 0.25 | V16: =$E16 -> 0.25
F17: =C17*E17 -> 0 | G17: =D17*E17 -> 0 | I17: =H17*G17 -> 0 | K17: =G17+I17 -> 0 | M17: =(D17*(1+R17))*(1+H17)*S17 -> 0 | N17: =((D17*(1+R17))*(1+R17))*T17*(1+H17) -> 0 | O17: =(((D17*(1+R17))*(1+R17))*(1+R17))*U17*(1+H17) -> 0 | P17: =((((D17*(1+R17))*(1+R17))*(1+R17))*(1+R17))*V17*(1+H17) -> 0 | Q17: =SUM(K17:P17) -> 0 | R17: 0.01 | S17: =$E17 -> 0 | T17: =$E17 -> 0 | U17: =$E17 -> 0 | V17: =$E17 -> 0
F18: =C18*E18 -> 0 | G18: =D18*E18 -> 0 | I18: =H18*G18 -> 0 | K18: =G18+I18 -> 0 | M18: =(D18*(1+R18))*(1+H18)*S18 -> 0 | N18: =((D18*(1+R18))*(1+R18))*T18*(1+H18) -> 0 | O18: =(((D18*(1+R18))*(1+R18))*(1+R18))*U18*(1+H18) -> 0 | P18: =((((D18*(1+R18))*(1+R18))*(1+R18))*(1+R18))*V18*(1+H18) -> 0 | Q18: =SUM(K18:P18) -> 0 | R18: 0 | S18: =$E18 -> 0 | T18: =$E18 -> 0 | U18: =$E18 -> 0 | V18: =$E18 -> 0
E20: Personnel total | G20: =SUM($G$11:$G$18) -> 55750 | I20: =SUM($I$11:$I$18) -> 13836 | K20: =SUM($K$11:$K$18) -> 69586 | M20: =SUM($M$11:$M$18) -> 70497.76 | N20: =SUM($N$11:$N$18) -> 71422.956 | O20: =SUM($O$11:$O$18) -> 72361.808 | P20: =SUM($P$11:$P$18) -> 73314.54 | Q20: =SUM($Q$11:$Q$18) -> 357183.06
F22: Details
E23: Consultants | K23: =SUM(K$24:K$25) -> 0 | M23: =SUM(M$24:M$25) -> 0 | N23: =SUM(N$24:N$25) -> 0 | O23: =SUM(O$24:O$25) -> 0 | P23: =SUM(P$24:P$25) -> 0 | Q23: =SUM(K23:P23) -> 0
E26: Equipment*-stand alone pieces over $5K | K26: =SUM(K$27:K$28) -> 0 | M26: =SUM(M$27:M$28) -> 0 | N26: =SUM(N$27:N$28) -> 0 | O26: =SUM(O$27:O$28) -> 0 | P26: =SUM(P$27:P$28) -> 0 | Q26: =SUM(K26:P26) -> 0
E29: Supplies | K29: =SUM(K$30:K$34) -> 0 | M29: =SUM(M$30:M$34) -> 0 | N29: =SUM(N$30:N$34) -> 0 | O29: =SUM(O$30:O$34) -> 0 | P29: =SUM(P$30:P$34) -> 0 | Q29: =SUM(K29:P29) -> 0
E35: Animal Costs | K35: =SUM(K$36:K$38) -> 0 | M35: =SUM(M$36:M$38) -> 0 | N35: =SUM(N$36:N$38) -> 0 | O35: =SUM(O$36:O$38) -> 0 | P35: =SUM(P$36:P$38) -> 0 | Q35: =SUM(K35:P35) -> 0
E39: Travel | K39: =SUM(K$40:K$41) -> 0 | M39: =SUM(M$40:M$41) -> 0 | N39: =SUM(N$40:N$41) -> 0 | O39: =SUM(O$40:O$41) -> 0 | P39: =SUM(P$40:P$41) -> 0 | Q39: =SUM(K39:P39) -> 0
F40: Domestic
F41: Foreign
E42: Patient Care costs* | K42: =SUM(K$43:K$44) -> 0 | M42: =SUM(M$43:M$44) -> 0 | N42: =SUM(N$43:N$44) -> 0 | O42: =SUM(O$43:O$44) -> 0 | P42: =SUM(P$43:P$44) -> 0 | Q42: =SUM(K42:P42) -> 0
E45: alterations and renovations* | K45: =SUM(K$46:K$47) -> 0 | M45: =SUM(M$46:M$47) -> 0 | N45: =SUM(N$46:N$47) -> 0 | O45: =SUM(O$46:O$47) -> 0 | P45: =SUM(P$46:P$47) -> 0 | Q45: =SUM(K45:P45) -> 0
R47: * Fields are excluded from MTDC except for first $25K of each subcontract
E48: other costs | K48: =SUM(K$49:K$54) -> 0 | M48: =SUM(M$49:M$54) -> 0 | N48: =SUM(N$49:N$54) -> 0 | O48: =SUM(O$49:O$54) -> 0 | P48: =SUM(P$49:P$54) -> 0 | Q48: =SUM(K48:P48) -> 0 | R48: Internal Calculation for sub amount in MTDC
R49: Year 1 | U49: Year 2 | X49: Year 3 | AA49: Year 4 | AD49: Year 5
R51: under 25K | S51: over 25K | U51: under 25K | V51: over 25K | X51: under 25K | Y51: over 25K | AA51: under 25K | AB51: over 25K | AD51: under 25K | AE51: over 25K
R53: under 25K | S53: over 25K | U53: under 25K | V53: over 25K | X53: under 25K | Y53: over 25K | AA53: under 25K | AB53: over 25K | AD53: under 25K | AE53: over 25K
R55: under 25K | S55: over 25K | U55: under 25K | V55: over 25K | X55: under 25K | Y55: over 25K | AA55: under 25K | AB55: over 25K | AD55: under 25K | AE55: over 25K
E56: Subcontracts*
E57: Subcontract A Direct Cost | Q57: =SUM(K57:P57) -> 0
E58: Subcontract A IDC | Q58: =SUM(K58:P58) -> 0
E59: Subcontract A total | K59: =$K$57+$K$58 -> 0 | M59: =$M$57+$M$58 -> 0 | N59: =$N$57+$N$58 -> 0 | O59: =$O$57+$O$58 -> 0 | P59: =$P$57+$P$58 -> 0 | Q59: =SUM(K59:P59) -> 0 | R59: =IF(K59<=25000,K59,IF(K59>25000,25000)) -> 0 | S59: =K59-R59 -> 0 | U59: =IF((SUM(K59:M59)<=25000),M59,IF(AND(SUM(K59:M59)>25000,K59<=25000),25000-SUM(K59),0)) -> 0 | V59: =M59-U59 -> 0 | X59: =IF((SUM(K59:N59)<=25000),N59,IF(AND(SUM(K59:N59)>25000,(SUM(K59:M59))<25000),25000-SUM(K59:M59),0)) -> 0 | Y59: =N59-X59 -> 0 | AA59: =IF((SUM(K59:O59)<=25000),O59,IF(AND(SUM(K59:O59)>25000,(SUM(K59:N59))<25000),25000-SUM(K59:N59),0)) -> 0 | AB59: =O59-AA59 -> 0 | AD59: =IF((SUM(K59:P59)<=25000),P59,IF(AND(SUM(K59:P59)>25000,(SUM(K59:O59))<25000),25000-SUM(K59:O59),0)) -> 0 | AE59: =P59-AD59 -> 0
E61: Subcontract B Direct Cost | Q61: =SUM(K61:P61) -> 0
...

Sheet Sheet1
A1: PI Name: | B1: Dave Davis | I1: Fringe Rates
A2: Department Submitting Proposal: | B2: Photonics Center | I2: Professional | J2: 0.27
A3: Budget Preparer: | B3: Sue | I3: Support Staff | J3: 0.24
A4: Proposal Title: | B4: Really long name of something that is very complicated and scientitfic or something | I4: Student | J4: 0.088
A5: Start date: | B5: 42759
A6: End date: | B6: 44298
A7: Federal Sponsor: | B7: NIH
A8: If sub, prime institution: | B8: N/A
D9: Year 1 | J9: Year 2 | M9: Year 3 | P9: Year 4 | S9: Year 5 | V9: Total Request
A10: Professional Staff | B10: Salary | C10: Merit | D10: Calendar Months | E10: Academic Months | F10: Summer Months | G10: Effort % | H10: Requested Salary | I10: Requested Fringe | J10: Effort % | K10: Requested Salary | L10: Requested Fringe | M10: Effort % | N10: Requested Salary | O10: Requested Fringe | P10: Effort % | Q10: Requested Salary | R10: Requested Fringe | S10: Effort % | T10: Requested Salary | U10: Requested Fringe | X10: Year 2 Change | Y10: Year 3 Change | Z10: Year 4 Change | AA10: Year 5 Change
A11: =B1 -> Dave Davis | B11: 140000 | C11: 0.03 | D11: 1.5 | E11: 0 | F11: 0 | G11: =SUM(D11:F11) / 12 -> 0.125 | H11: =G11*B11 -> 17500 | I11: =H11*$J$2 -> 4725 | J11: =G11 -> 0.125 | K11: =B11*(1+C11)*J11 -> 18025 | L11: =K11*$J$2 -> 4866.75 | M11: =G11 -> 0.125 | N11: =(B11*(1+C11)^2*M11) -> 18565.75 | O11: =N11*$J$2 -> 5012.7525 | P11: =G11 -> 0.125 | Q11: =B11*(1+C11)^3*P11 -> 19122.722 | R11: =Q11*$J$2 -> 5163.1351 | S11: =G11 -> 0.125 | T11: =B11*(1+C11)^4*S11 -> 19696.404 | U11: =T11*$J$2 -> 5318.0291 | V11: =SUM(H11:I11,K11:L11,N11:O11,Q11:R11,T11:U11) -> 117995.54 | X11: =IF(G11=J11, 1,0) -> 1 | Y11: =IF(G11=M11, 1,0) -> 1 | Z11: =IF(P11=G11, 1, 0) -> 1 | AA11: =IF(S11=G11, 1, 0) -> 1
A12: Danielle | B12: 140000 | C12: 0.03 | D12: 1.5 | E12: 0 | F12: 0 | G12: =SUM(D12:F12) / 12 -> 0.125 | H12: =G12*B12 -> 17500 | I12: =H12*$J$2 -> 4725 | J12: =G12 -> 0.125 | K12: =B12*(1+C12)*J12 -> 18025 | L12: =K12*$J$2 -> 4866.75 | M12: =G12 -> 0.125 | N12: =(B12*(1+C12)^2*M12) -> 18565.75 | O12: =N12*$J$2 -> 5012.7525 | P12: =G12 -> 0.125 | Q12: =B12*(1+C12)^3*P12 -> 19122.722 | R12: =Q12*$J$2 -> 5163.1351 | S12: 0.1 | T12: =B12*(1+C12)^4*S12 -> 15757.123 | U12: =T12*$J$2 -> 4254.4233 | V12: =SUM(H12:I12,K12:L12,N12:O12,Q12:R12,T12:U12) -> 112992.66 | X12: =IF(G12=J12, 1,0) -> 1 | Y12: =IF(G12=M12, 1,0) -> 1 | Z12: =IF(P12=G12, 1, 0) -> 1 | AA12: =IF(S12=G12, 1, 0) -> 0
A13: Donna | B13: 90000 | C13: 0.03 | D13: 0 | E13: 3 | F13: 1 | G13: =SUM(D13:F13) / 12 -> 0.33333333 | H13: =G13*B13 -> 30000 | I13: =H13*$J$2 -> 8100 | J13: =G13 -> 0.33333333 | K13: =B13*(1+C13)*J13 -> 30900 | L13: =K13*$J$2 -> 8343 | M13: =G13 -> 0.33333333 | N13: =(B13*(1+C13)^2*M13) -> 31827 | O13: =N13*$J$2 -> 8593.29 | P13: =G13 -> 0.33333333 | Q13: =B13*(1+C13)^3*P13 -> 32781.81 | R13: =Q13*$J$2 -> 8851.0887 | S13: 0 | T13: =B13*(1+C13)^4*S13 -> 0 | U13: =T13*$J$2 -> 0 | V13: =SUM(H13:I13,K13:L13,N13:O13,Q13:R13,T13:U13) -> 159396.19 | X13: =IF(G13=J13, 1,0) -> 1 | Y13: =IF(G13=M13, 1,0) -> 1 | Z13: =IF(P13=G13, 1, 0) -> 1 | AA13: =IF(S13=G13, 1, 0) -> 0
I14: =H14*$J$2 -> 0 | J14: =G14 -> 0 | K14: =B14*(1+C14)*J14 -> 0 | L14: =K14*$J$2 -> 0 | M14: =G14 -> 0 | N14: =(B14*(1+C14)^2*M14) -> 0 | O14: =N14*$J$2 -> 0 | P14: =G14 -> 0 | Q14: =B14*(1+C14)^3*P14 -> 0 | R14: =Q14*$J$2 -> 0 | S14: =G14 -> 0 | T14: =B14*(1+C14)^4*S14 -> 0 | U14: =T14*$J$2 -> 0 | V14: =SUM(H14:I14,K14:L14,N14:O14,Q14:R14,T14:U14) -> 0 | X14: =IF(G14=J14, 1,0) -> 1 | Y14: =IF(G14=M14, 1,0) -> 1 | Z14: =IF(P14=G14, 1, 0) -> 1 | AA14: =IF(S14=G14, 1, 0) -> 1
A15: Support Staff | X15: =IF(G15=J15, 1,0) -> 1 | Y15: =IF(G15=M15, 1,0) -> 1 | Z15: =IF(P15=G15, 1, 0) -> 1 | AA15: =IF(S15=G15, 1, 0) -> 1
A16: Danny | B16: 45000 | C16: 0.03 | D16: 0 | E16: 0.75 | F16: 3 | G16: =SUM(D16:F16) / 12 -> 0.3125 | H16: =G16*B16 -> 14062.5 | I16: =H16*$J$3 -> 3375 | J16: 0.5 | K16: =B16*(1+C16)*J16 -> 23175 | L16: =K16*$J$3 -> 5562 | M16: 0.5 | N16: =(B16*(1+C16)^2*M16) -> 23870.25 | O16: =N16*$J$3 -> 5728.86 | P16: 0.1 | Q16: =B16*(1+C16)^3*P16 -> 4917.2715 | R16: =Q16*$J$3 -> 1180.1452 | S16: 0.25 | T16: =B16*(1+C16)^4*S16 -> 12661.974 | U16: =T16*$J$3 -> 3038.8738 | V16: =SUM(H16:I16,K16:L16,N16:O16,Q16:R16,T16:U16) -> 97571.875 | X16: =IF(G16=J16, 1,0) -> 0 | Y16: =IF(G16=M16, 1,0) -> 0 | Z16: =IF(P16=G16, 1, 0) -> 0 | AA16: =IF(S16=G16, 1, 0) -> 0
A17: Dylan | B17: 40000 | C17: 0.03 | D17: 0 | E17: 3 | F17: 3 | G17: =SUM(D17:F17) / 12 -> 0.5 | H17: =G17*B17 -> 20000 | I17: =H17*$J$3 -> 4800 | J17: =G17 -> 0.5 | K17: =B17*(1+C17)*J17 -> 20600 | L17: =K17*$J$3 -> 4944 | M17: =G17 -> 0.5 | N17: =(B17*(1+C17)^2*M17) -> 21218 | O17: =N17*$J$3 -> 5092.32 | P17: =G17 -> 0.5 | Q17: =B17*(1+C17)^3*P17 -> 21854.54 | R17: =Q17*$J$3 -> 5245.0896 | S17: 0 | T17: =B17*(1+C17)^4*S17 -> 0 | U17: =T17*$J$3 -> 0 | V17: =SUM(H17:I17,K17:L17,N17:O17,Q17:R17,T17:U17) -> 103753.95 | X17: =IF(G17=J17, 1,0) -> 1 | Y17: =IF(G17=M17, 1,0) -> 1 | Z17: =IF(P17=G17, 1, 0) -> 1 | AA17: =IF(S17=G17, 1, 0) -> 0
A18: Debbie | B18: 75000 | C18: 0.03 | D18: 0 | E18: 3 | F18: 3 | G18: =SUM(D18:F18) / 12 -> 0.5 | H18: =G18*B18 -> 37500 | I18: =H18*$J$3 -> 9000 | J18: =G18 -> 0.5 | K18: =B18*(1+C18)*J18 -> 38625 | L18: =K18*$J$3 -> 9270 | M18: =G18 -> 0.5 | N18: =(B18*(1+C18)^2*M18) -> 39783.75 | O18: =N18*$J$3 -> 9548.1 | P18: =G18 -> 0.5 | Q18: =B18*(1+C18)^3*P18 -> 40977.262 | R18: =Q18*$J$3 -> 9834.543 | S18: =G18 -> 0.5 | T18: =B18*(1+C18)^4*S18 -> 42206.58 | U18: =T18*$J$3 -> 10129.579 | V18: =SUM(H18:I18,K18:L18,N18:O18,Q18:R18,T18:U18) -> 246874.82 | X18: =IF(G18=J18, 1,0) -> 1 | Y18: =IF(G18=M18, 1,0) -> 1 | Z18: =IF(P18=G18, 1, 0) -> 1 | AA18: =IF(S18=G18, 1, 0) -> 1
C19: 0.03 | G19: =SUM(D19:F19) / 12 -> 0 | H19: =G19*B19 -> 0 | I19: =H19*$J$3 -> 0 | J19: =G19 -> 0 | K19: =B19*(1+C19)*J19 -> 0 | L19: =K19*$J$2 -> 0 | M19: =G19 -> 0 | N19: =(B19*(1+C19)^2*M19) -> 0 | O19: =N19*$J$3 -> 0 | P19: =G19 -> 0 | Q19: =B19*(1+C19)^3*P19 -> 0 | R19: =Q19*$J$3 -> 0 | S19: =G19 -> 0 | T19: =B19*(1+C19)^4*S19 -> 0 | U19: =T19*$J$3 -> 0 | V19: =SUM(H19:I19,K19:L19,N19:O19,Q19:R19,T19:U19) -> 0 | X19: =IF(G19=J19, 1,0) -> 1 | Y19: =IF(G19=M19, 1,0) -> 1 | Z19: =IF(P19=G19, 1, 0) -> 1 | AA19: =IF(S19=G19, 1, 0) -> 1
A20: Students | X20: =IF(G20=J20, 1,0) -> 1 | Y20: =IF(G20=M20, 1,0) -> 1 | Z20: =IF(P20=G20, 1, 0) -> 1 | AA20: =IF(S20=G20, 1, 0) -> 1
A21: Dustin | B21: 25000 | C21: 0 | E21: 1 | G21: =SUM(D21:F21) / 12 -> 0.083333333 | H21: =G21*B21 -> 2083.3333 | I21: =H21*$J$4 -> 183.33333 | J21: =G21 -> 0.083333333 | K21: =B21*(1+C21)*J21 -> 2083.3333 | L21: =K21*$J$4 -> 183.33333 | M21: =G21 -> 0.083333333 | N21: =(B21*(1+C21)^2*M21) -> 2083.3333 | O21: =N21*$J$4 -> 183.33333 | P21: 0.5 | Q21: =B21*(1+C21)^3*P21 -> 12500 | R21: =Q21*$J$4 -> 1100 | S21: 0.5 | T21: =B21*(1+C21)^4*S21 -> 12500 | U21: =T21*$J$4 -> 1100 | V21: =SUM(H21:I21,K21:L21,N21:O21,Q21:R21,T21:U21) -> 34000 | X21: =IF(G21=J21, 1,0) -> 1 | Y21: =IF(G21=M21, 1,0) -> 1 | Z21: =IF(P21=G21, 1, 0) -> 0 | AA21: =IF(S21=G21, 1, 0) -> 0
A22: Dawrin | B22: 30000 | C22: 0 | F22: 3 | G22: =SUM(D22:F22) / 12 -> 0.25 | H22: =G22*B22 -> 7500 | I22: =H22*$J$4 -> 660 | J22: =G22 -> 0.25 | K22: =B22*(1+C22)*J22 -> 7500 | L22: =K22*$J$4 -> 660 | M22: =G22 -> 0.25 | N22: =(B22*(1+C22)^2*M22) -> 7500 | O22: =N22*$J$4 -> 660 | P22: =G22 -> 0.25 | Q22: =B22*(1+C22)^3*P22 -> 7500 | R22: =Q22*$J$4 -> 660 | S22: =G22 -> 0.25 | T22: =B22*(1+C22)^4*S22 -> 7500 | U22: =T22*$J$4 -> 660 | V22: =SUM(H22:I22,K22:L22,N22:O22,Q22:R22,T22:U22) -> 40800 | X22: =IF(G22=J22, 1,0) -> 1 | Y22: =IF(G22=M22, 1,0) -> 1 | Z22: =IF(P22=G22, 1, 0) -> 1 | AA22: =IF(S22=G22, 1, 0) -> 1
A23: Subtotals | H23: =SUM(H11:H22) -> 146145.83 | I23: =SUM(I11:I22) -> 35568.333 | K23: =SUM(K11:K22) -> 158933.33 | L23: =SUM(L11:L22) -> 38695.833 | N23: =SUM(N11:N22) -> 163413.83 | O23: =SUM(O11:O22) -> 39831.408 | Q23: =SUM(Q11:Q22) -> 158776.33 | R23: =SUM(R11:R22) -> 37197.137 | T23: =SUM(T11:T22) -> 110322.08 | U23: =SUM(U11:U22) -> 24500.906 | V23: =SUM(H23:I23,K23:L23,N23:O23,Q23:R23,T23:U23) -> 913385.03
V24: =SUM(H24:I24,K24:L24,N24:O24,Q24:R24,T24:U24) -> 0 | AB24: =SUM(H24:U24) -> 0
A25: Personnel Totals | I25: =SUM(H23:I23) -> 181714.17 | L25: =SUM(K23:L23) -> 197629.17 | O25: =SUM(N23:O23) -> 203245.24 | R25: =SUM(Q23:R23) -> 195973.47 | U25: =SUM(T23:U23) -> 134822.99 | V25: =SUM(H25:I25,K25:L25,N25:O25,Q25:R25,T25:U25) -> 913385.03
A26: Consultants | D26: Conultant A | I26: 3000
D27: The Great Consulting Group | I27: 25000
D28: The best consultants | I28: 0 | K28: 1000 | N28: 10000
D29: Annual Total | I29: =SUM(I26:I28) -> 28000 | K29: =SUM(K26:L28) -> 1000 | N29: =SUM(N26:O28) -> 10000 | Q29: =SUM(Q26:R28) -> 0 | T29: =SUM(T26:U28) -> 0 | V29: =SUM(I29:U29) -> 39000
A30: Equipment (stand alone pieces>$5k) | D30: Thing A | K30: 20000
D31: Thing B | N31: 13000
D33: Annual Total | I33: =SUM(I30:I32) -> 0 | K33: =SUM(K30:K32) -> 20000 | L33: =SUM(L30:L32) -> 0 | N33: =SUM(N30:N32) -> 13000 | O33: =SUM(O30:O32) -> 0 | Q33: =SUM(Q30:R32) -> 0 | T33: =SUM(T30:U32) -> 0 | V33: =SUM(I33:U33) -> 33000
A34: Supplies | D34: Supplies A | I34: 500 | K34: 500 | N34: 500 | Q34: 500 | T34: 500
D35: Supplies B | I35: 100 | K35: 500 | N35: 100 | Q35: 200 | T35: 200
D36: Supplies C | I36: 1500 | K36: 200 | N36: 100 | Q36: 0 | T36: 0
D39: Annual Total | I39: =SUM(I34:I38) -> 2100 | K39: =SUM(K34:L38) -> 1200 | N39: =SUM(N34:O38) -> 700 | Q39: =SUM(Q34:R38) -> 700 | T39: =SUM(T34:U38) -> 700 | V39: =SUM(I39:U39) -> 5400
A40: Animal Costs | D40: Animal 1 | N40: 1000
D41: Animal 2
D42: Annual Total | I42: =SUM(I40:I41) -> 0 | K42: =SUM(K40:L41) -> 0 | N42: =SUM(N40:O41) -> 1000 | Q42: =SUM(Q40:R41) -> 0 | T42: =SUM(T40:U41) -> 0 | V42: =SUM(I42:U42) -> 1000
A43: Travel | D43: Domestic | I43: 1000 | K43: 500 | Q43: 300
...

Sheet Non Federal Budget Summary
A1: ='Non Federal Detail'!A1 -> PI Name: | B1: ='Non Federal Detail'!B1 -> 0 | C1: ='Non Federal Detail'!A4 -> Proposal Title: | D1: ='Non Federal Detail'!$B$4 -> 0 | F1: ='Non Federal Detail'!A6 -> Start date: | H1: ='Non Federal Detail'!B6 -> 0 | I1: ='Non Federal Detail'!C5 -> 0 | J1: ='Non Federal Detail'!A8 -> Federal Sponsor: | L1: ='Non Federal Detail'!B8 -> 0 | M1: ='Non Federal Detail'!#REF! -> #REF!
A2: ='Non Federal Detail'!A2 -> Department Submitting Proposal: | B2: ='Non Federal Detail'!B2 -> 0 | F2: ='Non Federal Detail'!A7 -> End date: | H2: ='Non Federal Detail'!B7 -> 0 | I2: ='Non Federal Detail'!C6 -> 0 | J2: ='Non Federal Detail'!A9 -> If sub, prime institution: | L2: ='Non Federal Detail'!B9 -> 0 | M2: ='Non Federal Detail'!C8 -> 0
A3: ='Non Federal Detail'!A3 -> Budget Preparer: | B3: ='Non Federal Detail'!B3 -> 0 | G3: PI Year 1 Effort | H3: ='Non Federal Detail'!$H$11 -> 0 | K3: Year 1 F&A Rate: | L3: ='Non Federal Detail'!H69 -> 0.65 | M3: =IF('Non Federal Detail'!H69<>'Non Federal Detail'!H70, 'Non Federal Detail'!H70, " ")
A4: Anticipate Cost Share?* | B4: No | D4: Year 1 | F4: Year 2 | H4: Year 3 | J4: Year 4 | L4: Year 5 | N4: Total Request
A5: *If cost-share, fill out federal cost-share tab | D5: Salary Request | E5: Fringe Request | F5: Salary Request | G5: Fringe Request | H5: Salary Request | I5: Fringe Request | J5: Salary Request | K5: Fringe Request | L5: Salary Request | M5: Fringe Request | N5: Salary | O5: Fringe
A6: Personnel | B6: Professional | D6: =SUMIF('Non Federal Detail'!$B$11:$AL$30, Table2[[#This Row],[Column1]], 'Non Federal Detail'!I$11:I$30) -> 0 | E6: =SUMIF('Non Federal Detail'!$B$11:$AL$30, Table2[[#This Row],[Column1]], 'Non Federal Detail'!J$11:J$30) -> 0 | F6: =SUMIF('Non Federal Detail'!$B$11:$AL$30, Table2[[#This Row],[Column1]], 'Non Federal Detail'!P$11:P$30) -> 0 | G6: =SUMIF('Non Federal Detail'!$B$11:$AL$30, Table2[[#This Row],[Column1]], 'Non Federal Detail'!Q$11:Q$30) -> 0 | H6: =SUMIF('Non Federal Detail'!$B$11:$AL$30, Table2[[#This Row],[Column1]], 'Non Federal Detail'!W$11:W$30) -> 0 | I6: =SUMIF('Non Federal Detail'!$B$11:$AL$30, Table2[[#This Row],[Column1]], 'Non Federal Detail'!X$11:X$30) -> 0 | J6: =SUMIF('Non Federal Detail'!$B$11:$AL$30, Table2[[#This Row],[Column1]], 'Non Federal Detail'!AD$11:AD$30) -> 0 | K6: =SUMIF('Non Federal Detail'!$B$11:$AL$30, Table2[[#This Row],[Column1]], 'Non Federal Detail'!AE$11:AE$30) -> 0 | L6: =SUMIF('Non Federal Detail'!$B$11:$AL$30, Table2[[#This Row],[Column1]], 'Non Federal Detail'!AK$11:AK$30) -> 0 | M6: =SUMIF('Non Federal Detail'!$B$11:$AL$30, Table2[[#This Row],[Column1]], 'Non Federal Detail'!AL$11:AL$30) -> 0 | N6: =SUM(Table2[[#This Row],[Column3]], Table2[[#This Row],[Column4]], Table2[[#This Row],[Column5]], Table2[[#This Row],[Column6]], Table2[[#This Row],[Column7]]) -> 0 | O6: =SUM(Table2[[#This Row],[Column9]],Table2[[#This Row],[Column10]],Table2[[#This Row],[Column11]],Table2[[#This Row],[Column12]],Table2[[#This Row],[Column8]]) -> 0
B7: Post Doc | D7: =SUMIF('Non Federal Detail'!$B$11:$AL$30, Table2[[#This Row],[Column1]], 'Non Federal Detail'!I$11:I$30) -> 0 | E7: =SUMIF('Non Federal Detail'!$B$11:$AL$30, Table2[[#This Row],[Column1]], 'Non Federal Detail'!J$11:J$30) -> 0 | F7: =SUMIF('Non Federal Detail'!$B$11:$AL$30, Table2[[#This Row],[Column1]], 'Non Federal Detail'!P$11:P$30) -> 0 | G7: =SUMIF('Non Federal Detail'!$B$11:$AL$30, Table2[[#This Row],[Column1]], 'Non Federal Detail'!Q$11:Q$30) -> 0 | H7: =SUMIF('Non Federal Detail'!$B$11:$AL$30, Table2[[#This Row],[Column1]], 'Non Federal Detail'!W$11:W$30) -> 0 | I7: =SUMIF('Non Federal Detail'!$B$11:$AL$30, Table2[[#This Row],[Column1]], 'Non Federal Detail'!X$11:X$30) -> 0 | J7: =SUMIF('Non Federal Detail'!$B$11:$AL$30, Table2[[#This Row],[Column1]], 'Non Federal Detail'!AD$11:AD$30) -> 0 | K7: =SUMIF('Non Federal Detail'!$B$11:$AL$30, Table2[[#This Row],[Column1]], 'Non Federal Detail'!AE$11:AE$30) -> 0 | L7: =SUMIF('Non Federal Detail'!$B$11:$AL$30, Table2[[#This Row],[Column1]], 'Non Federal Detail'!AK$11:AK$30) -> 0 | M7: =SUMIF('Non Federal Detail'!$B$11:$AL$30, Table2[[#This Row],[Column1]], 'Non Federal Detail'!AL$11:AL$30) -> 0 | N7: =SUM(Table2[[#This Row],[Column3]], Table2[[#This Row],[Column4]], Table2[[#This Row],[Column5]], Table2[[#This Row],[Column6]], Table2[[#This Row],[Column7]]) -> 0 | O7: =SUM(Table2[[#This Row],[Column9]],Table2[[#This Row],[Column10]],Table2[[#This Row],[Column11]],Table2[[#This Row],[Column12]],Table2[[#This Row],[Column8]]) -> 0
B8: Support Staff | D8: =SUMIF('Non Federal Detail'!$B$11:$AL$30, Table2[[#This Row],[Column1]], 'Non Federal Detail'!I$11:I$30) -> 0 | E8: =SUMIF('Non Federal Detail'!$B$11:$AL$30, Table2[[#This Row],[Column1]], 'Non Federal Detail'!J$11:J$30) -> 0 | F8: =SUMIF('Non Federal Detail'!$B$11:$AL$30, Table2[[#This Row],[Column1]], 'Non Federal Detail'!P$11:P$30) -> 0 | G8: =SUMIF('Non Federal Detail'!$B$11:$AL$30, Table2[[#This Row],[Column1]], 'Non Federal Detail'!Q$11:Q$30) -> 0 | H8: =SUMIF('Non Federal Detail'!$B$11:$AL$30, Table2[[#This Row],[Column1]], 'Non Federal Detail'!W$11:W$30) -> 0 | I8: =SUMIF('Non Federal Detail'!$B$11:$AL$30, Table2[[#This Row],[Column1]], 'Non Federal Detail'!X$11:X$30) -> 0 | J8: =SUMIF('Non Federal Detail'!$B$11:$AL$30, Table2[[#This Row],[Column1]], 'Non Federal Detail'!AD$11:AD$30) -> 0 | K8: =SUMIF('Non Federal Detail'!$B$11:$AL$30, Table2[[#This Row],[Column1]], 'Non Federal Detail'!AE$11:AE$30) -> 0 | L8: =SUMIF('Non Federal Detail'!$B$11:$AL$30, Table2[[#This Row],[Column1]], 'Non Federal Detail'!AK$11:AK$30) -> 0 | M8: =SUMIF('Non Federal Detail'!$B$11:$AL$30, Table2[[#This Row],[Column1]], 'Non Federal Detail'!AL$11:AL$30) -> 0 | N8: =SUM(Table2[[#This Row],[Column3]], Table2[[#This Row],[Column4]], Table2[[#This Row],[Column5]], Table2[[#This Row],[Column6]], Table2[[#This Row],[Column7]]) -> 0 | O8: =SUM(Table2[[#This Row],[Column9]],Table2[[#This Row],[Column10]],Table2[[#This Row],[Column11]],Table2[[#This Row],[Column12]],Table2[[#This Row],[Column8]]) -> 0
B9: Grad Student | D9: =SUMIF('Non Federal Detail'!$B$11:$AL$30, Table2[[#This Row],[Column1]], 'Non Federal Detail'!I$11:I$30) -> 0 | E9: =SUMIF('Non Federal Detail'!$B$11:$AL$30, Table2[[#This Row],[Column1]], 'Non Federal Detail'!J$11:J$30) -> 0 | F9: =SUMIF('Non Federal Detail'!$B$11:$AL$30, Table2[[#This Row],[Column1]], 'Non Federal Detail'!P$11:P$30) -> 0 | G9: =SUMIF('Non Federal Detail'!$B$11:$AL$30, Table2[[#This Row],[Column1]], 'Non Federal Detail'!Q$11:Q$30) -> 0 | H9: =SUMIF('Non Federal Detail'!$B$11:$AL$30, Table2[[#This Row],[Column1]], 'Non Federal Detail'!W$11:W$30) -> 0 | I9: =SUMIF('Non Federal Detail'!$B$11:$AL$30, Table2[[#This Row],[Column1]], 'Non Federal Detail'!X$11:X$30) -> 0 | J9: =SUMIF('Non Federal Detail'!$B$11:$AL$30, Table2[[#This Row],[Column1]], 'Non Federal Detail'!AD$11:AD$30) -> 0 | K9: =SUMIF('Non Federal Detail'!$B$11:$AL$30, Table2[[#This Row],[Column1]], 'Non Federal Detail'!AE$11:AE$30) -> 0 | L9: =SUMIF('Non Federal Detail'!$B$11:$AL$30, Table2[[#This Row],[Column1]], 'Non Federal Detail'!AK$11:AK$30) -> 0 | M9: =SUMIF('Non Federal Detail'!$B$11:$AL$30, Table2[[#This Row],[Column1]], 'Non Federal Detail'!AL$11:AL$30) -> 0 | N9: =SUM(Table2[[#This Row],[Column3]], Table2[[#This Row],[Column4]], Table2[[#This Row],[Column5]], Table2[[#This Row],[Column6]], Table2[[#This Row],[Column7]]) -> 0 | O9: =SUM(Table2[[#This Row],[Column9]],Table2[[#This Row],[Column10]],Table2[[#This Row],[Column11]],Table2[[#This Row],[Column12]],Table2[[#This Row],[Column8]]) -> 0
B10: Undergrad Student | D10: =SUMIF('Non Federal Detail'!$B$11:$AL$30, Table2[[#This Row],[Column1]], 'Non Federal Detail'!I$11:I$30) -> 0 | E10: =SUMIF('Non Federal Detail'!$B$11:$AL$30, Table2[[#This Row],[Column1]], 'Non Federal Detail'!J$11:J$30) -> 0 | F10: =SUMIF('Non Federal Detail'!$B$11:$AL$30, Table2[[#This Row],[Column1]], 'Non Federal Detail'!P$11:P$30) -> 0 | G10: =SUMIF('Non Federal Detail'!$B$11:$AL$30, Table2[[#This Row],[Column1]], 'Non Federal Detail'!Q$11:Q$30) -> 0 | H10: =SUMIF('Non Federal Detail'!$B$11:$AL$30, Table2[[#This Row],[Column1]], 'Non Federal Detail'!W$11:W$30) -> 0 | I10: =SUMIF('Non Federal Detail'!$B$11:$AL$30, Table2[[#This Row],[Column1]], 'Non Federal Detail'!X$11:X$30) -> 0 | J10: =SUMIF('Non Federal Detail'!$B$11:$AL$30, Table2[[#This Row],[Column1]], 'Non Federal Detail'!AD$11:AD$30) -> 0 | K10: =SUMIF('Non Federal Detail'!$B$11:$AL$30, Table2[[#This Row],[Column1]], 'Non Federal Detail'!AE$11:AE$30) -> 0 | L10: =SUMIF('Non Federal Detail'!$B$11:$AL$30, Table2[[#This Row],[Column1]], 'Non Federal Detail'!AK$11:AK$30) -> 0 | M10: =SUMIF('Non Federal Detail'!$B$11:$AL$30, Table2[[#This Row],[Column1]], 'Non Federal Detail'!AL$11:AL$30) -> 0 | N10: =SUM(Table2[[#This Row],[Column3]], Table2[[#This Row],[Column4]], Table2[[#This Row],[Column5]], Table2[[#This Row],[Column6]], Table2[[#This Row],[Column7]]) -> 0 | O10: =SUM(Table2[[#This Row],[Column9]],Table2[[#This Row],[Column10]],Table2[[#This Row],[Column11]],Table2[[#This Row],[Column12]],Table2[[#This Row],[Column8]]) -> 0
B11: Detail Subtotals | D11: =SUM(Table2[[#All],[Column3]]) -> 0 | E11: =SUM(Table2[[#All],[Column9]]) -> 0 | F11: =SUM(Table2[[#All],[Column4]]) -> 0 | G11: =SUM(Table2[[#All],[Column10]]) -> 0 | H11: =SUM(Table2[[#All],[Column5]]) -> 0 | I11: =SUM(Table2[[#All],[Column11]]) -> 0 | J11: =SUM(Table2[[#All],[Column6]]) -> 0 | K11: =SUM(Table2[[#All],[Column12]]) -> 0 | L11: =SUM(Table2[[#All],[Column7]]) -> 0 | M11: =SUM(Table2[[#All],[Column8]]) -> 0 | N11: =SUM(Table2[[#All],[Column13]]) -> 0 | O11: =SUM(Table2[[#All],[Column14]]) -> 0
D12: Year 1 | F12: Year 2 | H12: Year 3 | J12: Year 4 | L12: Year 5 | N12: Total Request
B13: Annual Subtotals | D13: =SUM(D11:E11) -> 0 | F13: =SUM(F11:G11) -> 0 | H13: =SUM(H11:I11) -> 0 | J13: =SUM(J11:K11) -> 0 | L13: =SUM(L11:M11) -> 0 | N13: =SUM(N11:O11) -> 0
A14: Non-Personnel | B14: Consultants | D14: =VLOOKUP(CONCATENATE($B14, " Annual Total"), 'Non Federal Detail'!$E$35:$AL$64, 6, FALSE) -> 0 | F14: =VLOOKUP(CONCATENATE($B14, " Annual Total"),'Non Federal Detail'!$E$35:$AL$64, 13, FALSE) -> 0 | H14: =VLOOKUP(CONCATENATE($B14, " Annual Total"),'Non Federal Detail'!$E$35:$AL$64, 20, FALSE) -> 0 | J14: =VLOOKUP(CONCATENATE($B14, " Annual Total"),'Non Federal Detail'!$E$35:$AL$64, 27, FALSE) -> 0 | L14: =VLOOKUP(CONCATENATE($B14, " Annual Total"),'Non Federal Detail'!$E$35:$AL$64, 34, FALSE) -> 0 | N14: =SUM(D14:M14) -> 0
B15: Equipment | D15: =VLOOKUP(CONCATENATE($B15, " Annual Total"), 'Non Federal Detail'!$E$35:$AL$64, 6, FALSE) -> 0 | F15: =VLOOKUP(CONCATENATE($B15, " Annual Total"),'Non Federal Detail'!$E$35:$AL$64, 13, FALSE) -> 0 | H15: =VLOOKUP(CONCATENATE($B15, " Annual Total"),'Non Federal Detail'!$E$35:$AL$64, 20, FALSE) -> 0 | J15: =VLOOKUP(CONCATENATE($B15, " Annual Total"),'Non Federal Detail'!$E$35:$AL$64, 27, FALSE) -> 0 | L15: =VLOOKUP(CONCATENATE($B15, " Annual Total"),'Non Federal Detail'!$E$35:$AL$64, 34, FALSE) -> 0 | N15: =SUM(D15:M15) -> 0
B16: Supplies | D16: =VLOOKUP(CONCATENATE($B16, " Annual Total"), 'Non Federal Detail'!$E$35:$AL$64, 6, FALSE) -> 0 | F16: =VLOOKUP(CONCATENATE($B16, " Annual Total"),'Non Federal Detail'!$E$35:$AL$64, 13, FALSE) -> 0 | H16: =VLOOKUP(CONCATENATE($B16, " Annual Total"),'Non Federal Detail'!$E$35:$AL$64, 20, FALSE) -> 0 | J16: =VLOOKUP(CONCATENATE($B16, " Annual Total"),'Non Federal Detail'!$E$35:$AL$64, 27, FALSE) -> 0 | L16: =VLOOKUP(CONCATENATE($B16, " Annual Total"),'Non Federal Detail'!$E$35:$AL$64, 34, FALSE) -> 0 | N16: =SUM(D16:M16) -> 0
B17: Animal Costs | D17: =VLOOKUP(CONCATENATE($B17, " Annual Total"), 'Non Federal Detail'!$E$35:$AL$64, 6, FALSE) -> 0 | F17: =VLOOKUP(CONCATENATE($B17, " Annual Total"),'Non Federal Detail'!$E$35:$AL$64, 13, FALSE) -> 0 | H17: =VLOOKUP(CONCATENATE($B17, " Annual Total"),'Non Federal Detail'!$E$35:$AL$64, 20, FALSE) -> 0 | J17: =VLOOKUP(CONCATENATE($B17, " Annual Total"),'Non Federal Detail'!$E$35:$AL$64, 27, FALSE) -> 0 | L17: =VLOOKUP(CONCATENATE($B17, " Annual Total"),'Non Federal Detail'!$E$35:$AL$64, 34, FALSE) -> 0 | N17: =SUM(D17:M17) -> 0
B18: Travel | D18: =VLOOKUP(CONCATENATE($B18, " Annual Total"), 'Non Federal Detail'!$E$35:$AL$64, 6, FALSE) -> 0 | F18: =VLOOKUP(CONCATENATE($B18, " Annual Total"),'Non Federal Detail'!$E$35:$AL$64, 13, FALSE) -> 0 | H18: =VLOOKUP(CONCATENATE($B18, " Annual Total"),'Non Federal Detail'!$E$35:$AL$64, 20, FALSE) -> 0 | J18: =VLOOKUP(CONCATENATE($B18, " Annual Total"),'Non Federal Detail'!$E$35:$AL$64, 27, FALSE) -> 0 | L18: =VLOOKUP(CONCATENATE($B18, " Annual Total"),'Non Federal Detail'!$E$35:$AL$64, 34, FALSE) -> 0 | N18: =SUM(D18:M18) -> 0
B19: Patient Care costs | D19: =VLOOKUP(CONCATENATE($B19, " Annual Total"), 'Non Federal Detail'!$E$35:$AL$64, 6, FALSE) -> 0 | F19: =VLOOKUP(CONCATENATE($B19, " Annual Total"),'Non Federal Detail'!$E$35:$AL$64, 13, FALSE) -> 0 | H19: =VLOOKUP(CONCATENATE($B19, " Annual Total"),'Non Federal Detail'!$E$35:$AL$64, 20, FALSE) -> 0 | J19: =VLOOKUP(CONCATENATE($B19, " Annual Total"),'Non Federal Detail'!$E$35:$AL$64, 27, FALSE) -> 0 | L19: =VLOOKUP(CONCATENATE($B19, " Annual Total"),'Non Federal Detail'!$E$35:$AL$64, 34, FALSE) -> 0 | N19: =SUM(D19:M19) -> 0
B20: Alterations and Renovations | D20: =VLOOKUP(CONCATENATE($B20, " Annual Total"), 'Non Federal Detail'!$E$35:$AL$64, 6, FALSE) -> 0 | F20: =VLOOKUP(CONCATENATE($B20, " Annual Total"),'Non Federal Detail'!$E$35:$AL$64, 13, FALSE) -> 0 | H20: =VLOOKUP(CONCATENATE($B20, " Annual Total"),'Non Federal Detail'!$E$35:$AL$64, 20, FALSE) -> 0 | J20: =VLOOKUP(CONCATENATE($B20, " Annual Total"),'Non Federal Detail'!$E$35:$AL$64, 27, FALSE) -> 0 | L20: =VLOOKUP(CONCATENATE($B20, " Annual Total"),'Non Federal Detail'!$E$35:$AL$64, 34, FALSE) -> 0 | N20: =SUM(D20:M20) -> 0
B21: Other Costs | D21: =VLOOKUP(CONCATENATE($B21, " Annual Total"), 'Non Federal Detail'!$E$35:$AL$64, 6, FALSE) -> 0 | F21: =VLOOKUP(CONCATENATE($B21, " Annual Total"),'Non Federal Detail'!$E$35:$AL$64, 13, FALSE) -> 0 | H21: =VLOOKUP(CONCATENATE($B21, " Annual Total"),'Non Federal Detail'!$E$35:$AL$64, 20, FALSE) -> 0 | J21: =VLOOKUP(CONCATENATE($B21, " Annual Total"),'Non Federal Detail'!$E$35:$AL$64, 27, FALSE) -> 0 | L21: =VLOOKUP(CONCATENATE($B21, " Annual Total"),'Non Federal Detail'!$E$35:$AL$64, 34, FALSE) -> 0 | N21: =SUM(D21:M21) -> 0
B22: Subawards | D22: =VLOOKUP(CONCATENATE($B22, " Annual Total"), 'Non Federal Detail'!$E$67:$AL$67, 6, FALSE) -> 0 | F22: =VLOOKUP(CONCATENATE($B22, " Annual Total"), 'Non Federal Detail'!$E$67:$AL$67, 13, FALSE) -> 0 | H22: =VLOOKUP(CONCATENATE($B22, " Annual Total"), 'Non Federal Detail'!$E$67:$AL$67, 20,FALSE) -> 0 | J22: =VLOOKUP(CONCATENATE($B22, " Annual Total"), 'Non Federal Detail'!$E$67:$AL$67, 27, FALSE) -> 0 | L22: =VLOOKUP(CONCATENATE($B22, " Annual Total"), 'Non Federal Detail'!$E$67:$AL$67, 34, FALSE) -> 0 | N22: =SUM(D22:M22) -> 0
A23: ='Non Federal Detail'!A71 -> TOTAL DIRECT Costs (including all sub award costs) | D23: ='Non Federal Detail'!J71 -> 0 | F23: ='Non Federal Detail'!Q71 -> 0 | H23: ='Non Federal Detail'!X71 -> 0 | J23: ='Non Federal Detail'!AE71 -> 0 | L23: ='Non Federal Detail'!AL71 -> 0 | N23: =SUM(D23:M23) -> 0
A24: ='Non Federal Detail'!A72 -> TOTAL DIRECT Costs (without sub award indirect) | D24: ='Non Federal Detail'!J72 -> 0 | F24: ='Non Federal Detail'!Q72 -> 0 | H24: ='Non Federal Detail'!X72 -> 0 | J24: ='Non Federal Detail'!AE72 -> 0 | L24: ='Non Federal Detail'!AL72 -> 0 | N24: =SUM(D24:M24) -> 0
A25: ='Non Federal Detail'!A73 -> MTDC *if sponsor restrictions, subtract out approporiate categories | D25: ='Non Federal Detail'!J73 -> 0 | F25: ='Non Federal Detail'!Q73 -> 0 | H25: ='Non Federal Detail'!X73 -> 0 | J25: ='Non Federal Detail'!AE73 -> 0 | L25: ='Non Federal Detail'!AL73 -> 0 | N25: =SUM(D25:M25) -> 0
A26: ='Non Federal Detail'!A74 -> BU IDC*calculated on MTDC, if there are sponsor restrictions make adjustments in MTDC line | D26: ='Non Federal Detail'!J74 -> 0 | F26: ='Non Federal Detail'!Q74 -> 0 | H26: ='Non Federal Detail'!X74 -> 0 | J26: ='Non Federal Detail'!AE74 -> 0 | L26: ='Non Federal Detail'!AL74 -> 0 | N26: =SUM(D26:M26) -> 0
A27: ='Non Federal Detail'!A75 -> TOTAL REQUEST | D27: ='Non Federal Detail'!J75 -> 0 | F27: ='Non Federal Detail'!Q75 -> 0 | H27: ='Non Federal Detail'!X75 -> 0 | J27: ='Non Federal Detail'!AE75 -> 0 | L27: ='Non Federal Detail'!AL75 -> 0 | N27: =SUM(D27:M27) -> 0
A29: Cost Share | D29: =D12 -> Year 1 | F29: =F12 -> Year 2 | H29: =H12 -> Year 3 | J29: =J12 -> Year 4 | L29: =L12 -> Year 5 | N29: =N12 -> Total Request
A30: Direct | D30: ='Non Federal Cost Share'!J68 -> 0 | F30: ='Non Federal Cost Share'!Q68 -> 0 | H30: ='Non Federal Cost Share'!X68 -> 0 | J30: ='Non Federal Cost Share'!AE68 -> 0 | L30: ='Non Federal Cost Share'!AL68 -> 0 | N30: =SUM(D30:M30) -> 0
A31: IDC | D31: ='Non Federal Cost Share'!J69 -> 0 | F31: ='Non Federal Cost Share'!Q69 -> 0 | H31: ='Non Federal Cost Share'!X69 -> 0 | J31: ='Non Federal Cost Share'!AE69 -> 0 | L31: ='Non Federal Cost Share'!AL69 -> 0 | N31: =SUM(D31:M31) -> 0
A32: Total | D32: ='Non Federal Cost Share'!J70 -> 0 | F32: ='Non Federal Cost Share'!Q70 -> 0 | H32: ='Non Federal Cost Share'!X70 -> 0 | J32: ='Non Federal Cost Share'!AE70 -> 0 | L32: ='Non Federal Cost Share'!AL70 -> 0 | N32: =SUM(D32:M32) -> 0

Sheet Non Federal Detail
A1: PI Name: | E1: NON FEDERAL | L1: Fringe Rates | P1: Effort Conversion Calculator
A2: Department Submitting Proposal: | L2: EDIT FRINGE ONLY IF SPONSOR LIMITS
A3: Budget Preparer: | L3: Professional | N3: 0.27 | P3: % Effort | Q3: Calendar Months | R3: Academic Months | S3: Summer Months*
A4: Proposal Title: | E4: yellow indicates change in effort from previous year, prompts need for justification | G4: light red indicates NIH salary cap has been reached | I4: orange indicates error in month entry, choose either calendar months, or academic/summer months | L4: Post Doc | N4: 0.27
E5: Only input data into blue fields, please | L5: Support Staff | N5: 0.24 | Q5: =P5*0.12 -> 0 | R5: =P5*0.09 -> 0 | S5: =P5*0.03 -> 0
A6: Start date: | L6: Grad Student | N6: 0.088 | P6: *Note: Summer months are compensated as overbase and may require completion of Commitment of Summer Effort & Salary Request form. Click here for more info
A7: End date: | L7: Undergrad Student | N7: 0
A8: Federal Sponsor: | E8: Year 1 | K8: Year 2 | R8: Year 3 | Y8: Year 4 | AF8: Year 5
A9: If sub, prime institution: | D9: Dates:
A10: Personnel | B10: Role | C10: Base Salary | D10: Merit | E10: Calendar Months | F10: Academic Months | G10: Summer Months* | H10: Effort % | I10: Requested Salary | J10: Requested Fringe | K10: Base Salary | L10: Calendar Months | M10: Academic Months | N10: Summer Months* | O10: Effort % | P10: Requested Salary | Q10: Requested Fringe | R10: Base Salary | S10: Calendar Months | T10: Academic Months | U10: Summer Months* | V10: Effort % | W10: Requested Salary | X10: Requested Fringe | Y10: Base Salary | Z10: Calendar Months | AA10: Academic Months | AB10: Summer Months* | AC10: Effort % | AD10: Requested Salary | AE10: Requested Fringe | AF10: Base Salary | AG10: Calendar Months | AH10: Academic Months | AI10: Summer Months* | AJ10: Effort % | AK10: Requested Salary | AL10: Requested Fringe | AM10: Year 2 Change | AN10: Year 3 Change | AO10: Year 4 Change | AP10: Year 5 Change | AQ10: Total Request
A11: =B1 -> 0 | B11: Professional | D11: 0.03 | H11: =IF(E11>0,E11/12,IF(F11>0,F11/9,0))+G11/9 -> 0 | I11: ='Non Federal Detail'!$C11*'Non Federal Detail'!$H11 -> 0 | J11: =IFERROR(VLOOKUP('Non Federal Detail'!$B11, Table3[#All], 3, 0)*'Non Federal Detail'!$I11, 0) -> 0 | K11: ='Non Federal Detail'!$C11*(1+'Non Federal Detail'!$D11) -> 0 | O11: =IF(L11>0,L11/12,IF(M11>0,M11/9,0))+N11/9 -> 0 | P11: ='Non Federal Detail'!$K11*'Non Federal Detail'!$O11 -> 0 | Q11: =IFERROR(VLOOKUP('Non Federal Detail'!$B11, Table3[#All], 3, 0)*'Non Federal Detail'!$P11, 0) -> 0 | R11: ='Non Federal Detail'!$K11*(1+'Non Federal Detail'!$D11) -> 0 | V11: =IF(S11>0,S11/12,IF(T11>0,T11/9,0))+U11/9 -> 0 | W11: ='Non Federal Detail'!$R11*'Non Federal Detail'!$V11 -> 0 | X11: =IFERROR(VLOOKUP('Non Federal Detail'!$B11, Table3[#All], 3, 0)*'Non Federal Detail'!$W11, 0) -> 0 | Y11: ='Non Federal Detail'!$R11*(1+'Non Federal Detail'!$D11) -> 0 | AC11: =IF(Z11>0,Z11/12,IF(AA11>0,AA11/9,0))+AB11/9 -> 0 | AD11: ='Non Federal Detail'!$Y11*'Non Federal Detail'!$AC11 -> 0 | AE11: =IFERROR(VLOOKUP('Non Federal Detail'!$B11, Table3[#All], 3, 0)*'Non Federal Detail'!$AD11, 0) -> 0 | AF11: ='Non Federal Detail'!$Y11*(1+'Non Federal Detail'!$D11) -> 0 | AJ11: =IF(AG11>0,AG11/12,IF(AH11>0,AH11/9,0))+AI11/9 -> 0 | AK11: ='Non Federal Detail'!$AF11*'Non Federal Detail'!$AJ11 -> 0 | AL11: =IFERROR(VLOOKUP('Non Federal Detail'!$B11, Table3[#All], 3, 0)*'Non Federal Detail'!$AK11, 0) -> 0 | AM11: =IF('Non Federal Detail'!$H11='Non Federal Detail'!$O11, 1,0) -> 1 | AN11: =IF('Non Federal Detail'!$O11='Non Federal Detail'!$V11, 1,0) -> 1 | AO11: =IF('Non Federal Detail'!$V11='Non Federal Detail'!$AC11, 1,0) -> 1 | AP11: =IF('Non Federal Detail'!$AC11='Non Federal Detail'!$AJ11, 1,0) -> 1 | AQ11: =SUM(I11:J11,P11:Q11,W11:X11,AD11:AE11,AK11:AL11) -> 0
D12: 0 | H12: =IF(E12>0,E12/12,IF(F12>0,F12/9,0))+G12/9 -> 0 | I12: ='Non Federal Detail'!$C12*'Non Federal Detail'!$H12 -> 0 | J12: =IFERROR(VLOOKUP('Non Federal Detail'!$B12, Table3[#All], 3, 0)*'Non Federal Detail'!$I12, 0) -> 0 | K12: ='Non Federal Detail'!$C12*(1+'Non Federal Detail'!$D12) -> 0 | O12: =IF(L12>0,L12/12,IF(M12>0,M12/9,0))+N12/9 -> 0 | P12: ='Non Federal Detail'!$K12*'Non Federal Detail'!$O12 -> 0 | Q12: =IFERROR(VLOOKUP('Non Federal Detail'!$B12, Table3[#All], 3, 0)*'Non Federal Detail'!$P12, 0) -> 0 | R12: ='Non Federal Detail'!$K12*(1+'Non Federal Detail'!$D12) -> 0 | V12: =IF(S12>0,S12/12,IF(T12>0,T12/9,0))+U12/9 -> 0 | W12: ='Non Federal Detail'!$R12*'Non Federal Detail'!$V12 -> 0 | X12: =IFERROR(VLOOKUP('Non Federal Detail'!$B12, Table3[#All], 3, 0)*'Non Federal Detail'!$W12, 0) -> 0 | Y12: ='Non Federal Detail'!$R12*(1+'Non Federal Detail'!$D12) -> 0 | AC12: =IF(Z12>0,Z12/12,IF(AA12>0,AA12/9,0))+AB12/9 -> 0 | AD12: ='Non Federal Detail'!$Y12*'Non Federal Detail'!$AC12 -> 0 | AE12: =IFERROR(VLOOKUP('Non Federal Detail'!$B12, Table3[#All], 3, 0)*'Non Federal Detail'!$AD12, 0) -> 0 | AF12: ='Non Federal Detail'!$Y12*(1+'Non Federal Detail'!$D12) -> 0 | AJ12: =IF(AG12>0,AG12/12,IF(AH12>0,AH12/9,0))+AI12/9 -> 0 | AK12: ='Non Federal Detail'!$AF12*'Non Federal Detail'!$AJ12 -> 0 | AL12: =IFERROR(VLOOKUP('Non Federal Detail'!$B12, Table3[#All], 3, 0)*'Non Federal Detail'!$AK12, 0) -> 0 | AM12: =IF('Non Federal Detail'!$H12='Non Federal Detail'!$O12, 1,0) -> 1 | AN12: =IF('Non Federal Detail'!$O12='Non Federal Detail'!$V12, 1,0) -> 1 | AO12: =IF('Non Federal Detail'!$V12='Non Federal Detail'!$AC12, 1,0) -> 1 | AP12: =IF('Non Federal Detail'!$AC12='Non Federal Detail'!$AJ12, 1,0) -> 1 | AQ12: =SUM(I12:J12,P12:Q12,W12:X12,AD12:AE12,AK12:AL12) -> 0
D13: 0 | H13: =IF(E13>0,E13/12,IF(F13>0,F13/9,0))+G13/9 -> 0 | I13: ='Non Federal Detail'!$C13*'Non Federal Detail'!$H13 -> 0 | J13: =IFERROR(VLOOKUP('Non Federal Detail'!$B13, Table3[#All], 3, 0)*'Non Federal Detail'!$I13, 0) -> 0 | K13: ='Non Federal Detail'!$C13*(1+'Non Federal Detail'!$D13) -> 0 | O13: =IF(L13>0,L13/12,IF(M13>0,M13/9,0))+N13/9 -> 0 | P13: ='Non Federal Detail'!$K13*'Non Federal Detail'!$O13 -> 0 | Q13: =IFERROR(VLOOKUP('Non Federal Detail'!$B13, Table3[#All], 3, 0)*'Non Federal Detail'!$P13, 0) -> 0 | R13: ='Non Federal Detail'!$K13*(1+'Non Federal Detail'!$D13) -> 0 | V13: =IF(S13>0,S13/12,IF(T13>0,T13/9,0))+U13/9 -> 0 | W13: ='Non Federal Detail'!$R13*'Non Federal Detail'!$V13 -> 0 | X13: =IFERROR(VLOOKUP('Non Federal Detail'!$B13, Table3[#All], 3, 0)*'Non Federal Detail'!$W13, 0) -> 0 | Y13: ='Non Federal Detail'!$R13*(1+'Non Federal Detail'!$D13) -> 0 | AC13: =IF(Z13>0,Z13/12,IF(AA13>0,AA13/9,0))+AB13/9 -> 0 | AD13: ='Non Federal Detail'!$Y13*'Non Federal Detail'!$AC13 -> 0 | AE13: =IFERROR(VLOOKUP('Non Federal Detail'!$B13, Table3[#All], 3, 0)*'Non Federal Detail'!$AD13, 0) -> 0 | AF13: ='Non Federal Detail'!$Y13*(1+'Non Federal Detail'!$D13) -> 0 | AJ13: =IF(AG13>0,AG13/12,IF(AH13>0,AH13/9,0))+AI13/9 -> 0 | AK13: ='Non Federal Detail'!$AF13*'Non Federal Detail'!$AJ13 -> 0 | AL13: =IFERROR(VLOOKUP('Non Federal Detail'!$B13, Table3[#All], 3, 0)*'Non Federal Detail'!$AK13, 0) -> 0 | AM13: =IF('Non Federal Detail'!$H13='Non Federal Detail'!$O13, 1,0) -> 1 | AN13: =IF('Non Federal Detail'!$O13='Non Federal Detail'!$V13, 1,0) -> 1 | AO13: =IF('Non Federal Detail'!$V13='Non Federal Detail'!$AC13, 1,0) -> 1 | AP13: =IF('Non Federal Detail'!$AC13='Non Federal Detail'!$AJ13, 1,0) -> 1 | AQ13: =SUM(I13:J13,P13:Q13,W13:X13,AD13:AE13,AK13:AL13) -> 0
D14: 0 | H14: =IF(E14>0,E14/12,IF(F14>0,F14/9,0))+G14/9 -> 0 | I14: ='Non Federal Detail'!$C14*'Non Federal Detail'!$H14 -> 0 | J14: =IFERROR(VLOOKUP('Non Federal Detail'!$B14, Table3[#All], 3, 0)*'Non Federal Detail'!$I14, 0) -> 0 | K14: ='Non Federal Detail'!$C14*(1+'Non Federal Detail'!$D14) -> 0 | O14: =IF(L14>0,L14/12,IF(M14>0,M14/9,0))+N14/9 -> 0 | P14: ='Non Federal Detail'!$K14*'Non Federal Detail'!$O14 -> 0 | Q14: =IFERROR(VLOOKUP('Non Federal Detail'!$B14, Table3[#All], 3, 0)*'Non Federal Detail'!$P14, 0) -> 0 | R14: ='Non Federal Detail'!$K14*(1+'Non Federal Detail'!$D14) -> 0 | V14: =IF(S14>0,S14/12,IF(T14>0,T14/9,0))+U14/9 -> 0 | W14: ='Non Federal Detail'!$R14*'Non Federal Detail'!$V14 -> 0 | X14: =IFERROR(VLOOKUP('Non Federal Detail'!$B14, Table3[#All], 3, 0)*'Non Federal Detail'!$W14, 0) -> 0 | Y14: ='Non Federal Detail'!$R14*(1+'Non Federal Detail'!$D14) -> 0 | AC14: =IF(Z14>0,Z14/12,IF(AA14>0,AA14/9,0))+AB14/9 -> 0 | AD14: ='Non Federal Detail'!$Y14*'Non Federal Detail'!$AC14 -> 0 | AE14: =IFERROR(VLOOKUP('Non Federal Detail'!$B14, Table3[#All], 3, 0)*'Non Federal Detail'!$AD14, 0) -> 0 | AF14: ='Non Federal Detail'!$Y14*(1+'Non Federal Detail'!$D14) -> 0 | AJ14: =IF(AG14>0,AG14/12,IF(AH14>0,AH14/9,0))+AI14/9 -> 0 | AK14: ='Non Federal Detail'!$AF14*'Non Federal Detail'!$AJ14 -> 0 | AL14: =IFERROR(VLOOKUP('Non Federal Detail'!$B14, Table3[#All], 3, 0)*'Non Federal Detail'!$AK14, 0) -> 0 | AM14: =IF('Non Federal Detail'!$H14='Non Federal Detail'!$O14, 1,0) -> 1 | AN14: =IF('Non Federal Detail'!$O14='Non Federal Detail'!$V14, 1,0) -> 1 | AO14: =IF('Non Federal Detail'!$V14='Non Federal Detail'!$AC14, 1,0) -> 1 | AP14: =IF('Non Federal Detail'!$AC14='Non Federal Detail'!$AJ14, 1,0) -> 1 | AQ14: =SUM(I14:J14,P14:Q14,W14:X14,AD14:AE14,AK14:AL14) -> 0
D15: 0 | H15: =IF(E15>0,E15/12,IF(F15>0,F15/9,0))+G15/9 -> 0 | I15: ='Non Federal Detail'!$C15*'Non Federal Detail'!$H15 -> 0 | J15: =IFERROR(VLOOKUP('Non Federal Detail'!$B15, Table3[#All], 3, 0)*'Non Federal Detail'!$I15, 0) -> 0 | K15: ='Non Federal Detail'!$C15*(1+'Non Federal Detail'!$D15) -> 0 | O15: =IF(L15>0,L15/12,IF(M15>0,M15/9,0))+N15/9 -> 0 | P15: ='Non Federal Detail'!$K15*'Non Federal Detail'!$O15 -> 0 | Q15: =IFERROR(VLOOKUP('Non Federal Detail'!$B15, Table3[#All], 3, 0)*'Non Federal Detail'!$P15, 0) -> 0 | R15: ='Non Federal Detail'!$K15*(1+'Non Federal Detail'!$D15) -> 0 | V15: =IF(S15>0,S15/12,IF(T15>0,T15/9,0))+U15/9 -> 0 | W15: ='Non Federal Detail'!$R15*'Non Federal Detail'!$V15 -> 0 | X15: =IFERROR(VLOOKUP('Non Federal Detail'!$B15, Table3[#All], 3, 0)*'Non Federal Detail'!$W15, 0) -> 0 | Y15: ='Non Federal Detail'!$R15*(1+'Non Federal Detail'!$D15) -> 0 | AC15: =IF(Z15>0,Z15/12,IF(AA15>0,AA15/9,0))+AB15/9 -> 0 | AD15: ='Non Federal Detail'!$Y15*'Non Federal Detail'!$AC15 -> 0 | AE15: =IFERROR(VLOOKUP('Non Federal Detail'!$B15, Table3[#All], 3, 0)*'Non Federal Detail'!$AD15, 0) -> 0 | AF15: ='Non Federal Detail'!$Y15*(1+'Non Federal Detail'!$D15) -> 0 | AJ15: =IF(AG15>0,AG15/12,IF(AH15>0,AH15/9,0))+AI15/9 -> 0 | AK15: ='Non Federal Detail'!$AF15*'Non Federal Detail'!$AJ15 -> 0 | AL15: =IFERROR(VLOOKUP('Non Federal Detail'!$B15, Table3[#All], 3, 0)*'Non Federal Detail'!$AK15, 0) -> 0 | AM15: =IF('Non Federal Detail'!$H15='Non Federal Detail'!$O15, 1,0) -> 1 | AN15: =IF('Non Federal Detail'!$O15='Non Federal Detail'!$V15, 1,0) -> 1 | AO15: =IF('Non Federal Detail'!$V15='Non Federal Detail'!$AC15, 1,0) -> 1 | AP15: =IF('Non Federal Detail'!$AC15='Non Federal Detail'!$AJ15, 1,0) -> 1 | AQ15: =SUM(I15:J15,P15:Q15,W15:X15,AD15:AE15,AK15:AL15) -> 0
D16: 0 | H16: =IF(E16>0,E16/12,IF(F16>0,F16/9,0))+G16/9 -> 0 | I16: ='Non Federal Detail'!$C16*'Non Federal Detail'!$H16 -> 0 | J16: =IFERROR(VLOOKUP('Non Federal Detail'!$B16, Table3[#All], 3, 0)*'Non Federal Detail'!$I16, 0) -> 0 | K16: ='Non Federal Detail'!$C16*(1+'Non Federal Detail'!$D16) -> 0 | O16: =IF(L16>0,L16/12,IF(M16>0,M16/9,0))+N16/9 -> 0 | P16: ='Non Federal Detail'!$K16*'Non Federal Detail'!$O16 -> 0 | Q16: =IFERROR(VLOOKUP('Non Federal Detail'!$B16, Table3[#All], 3, 0)*'Non Federal Detail'!$P16, 0) -> 0 | R16: ='Non Federal Detail'!$K16*(1+'Non Federal Detail'!$D16) -> 0 | V16: =IF(S16>0,S16/12,IF(T16>0,T16/9,0))+U16/9 -> 0 | W16: ='Non Federal Detail'!$R16*'Non Federal Detail'!$V16 -> 0 | X16: =IFERROR(VLOOKUP('Non Federal Detail'!$B16, Table3[#All], 3, 0)*'Non Federal Detail'!$W16, 0) -> 0 | Y16: ='Non Federal Detail'!$R16*(1+'Non Federal Detail'!$D16) -> 0 | AC16: =IF(Z16>0,Z16/12,IF(AA16>0,AA16/9,0))+AB16/9 -> 0 | AD16: ='Non Federal Detail'!$Y16*'Non Federal Detail'!$AC16 -> 0 | AE16: =IFERROR(VLOOKUP('Non Federal Detail'!$B16, Table3[#All], 3, 0)*'Non Federal Detail'!$AD16, 0) -> 0 | AF16: ='Non Federal Detail'!$Y16*(1+'Non Federal Detail'!$D16) -> 0 | AJ16: =IF(AG16>0,AG16/12,IF(AH16>0,AH16/9,0))+AI16/9 -> 0 | AK16: ='Non Federal Detail'!$AF16*'Non Federal Detail'!$AJ16 -> 0 | AL16: =IFERROR(VLOOKUP('Non Federal Detail'!$B16, Table3[#All], 3, 0)*'Non Federal Detail'!$AK16, 0) -> 0 | AM16: =IF('Non Federal Detail'!$H16='Non Federal Detail'!$O16, 1,0) -> 1 | AN16: =IF('Non Federal Detail'!$O16='Non Federal Detail'!$V16, 1,0) -> 1 | AO16: =IF('Non Federal Detail'!$V16='Non Federal Detail'!$AC16, 1,0) -> 1 | AP16: =IF('Non Federal Detail'!$AC16='Non Federal Detail'!$AJ16, 1,0) -> 1 | AQ16: =SUM(I16:J16,P16:Q16,W16:X16,AD16:AE16,AK16:AL16) -> 0
D17: 0 | H17: =IF(E17>0,E17/12,IF(F17>0,F17/9,0))+G17/9 -> 0 | I17: ='Non Federal Detail'!$C17*'Non Federal Detail'!$H17 -> 0 | J17: =IFERROR(VLOOKUP('Non Federal Detail'!$B17, Table3[#All], 3, 0)*'Non Federal Detail'!$I17, 0) -> 0 | K17: ='Non Federal Detail'!$C17*(1+'Non Federal Detail'!$D17) -> 0 | O17: =IF(L17>0,L17/12,IF(M17>0,M17/9,0))+N17/9 -> 0 | P17: ='Non Federal Detail'!$K17*'Non Federal Detail'!$O17 -> 0 | Q17: =IFERROR(VLOOKUP('Non Federal Detail'!$B17, Table3[#All], 3, 0)*'Non Federal Detail'!$P17, 0) -> 0 | R17: ='Non Federal Detail'!$K17*(1+'Non Federal Detail'!$D17) -> 0 | V17: =IF(S17>0,S17/12,IF(T17>0,T17/9,0))+U17/9 -> 0 | W17: ='Non Federal Detail'!$R17*'Non Federal Detail'!$V17 -> 0 | X17: =IFERROR(VLOOKUP('Non Federal Detail'!$B17, Table3[#All], 3, 0)*'Non Federal Detail'!$W17, 0) -> 0 | Y17: ='Non Federal Detail'!$R17*(1+'Non Federal Detail'!$D17) -> 0 | AC17: =IF(Z17>0,Z17/12,IF(AA17>0,AA17/9,0))+AB17/9 -> 0 | AD17: ='Non Federal Detail'!$Y17*'Non Federal Detail'!$AC17 -> 0 | AE17: =IFERROR(VLOOKUP('Non Federal Detail'!$B17, Table3[#All], 3, 0)*'Non Federal Detail'!$AD17, 0) -> 0 | AF17: ='Non Federal Detail'!$Y17*(1+'Non Federal Detail'!$D17) -> 0 | AJ17: =IF(AG17>0,AG17/12,IF(AH17>0,AH17/9,0))+AI17/9 -> 0 | AK17: ='Non Federal Detail'!$AF17*'Non Federal Detail'!$AJ17 -> 0 | AL17: =IFERROR(VLOOKUP('Non Federal Detail'!$B17, Table3[#All], 3, 0)*'Non Federal Detail'!$AK17, 0) -> 0 | AM17: =IF('Non Federal Detail'!$H17='Non Federal Detail'!$O17, 1,0) -> 1 | AN17: =IF('Non Federal Detail'!$O17='Non Federal Detail'!$V17, 1,0) -> 1 | AO17: =IF('Non Federal Detail'!$V17='Non Federal Detail'!$AC17, 1,0) -> 1 | AP17: =IF('Non Federal Detail'!$AC17='Non Federal Detail'!$AJ17, 1,0) -> 1 | AQ17: =SUM(I17:J17,P17:Q17,W17:X17,AD17:AE17,AK17:AL17) -> 0
D18: 0 | H18: =IF(E18>0,E18/12,IF(F18>0,F18/9,0))+G18/9 -> 0 | I18: ='Non Federal Detail'!$C18*'Non Federal Detail'!$H18 -> 0 | J18: =IFERROR(VLOOKUP('Non Federal Detail'!$B18, Table3[#All], 3, 0)*'Non Federal Detail'!$I18, 0) -> 0 | K18: ='Non Federal Detail'!$C18*(1+'Non Federal Detail'!$D18) -> 0 | O18: =IF(L18>0,L18/12,IF(M18>0,M18/9,0))+N18/9 -> 0 | P18: ='Non Federal Detail'!$K18*'Non Federal Detail'!$O18 -> 0 | Q18: =IFERROR(VLOOKUP('Non Federal Detail'!$B18, Table3[#All], 3, 0)*'Non Federal Detail'!$P18, 0) -> 0 | R18: ='Non Federal Detail'!$K18*(1+'Non Federal Detail'!$D18) -> 0 | V18: =IF(S18>0,S18/12,IF(T18>0,T18/9,0))+U18/9 -> 0 | W18: ='Non Federal Detail'!$R18*'Non Federal Detail'!$V18 -> 0 | X18: =IFERROR(VLOOKUP('Non Federal Detail'!$B18, Table3[#All], 3, 0)*'Non Federal Detail'!$W18, 0) -> 0 | Y18: ='Non Federal Detail'!$R18*(1+'Non Federal Detail'!$D18) -> 0 | AC18: =IF(Z18>0,Z18/12,IF(AA18>0,AA18/9,0))+AB18/9 -> 0 | AD18: ='Non Federal Detail'!$Y18*'Non Federal Detail'!$AC18 -> 0 | AE18: =IFERROR(VLOOKUP('Non Federal Detail'!$B18, Table3[#All], 3, 0)*'Non Federal Detail'!$AD18, 0) -> 0 | AF18: ='Non Federal Detail'!$Y18*(1+'Non Federal Detail'!$D18) -> 0 | AJ18: =IF(AG18>0,AG18/12,IF(AH18>0,AH18/9,0))+AI18/9 -> 0 | AK18: ='Non Federal Detail'!$AF18*'Non Federal Detail'!$AJ18 -> 0 | AL18: =IFERROR(VLOOKUP('Non Federal Detail'!$B18, Table3[#All], 3, 0)*'Non Federal Detail'!$AK18, 0) -> 0 | AM18: =IF('Non Federal Detail'!$H18='Non Federal Detail'!$O18, 1,0) -> 1 | AN18: =IF('Non Federal Detail'!$O18='Non Federal Detail'!$V18, 1,0) -> 1 | AO18: =IF('Non Federal Detail'!$V18='Non Federal Detail'!$AC18, 1,0) -> 1 | AP18: =IF('Non Federal Detail'!$AC18='Non Federal Detail'!$AJ18, 1,0) -> 1 | AQ18: =SUM(I18:J18,P18:Q18,W18:X18,AD18:AE18,AK18:AL18) -> 0
D19: 0 | H19: =IF(E19>0,E19/12,IF(F19>0,F19/9,0))+G19/9 -> 0 | I19: ='Non Federal Detail'!$C19*'Non Federal Detail'!$H19 -> 0 | J19: =IFERROR(VLOOKUP('Non Federal Detail'!$B19, Table3[#All], 3, 0)*'Non Federal Detail'!$I19, 0) -> 0 | K19: ='Non Federal Detail'!$C19*(1+'Non Federal Detail'!$D19) -> 0 | O19: =IF(L19>0,L19/12,IF(M19>0,M19/9,0))+N19/9 -> 0 | P19: ='Non Federal Detail'!$K19*'Non Federal Detail'!$O19 -> 0 | Q19: =IFERROR(VLOOKUP('Non Federal Detail'!$B19, Table3[#All], 3, 0)*'Non Federal Detail'!$P19, 0) -> 0 | R19: ='Non Federal Detail'!$K19*(1+'Non Federal Detail'!$D19) -> 0 | V19: =IF(S19>0,S19/12,IF(T19>0,T19/9,0))+U19/9 -> 0 | W19: ='Non Federal Detail'!$R19*'Non Federal Detail'!$V19 -> 0 | X19: =IFERROR(VLOOKUP('Non Federal Detail'!$B19, Table3[#All], 3, 0)*'Non Federal Detail'!$W19, 0) -> 0 | Y19: ='Non Federal Detail'!$R19*(1+'Non Federal Detail'!$D19) -> 0 | AC19: =IF(Z19>0,Z19/12,IF(AA19>0,AA19/9,0))+AB19/9 -> 0 | AD19: ='Non Federal Detail'!$Y19*'Non Federal Detail'!$AC19 -> 0 | AE19: =IFERROR(VLOOKUP('Non Federal Detail'!$B19, Table3[#All], 3, 0)*'Non Federal Detail'!$AD19, 0) -> 0 | AF19: ='Non Federal Detail'!$Y19*(1+'Non Federal Detail'!$D19) -> 0 | AJ19: =IF(AG19>0,AG19/12,IF(AH19>0,AH19/9,0))+AI19/9 -> 0 | AK19: ='Non Federal Detail'!$AF19*'Non Federal Detail'!$AJ19 -> 0 | AL19: =IFERROR(VLOOKUP('Non Federal Detail'!$B19, Table3[#All], 3, 0)*'Non Federal Detail'!$AK19, 0) -> 0 | AM19: =IF('Non Federal Detail'!$H19='Non Federal Detail'!$O19, 1,0) -> 1 | AN19: =IF('Non Federal Detail'!$O19='Non Federal Detail'!$V19, 1,0) -> 1 | AO19: =IF('Non Federal Detail'!$V19='Non Federal Detail'!$AC19, 1,0) -> 1 | AP19: =IF('Non Federal Detail'!$AC19='Non Federal Detail'!$AJ19, 1,0) -> 1 | AQ19: =SUM(I19:J19,P19:Q19,W19:X19,AD19:AE19,AK19:AL19) -> 0
D20: 0 | H20: =IF(E20>0,E20/12,IF(F20>0,F20/9,0))+G20/9 -> 0 | I20: ='Non Federal Detail'!$C20*'Non Federal Detail'!$H20 -> 0 | J20: =IFERROR(VLOOKUP('Non Federal Detail'!$B20, Table3[#All], 3, 0)*'Non Federal Detail'!$I20, 0) -> 0 | K20: ='Non Federal Detail'!$C20*(1+'Non Federal Detail'!$D20) -> 0 | O20: =IF(L20>0,L20/12,IF(M20>0,M20/9,0))+N20/9 -> 0 | P20: ='Non Federal Detail'!$K20*'Non Federal Detail'!$O20 -> 0 | Q20: =IFERROR(VLOOKUP('Non Federal Detail'!$B20, Table3[#All], 3, 0)*'Non Federal Detail'!$P20, 0) -> 0 | R20: ='Non Federal Detail'!$K20*(1+'Non Federal Detail'!$D20) -> 0 | V20: =IF(S20>0,S20/12,IF(T20>0,T20/9,0))+U20/9 -> 0 | W20: ='Non Federal Detail'!$R20*'Non Federal Detail'!$V20 -> 0 | X20: =IFERROR(VLOOKUP('Non Federal Detail'!$B20, Table3[#All], 3, 0)*'Non Federal Detail'!$W20, 0) -> 0 | Y20: ='Non Federal Detail'!$R20*(1+'Non Federal Detail'!$D20) -> 0 | AC20: =IF(Z20>0,Z20/12,IF(AA20>0,AA20/9,0))+AB20/9 -> 0 | AD20: ='Non Federal Detail'!$Y20*'Non Federal Detail'!$AC20 -> 0 | AE20: =IFERROR(VLOOKUP('Non Federal Detail'!$B20, Table3[#All], 3, 0)*'Non Federal Detail'!$AD20, 0) -> 0 | AF20: ='Non Federal Detail'!$Y20*(1+'Non Federal Detail'!$D20) -> 0 | AJ20: =IF(AG20>0,AG20/12,IF(AH20>0,AH20/9,0))+AI20/9 -> 0 | AK20: ='Non Federal Detail'!$AF20*'Non Federal Detail'!$AJ20 -> 0 | AL20: =IFERROR(VLOOKUP('Non Federal Detail'!$B20, Table3[#All], 3, 0)*'Non Federal Detail'!$AK20, 0) -> 0 | AM20: =IF('Non Federal Detail'!$H20='Non Federal Detail'!$O20, 1,0) -> 1 | AN20: =IF('Non Federal Detail'!$O20='Non Federal Detail'!$V20, 1,0) -> 1 | AO20: =IF('Non Federal Detail'!$V20='Non Federal Detail'!$AC20, 1,0) -> 1 | AP20: =IF('Non Federal Detail'!$AC20='Non Federal Detail'!$AJ20, 1,0) -> 1 | AQ20: =SUM(I20:J20,P20:Q20,W20:X20,AD20:AE20,AK20:AL20) -> 0
D21: 0 | H21: =IF(E21>0,E21/12,IF(F21>0,F21/9,0))+G21/9 -> 0 | I21: ='Non Federal Detail'!$C21*'Non Federal Detail'!$H21 -> 0 | J21: =IFERROR(VLOOKUP('Non Federal Detail'!$B21, Table3[#All], 3, 0)*'Non Federal Detail'!$I21, 0) -> 0 | K21: ='Non Federal Detail'!$C21*(1+'Non Federal Detail'!$D21) -> 0 | O21: =IF(L21>0,L21/12,IF(M21>0,M21/9,0))+N21/9 -> 0 | P21: ='Non Federal Detail'!$K21*'Non Federal Detail'!$O21 -> 0 | Q21: =IFERROR(VLOOKUP('Non Federal Detail'!$B21, Table3[#All], 3, 0)*'Non Federal Detail'!$P21, 0) -> 0 | R21: ='Non Federal Detail'!$K21*(1+'Non Federal Detail'!$D21) -> 0 | V21: =IF(S21>0,S21/12,IF(T21>0,T21/9,0))+U21/9 -> 0 | W21: ='Non Federal Detail'!$R21*'Non Federal Detail'!$V21 -> 0 | X21: =IFERROR(VLOOKUP('Non Federal Detail'!$B21, Table3[#All], 3, 0)*'Non Federal Detail'!$W21, 0) -> 0 | Y21: ='Non Federal Detail'!$R21*(1+'Non Federal Detail'!$D21) -> 0 | AC21: =IF(Z21>0,Z21/12,IF(AA21>0,AA21/9,0))+AB21/9 -> 0 | AD21: ='Non Federal Detail'!$Y21*'Non Federal Detail'!$AC21 -> 0 | AE21: =IFERROR(VLOOKUP('Non Federal Detail'!$B21, Table3[#All], 3, 0)*'Non Federal Detail'!$AD21, 0) -> 0 | AF21: ='Non Federal Detail'!$Y21*(1+'Non Federal Detail'!$D21) -> 0 | AJ21: =IF(AG21>0,AG21/12,IF(AH21>0,AH21/9,0))+AI21/9 -> 0 | AK21: ='Non Federal Detail'!$AF21*'Non Federal Detail'!$AJ21 -> 0 | AL21: =IFERROR(VLOOKUP('Non Federal Detail'!$B21, Table3[#All], 3, 0)*'Non Federal Detail'!$AK21, 0) -> 0 | AM21: =IF('Non Federal Detail'!$H21='Non Federal Detail'!$O21, 1,0) -> 1 | AN21: =IF('Non Federal Detail'!$O21='Non Federal Detail'!$V21, 1,0) -> 1 | AO21: =IF('Non Federal Detail'!$V21='Non Federal Detail'!$AC21, 1,0) -> 1 | AP21: =IF('Non Federal Detail'!$AC21='Non Federal Detail'!$AJ21, 1,0) -> 1 | AQ21: =SUM(I21:J21,P21:Q21,W21:X21,AD21:AE21,AK21:AL21) -> 0
D22: 0 | H22: =IF(E22>0,E22/12,IF(F22>0,F22/9,0))+G22/9 -> 0 | I22: ='Non Federal Detail'!$C22*'Non Federal Detail'!$H22 -> 0 | J22: =IFERROR(VLOOKUP('Non Federal Detail'!$B22, Table3[#All], 3, 0)*'Non Federal Detail'!$I22, 0) -> 0 | K22: ='Non Federal Detail'!$C22*(1+'Non Federal Detail'!$D22) -> 0 | O22: =IF(L22>0,L22/12,IF(M22>0,M22/9,0))+N22/9 -> 0 | P22: ='Non Federal Detail'!$K22*'Non Federal Detail'!$O22 -> 0 | Q22: =IFERROR(VLOOKUP('Non Federal Detail'!$B22, Table3[#All], 3, 0)*'Non Federal Detail'!$P22, 0) -> 0 | R22: ='Non Federal Detail'!$K22*(1+'Non Federal Detail'!$D22) -> 0 | V22: =IF(S22>0,S22/12,IF(T22>0,T22/9,0))+U22/9 -> 0 | W22: ='Non Federal Detail'!$R22*'Non Federal Detail'!$V22 -> 0 | X22: =IFERROR(VLOOKUP('Non Federal Detail'!$B22, Table3[#All], 3, 0)*'Non Federal Detail'!$W22, 0) -> 0 | Y22: ='Non Federal Detail'!$R22*(1+'Non Federal Detail'!$D22) -> 0 | AC22: =IF(Z22>0,Z22/12,IF(AA22>0,AA22/9,0))+AB22/9 -> 0 | AD22: ='Non Federal Detail'!$Y22*'Non Federal Detail'!$AC22 -> 0 | AE22: =IFERROR(VLOOKUP('Non Federal Detail'!$B22, Table3[#All], 3, 0)*'Non Federal Detail'!$AD22, 0) -> 0 | AF22: ='Non Federal Detail'!$Y22*(1+'Non Federal Detail'!$D22) -> 0 | AJ22: =IF(AG22>0,AG22/12,IF(AH22>0,AH22/9,0))+AI22/9 -> 0 | AK22: ='Non Federal Detail'!$AF22*'Non Federal Detail'!$AJ22 -> 0 | AL22: =IFERROR(VLOOKUP('Non Federal Detail'!$B22, Table3[#All], 3, 0)*'Non Federal Detail'!$AK22, 0) -> 0 | AM22: =IF('Non Federal Detail'!$H22='Non Federal Detail'!$O22, 1,0) -> 1 | AN22: =IF('Non Federal Detail'!$O22='Non Federal Detail'!$V22, 1,0) -> 1 | AO22: =IF('Non Federal Detail'!$V22='Non Federal Detail'!$AC22, 1,0) -> 1 | AP22: =IF('Non Federal Detail'!$AC22='Non Federal Detail'!$AJ22, 1,0) -> 1 | AQ22: =SUM(I22:J22,P22:Q22,W22:X22,AD22:AE22,AK22:AL22) -> 0
