Workbook
Name Fringe: Table37[#All]
Name Fringe: Table3[#All]
Name Month: #REF!
Name Month: #REF!
Name Month: #REF!
Name MonthAppointment: #REF!
Name MonthAppointment: #REF!
Name MonthAppointment: #REF!
Name Months: #REF!
Name Months: #REF!
Name RoleCategory: #REF!
Name RoleCategory: #REF!
Name RoleCategory: #REF!

Sheet FEDERAL
A1: PI Name: | B1: Bob | I1: complete blue fields only, please! | K1: FEDERAL
A2: Department Submitting Proposal: | B2: Photonics Center
A3: Budget Preparer: | B3: Sue | E3: Fringe Rates
A4: Proposal Title: | B4: Really long name of something that is very complicated and scientitfic or something | E4: Professional | F4: 0.27
A5: Start date: | B5: 42759 | E5: Support Staff | F5: 0.24
A6: End date: | B6: 44298 | E6: Student | F6: 0.088
A7: Federal Sponsor: | B7: NIH | E7: Other | F7: 0.2
A8: If sub, prime institution: | B8: N/A | S8: Effort Changes
J9: Year 1 | M9: Year 2 | N9: Year 3 | O9: Year 4 | P9: Year 5 | Q9: TOTAL request | R9: Merit? | S9: Year 2 | T9: Year 3 | U9: Year 4 | V9: Year 5
A10: Personnel | B10: Role | C10: Appointment | D10: Salary | E10: Effort | F10: Effort Months | G10: Salary Requested | H10: Fringe Rate | I10: Fringe Requested | J10: Effort | K10: total | L10: Effort
A11: =B1 -> Bob | B11: Professional | C11: 9 | D11: 120000 | E11: 0.15 | F11: =C11*E11 -> 1.35 | G11: =D11*E11 -> 18000 | H11: =VLOOKUP(B11, $E$4:$F$7, 2, 0) -> 0.27 | I11: =H11*G11 -> 4860 | K11: =G11+I11 -> 22860 | M11: =(D11*(1+R11))*(1+H11)*S11 -> 23088.6 | N11: =((D11*(1+R11))*(1+R11))*T11*(1+H11) -> 23319.486 | O11: =(((D11*(1+R11))*(1+R11))*(1+R11))*U11*(1+H11) -> 23552.681 | P11: =((((D11*(1+R11))*(1+R11))*(1+R11))*(1+R11))*V11*(1+H11) -> 23788.208 | Q11: =SUM(K11:P11) -> 116608.97 | R11: 0.01 | S11: =$E11 -> 0.15 | T11: =$E11 -> 0.15 | U11: =$E11 -> 0.15 | V11: =$E11 -> 0.15
B12: Professional | C12: 3 | D12: 85000 | E12: 0.2 | F12: =C12*E12 -> 0.6 | G12: =D12*E12 -> 17000 | H12: =VLOOKUP(B12, $E$4:$F$7, 2, 0) -> 0.27 | I12: =H12*G12 -> 4590 | K12: =G12+I12 -> 21590 | M12: =(D12*(1+R12))*(1+H12)*S12 -> 22021.8 | N12: =((D12*(1+R12))*(1+R12))*T12*(1+H12) -> 22462.236 | O12: =(((D12*(1+R12))*(1+R12))*(1+R12))*U12*(1+H12) -> 22911.481 | P12: =((((D12*(1+R12))*(1+R12))*(1+R12))*(1+R12))*V12*(1+H12) -> 23369.71 | Q12: =SUM(K12:P12) -> 112355.23 | R12: 0.02 | S12: =$E12 -> 0.2 | T12: =$E12 -> 0.2 | U12: =$E12 -> 0.2 | V12: =$E12 -> 0.2
B13: Support Staff | C13: 3 | D13: 50000 | E13: 0.3 | F13: =C13*E13 -> 0.9 | G13: =D13*E13 -> 15000 | H13: =VLOOKUP(B13, $E$4:$F$7, 2, 0) -> 0.24 | I13: =H13*G13 -> 3600 | K13: =G13+I13 -> 18600 | M13: =(D13*(1+R13))*(1+H13)*S13 -> 18786 | N13: =((D13*(1+R13))*(1+R13))*T13*(1+H13) -> 18973.86 | O13: =(((D13*(1+R13))*(1+R13))*(1+R13))*U13*(1+H13) -> 19163.599 | P13: =((((D13*(1+R13))*(1+R13))*(1+R13))*(1+R13))*V13*(1+H13) -> 19355.235 | Q13: =SUM(K13:P13) -> 94878.693 | R13: 0.01 | S13: =$E13 -> 0.3 | T13: =$E13 -> 0.3 | U13: =$E13 -> 0.3 | V13: =$E13 -> 0.3
B14: Student | C14: 12 | D14: 25000 | E14: 0.05 | F14: =C14*E14 -> 0.6 | G14: =D14*E14 -> 1250 | H14: =VLOOKUP(B14, $E$4:$F$7, 2, 0) -> 0.088 | I14: =H14*G14 -> 110 | K14: =G14+I14 -> 1360 | M14: =(D14*(1+R14))*(1+H14)*S14 -> 1373.6 | N14: =((D14*(1+R14))*(1+R14))*T14*(1+H14) -> 1387.336 | O14: =(((D14*(1+R14))*(1+R14))*(1+R14))*U14*(1+H14) -> 1401.2094 | P14: =((((D14*(1+R14))*(1+R14))*(1+R14))*(1+R14))*V14*(1+H14) -> 1415.2215 | Q14: =SUM(K14:P14) -> 6937.3668 | R14: 0.01 | S14: =$E14 -> 0.05 | T14: =$E14 -> 0.05 | U14: =$E14 -> 0.05 | V14: =$E14 -> 0.05
B15: Student | C15: 9 | D15: 40000 | E15: 0.05 | F15: =C15*E15 -> 0.45 | G15: =D15*E15 -> 2000 | H15: =VLOOKUP(B15, $E$4:$F$7, 2, 0) -> 0.088 | I15: =H15*G15 -> 176 | K15: =G15+I15 -> 2176 | M15: =(D15*(1+R15))*(1+H15)*S15 -> 2197.76 | N15: =((D15*(1+R15))*(1+R15))*T15*(1+H15) -> 2219.7376 | O15: =(((D15*(1+R15))*(1+R15))*(1+R15))*U15*(1+H15) -> 2241.935 | P15: =((((D15*(1+R15))*(1+R15))*(1+R15))*(1+R15))*V15*(1+H15) -> 2264.3543 | Q15: =SUM(K15:P15) -> 11099.787 | R15: 0.01 | S15: =$E15 -> 0.05 | T15: =$E15 -> 0.05 | U15: =$E15 -> 0.05 | V15: =$E15 -> 0.05
B16: Other | C16: 3 | D16: 10000 | E16: 0.25 | F16: =C16*E16 -> 0.75 | G16: =D16*E16 -> 2500 | H16: =VLOOKUP(B16, $E$4:$F$7, 2, 0) -> 0.2 | I16: =H16*G16 -> 500 | K16: =G16+I16 -> 3000 | M16: =(D16*(1+R16))*(1+H16)*S16 -> 3030 | N16: =((D16*(1+R16))*(1+R16))*T16*(1+H16) -> 3060.3 | O16: =(((D16*(1+R16))*(1+R16))*(1+R16))*U16*(1+H16) -> 3090.903 | P16: =((((D16*(1+R16))*(1+R16))*(1+R16))*(1+R16))*V16*(1+H16) -> 3121.812 | Q16: =SUM(K16:P16) -> 15303.015 | R16: 0.01 | S16: =$E16 -> 0.25 | T16: =$E16 -> 0.25 | U16: =$E16 -> 0.25 | V16: =$E16 -> 0.25
F17: =C17*E17 -> 0 | G17: =D17*E17 -> 0 | I17: =H17*G17 -> 0 | K17: =G17+I17 -> 0 | M17: =(D17*(1+R17))*(1+H17)*S17 -> 0 | N17: =((D17*(1+R17))*(1+R17))*T17*(1+H17) -> 0 | O17: =(((D17*(1+R17))*(1+R17))*(1+R17))*U17*(1+H17) -> 0 | P17: =((((D17*(1+R17))*(1+R17))*(1+R17))*(1+R17))*V17*(1+H17) -> 0 | Q17: =SUM(K17:P17) -> 0 | R17: 0.01 | S17: =$E17 -> 0 | T17: =$E17 -> 0 | U17: =$E17 -> 0 | V17: =$E17 -> 0
F18: =C18*E18 -> 0 | G18: =D18*E18 -> 0 | I18: =H18*G18 -> 0 | K18: =G18+I18 -> 0 | M18: =(D18*(1+R18))*(1+H18)*S18 -> 0 | N18: =((D18*(1+R18))*(1+R18))*T18*(1+H18) -> 0 | O18: =(((D18*(1+R18))*(1+R18))*(1+R18))*U18*(1+H18) -> 0 | P18: =((((D18*(1+R18))*(1+R18))*(1+R18))*(1+R18))*V18*(1+H18) -> 0 | Q18: =SUM(K18:P18) -> 0 | R18: 0 | S18: =$E18 -> 0 | T18: =$E18 -> 0 | U18: =$E18 -> 0 | V18: =$E18 -> 0
E20: Personnel total | G20: =SUM($G$11:$G$18) -> 55750 | I20: =SUM($I$11:$I$18) -> 13836 | K20: =SUM($K$11:$K$18) -> 69586 | M20: =SUM($M$11:$M$18) -> 70497.76 | N20: =SUM($N$11:$N$18) -> 71422.956 | O20: =SUM($O$11:$O$18) -> 72361.808 | P20: =SUM($P$11:$P$18) -> 73314.54 | Q20: =SUM($Q$11:$Q$18) -> 357183.06
F22: Details
E23: Consultants | K23: =SUM(K$24:K$25) -> 0 | M23: =SUM(M$24:M$25) -> 0 | N23: =SUM(N$24:N$25) -> 0 | O23: =SUM(O$24:O$25) -> 0 | P23: =SUM(P$24:P$25) -> 0 | Q23: =SUM(K23:P23) -> 0
E26: Equipment*-stand alone pieces over $5K | K26: =SUM(K$27:K$28) -> 0 | M26: =SUM(M$27:M$28) -> 0 | N26: =SUM(N$27:N$28) -> 0 | O26: =SUM(O$27:O$28) -> 0 | P26: =SUM(P$27:P$28) -> 0 | Q26: =SUM(K26:P26) -> 0
E29: Supplies | K29: =SUM(K$30:K$34) -> 0 | M29: =SUM(M$30:M$34) -> 0 | N29: =SUM(N$30:N$34) -> 0 | O29: =SUM(O$30:O$34) -> 0 | P29: =SUM(P$30:P$34) -> 0 | Q29: =SUM(K29:P29) -> 0
E35: Animal Costs | K35: =SUM(K$36:K$38) -> 0 | M35: =SUM(M$36:M$38) -> 0 | N35: =SUM(N$36:N$38) -> 0 | O35: =SUM(O$36:O$38) -> 0 | P35: =SUM(P$36:P$38) -> 0 | Q35: =SUM(K35:P35) -> 0
E39: Travel | K39: =SUM(K$40:K$41) -> 0 | M39: =SUM(M$40:M$41) -> 0 | N39: =SUM(N$40:N$41) -> 0 | O39: =SUM(O$40:O$41) -> 0 | P39: =SUM(P$40:P$41) -> 0 | Q39: =SUM(K39:P39) -> 0
F40: Domestic
F41: Foreign
E42: Patient Care costs* | K42: =SUM(K$43:K$44) -> 0 | M42: =SUM(M$43:M$44) -> 0 | N42: =SUM(N$43:N$44) -> 0 | O42: =SUM(O$43:O$44) -> 0 | P42: =SUM(P$43:P$44) -> 0 | Q42: =SUM(K42:P42) -> 0
E45: alterations and renovations* | K45: =SUM(K$46:K$47) -> 0 | M45: =SUM(M$46:M$47) -> 0 | N45: =SUM(N$46:N$47) -> 0 | O45: =SUM(O$46:O$47) -> 0 | P45: =SUM(P$46:P$47) -> 0 | Q45: =SUM(K45:P45) -> 0
R47: * Fields are excluded from MTDC except for first $25K of each subcontract
E48: other costs | K48: =SUM(K$49:K$54) -> 0 | M48: =SUM(M$49:M$54) -> 0 | N48: =SUM(N$49:N$54) -> 0 | O48: =SUM(O$49:O$54) -> 0 | P48: =SUM(P$49:P$54) -> 0 | Q48: =SUM(K48:P48) -> 0 | R48: Internal Calculation for sub amount in MTDC
R49: Year 1 | U49: Year 2 | X49: Year 3 | AA49: Year 4 | AD49: Year 5
R51: under 25K | S51: over 25K | U51: under 25K | V51: over 25K | X51: under 25K | Y51: over 25K | AA51: under 25K | AB51: over 25K | AD51: under 25K | AE51: over 25K
R53: under 25K | S53: over 25K | U53: under 25K | V53: over 25K | X53: under 25K | Y53: over 25K | AA53: under 25K | AB53: over 25K | AD53: under 25K | AE53: over 25K
R55: under 25K | S55: over 25K | U55: under 25K | V55: over 25K | X55: under 25K | Y55: over 25K | AA55: under 25K | AB55: over 25K | AD55: under 25K | AE55: over 25K
E56: Subcontracts*
E57: Subcontract A Direct Cost | Q57: =SUM(K57:P57) -> 0
E58: Subcontract A IDC | Q58: =SUM(K58:P58) -> 0
E59: Subcontract A total | K59: =$K$57+$K$58 -> 0 | M59: =$M$57+$M$58 -> 0 | N59: =$N$57+$N$58 -> 0 | O59: =$O$57+$O$58 -> 0 | P59: =$P$57+$P$58 -> 0 | Q59: =SUM(K59:P59) -> 0 | R59: =IF(K59<=25000,K59,IF(K59>25000,25000)) -> 0 | S59: =K59-R59 -> 0 | U59: =IF((SUM(K59:M59)<=25000),M59,IF(AND(SUM(K59:M59)>25000,K59<=25000),25000-SUM(K59),0)) -> 0 | V59: =M59-U59 -> 0 | X59: =IF((SUM(K59:N59)<=25000),N59,IF(AND(SUM(K59:N59)>25000,(SUM(K59:M59))<25000),25000-SUM(K59:M59),0)) -> 0 | Y59: =N59-X59 -> 0 | AA59: =IF((SUM(K59:O59)<=25000),O59,IF(AND(SUM(K59:O59)>25000,(SUM(K59:N59))<25000),25000-SUM(K59:N59),0)) -> 0 | AB59: =O59-AA59 -> 0 | AD59: =IF((SUM(K59:P59)<=25000),P59,IF(AND(SUM(K59:P59)>25000,(SUM(K59:O59))<25000),25000-SUM(K59:O59),0)) -> 0 | AE59: =P59-AD59 -> 0
E61: Subcontract B Direct Cost | Q61: =SUM(K61:P61) -> 0
E62: Subcontract B IDC | Q62: =SUM(K62:P62) -> 0
E63: Subcontact B total | K63: =$K$61+$K$62 -> 0 | M63: =$M$61+$M$62 -> 0 | N63: =$N$61+$N$62 -> 0 | O63: =$O$61+$O$62 -> 0 | P63: =$P$61+$P$62 -> 0 | Q63: =SUM(K63:P63) -> 0 | R63: =IF(K63<=25000,K63,IF(K63>25000,25000)) -> 0 | S63: =K63-R63 -> 0 | U63: =IF((SUM(K63:M63)<=25000),M63,IF(AND(SUM(K63:M63)>25000,K63<=25000),25000-SUM(K63),0)) -> 0 | V63: =M63-U63 -> 0 | X63: =IF((SUM(K63:N63)<=25000),N63,IF(AND(SUM(K63:N63)>25000,(SUM(K63:M63))<25000),25000-SUM(K63:M63),0)) -> 0 | Y63: =N63-X63 -> 0 | AA63: =IF((SUM(K63:O63)<=25000),O63,IF(AND(SUM(K63:O63)>25000,(SUM(K63:N63))<25000),25000-SUM(K63:N63),0)) -> 0 | AB63: =O63-AA63 -> 0 | AD63: =IF((SUM(K63:P63)<=25000),P63,IF(AND(SUM(K63:P63)>25000,(SUM(K63:O63))<25000),25000-SUM(K63:O63),0)) -> 0 | AE63: =P63-AD63 -> 0
E65: Subcontract C Direct Cost | Q65: =SUM($K$65:$P$65) -> 0
E66: Subcontract C IDC | Q66: =SUM($K$66:$P$66) -> 0
E67: Subcontact C total | K67: =$K$65+$K$66 -> 0 | M67: =$M$65+$M$66 -> 0 | N67: =$N$65+$N$66 -> 0 | O67: =$O$65+$O$66 -> 0 | P67: =$P$65+$P$66 -> 0 | Q67: =SUM($K$67:$P$67) -> 0 | R67: =IF(K67<=25000,K67,IF(K67>25000,25000)) -> 0 | S67: =K67-R67 -> 0 | U67: =IF((SUM(K67:M67)<=25000),M67,IF(AND(SUM(K67:M67)>25000,K67<=25000),25000-SUM(K67),0)) -> 0 | V67: =M67-U67 -> 0 | X67: =IF((SUM(K67:N67)<=25000),N67,IF(AND(SUM(K67:N67)>25000,(SUM(K67:M67))<25000),25000-SUM(K67:M67),0)) -> 0 | Y67: =N67-X67 -> 0 | AA67: =IF((SUM(K67:O67)<=25000),O67,IF(AND(SUM(K67:O67)>25000,(SUM(K67:N67))<25000),25000-SUM(K67:N67),0)) -> 0 | AB67: =O67-AA67 -> 0 | AD67: =IF((SUM(K67:P67)<=25000),P67,IF(AND(SUM(K67:P67)>25000,(SUM(K67:O67))<25000),25000-SUM(K67:O67),0)) -> 0 | AE67: =P67-AD67 -> 0
E69: Subcontract total DIRECT costs | K69: =+K57+K61+K65 -> 0 | M69: =+M57+M61+M65 -> 0 | N69: =+N57+N61+N65 -> 0 | O69: =+O57+O61+O65 -> 0 | P69: =+P57+P61+P65 -> 0 | Q69: =SUM($K$69:$P$69) -> 0 | R69: =SUM(R59:R67) -> 0 | S69: =SUM(S59:S67) -> 0 | U69: =SUM(U59:U67) -> 0 | V69: =SUM(V59:V67) -> 0 | X69: =SUM(X59:X67) -> 0 | Y69: =SUM(Y59:Y67) -> 0 | AA69: =SUM(AA59:AA67) -> 0 | AB69: =SUM(AB59:AB67) -> 0 | AD69: =SUM(AD59:AD67) -> 0 | AE69: =SUM(AE59:AE67) -> 0
E70: Subcontract total INDIRECT costs | K70: =+K58+K62+K66 -> 0 | M70: =+M58+M62+M66 -> 0 | N70: =+N58+N62+N66 -> 0 | O70: =+O58+O62+O66 -> 0 | P70: =+P58+P62+P66 -> 0 | Q70: =SUM($K$70:$P$70) -> 0
A71: Input F&A Rates and number of months at each rate | E71: Subcontract TOTAL costs | K71: =+K69+K70 -> 0 | M71: =+M69+M70 -> 0 | N71: =+N69+N70 -> 0 | O71: =+O69+O70 -> 0 | P71: =+P69+P70 -> 0 | Q71: =SUM($K$71:$P$71) -> 0
A72: F&A Chart
A73: Year 1 | B73: Year 2 | C73: Year 3 | D73: Year 4 | E73: Year 5 | G73: TOTAL DIRECT Costs minus sub F&A | K73: =$K$69+$K$48+$K$45+$K$42+$K$39+$K$29+$K$35+$K$26+$K$23+$K$20 -> 69586 | M73: =$M$69+$M$48+$M$45+$M$42+$M$39+$M$29+$M$35+$M$26+$M$23+$M$20 -> 70497.76 | N73: =$N$69+$N$48+$N$45+$N$42+$N$39+$N$29+$N$35+$N$26+$N$23+$N$20 -> 71422.956 | O73: =$O$69+$O$48+$O$45+$O$42+$O$39+$O$29+$O$35+$O$26+$O$23+$O$20 -> 72361.808 | P73: =$P$69+$P$48+$P$45+$P$42+$P$39+$P$29+$P$35+$P$26+$P$23+$P$20 -> 73314.54 | Q73: =SUM($K$73:$P$73) -> 357183.06
A74: 0.637 | B74: 0.645 | C74: 0.65 | D74: 0.65 | E74: 0.65 | G74: TOTAL DIRECT COSTS with sub F&A | K74: =$K$73+$K$70 -> 69586 | M74: =$M$73+$M$70 -> 70497.76 | N74: =$N$73+$N$70 -> 71422.956 | O74: =$O$73+$O$70 -> 72361.808 | P74: =$P$73+$P$70 -> 73314.54 | Q74: =SUM($K$74:$P$74) -> 357183.06
A75: 1 | B75: 1 | C75: 1 | D75: 1 | E75: 1 | G75: MTDC | K75: =$K$20+$K$23+$K$29+$K$35+$K$39+$K$48+$R$69 -> 69586 | M75: =$M$20+$M$23+$M$29+$M$35+$M$39+$M$48+$U$69 -> 70497.76 | N75: =$N$20+$N$23+$N$29+$N$35+$N$39+$N$48+$X$69 -> 71422.956 | O75: =$O$20+$O$23+$O$29+$O$35+$O$39+$O$48+$AA$69 -> 72361.808 | P75: =$P$20+$P$23+$P$29+$P$35+$P$39+$P$48+$AD$69 -> 73314.54 | Q75: =SUM($K$75:$P$75) -> 357183.06
A76: 0.645 | B76: 0.65 | C76: 0.65 | D76: 0.65 | E76: 0.65 | G76: IDC | K76: =(K20+K23+K29+K35+K39+K48+R69)/12*A75*A74+(K20+K23+K29+K35+K39+K48+R69)/12*A77*A76 -> 44836.579 | M76: =(M20+M23+M29+M35+M39+M48+U69)/12*B75*B74+(M20+M23+M29+M35+M39+M48+U69)/12*B77*B76 -> 45794.17 | N76: =(N20+N23+N29+N35+N39+N48+X69)/12*C75*C74+(N20+N23+N29+N35+N39+N48+X69)/12*C77*C76 -> 46424.921 | O76: =(O20+O23+O29+O35+O39+O48+AA69)/12*D75*D74+(O20+O23+O29+O35+O39+O48+AA69)/12*D77*D76 -> 47035.175 | P76: =(P20+P23+P29+P35+P39+P48+AD69)/12*E75*E74+(P20+P23+P29+P35+P39+P48+AD69)/12*E77*E76 -> 47654.451 | Q76: =SUM($K$76:$P$76) -> 231745.3
A77: =12-A75 -> 11 | B77: =12-B75 -> 11 | C77: =12-C75 -> 11 | D77: =12-D75 -> 11 | E77: =12-E75 -> 11 | G77: TOTAL REQUEST | K77: =$K$76+$K$74 -> 114422.58 | M77: =$M$76+$M$74 -> 116291.93 | N77: =$N$76+$N$74 -> 117847.88 | O77: =$O$76+$O$74 -> 119396.98 | P77: =$P$76+$P$74 -> 120968.99 | Q77: =SUM($K$77:$P$77) -> 588928.36

Sheet Sheet1
A1: PI Name: | B1: Dave Davis | I1: Fringe Rates
A2: Department Submitting Proposal: | B2: Photonics Center | I2: Professional | J2: 0.27
A3: Budget Preparer: | B3: Sue | I3: Support Staff | J3: 0.24
A4: Proposal Title: | B4: Really long name of something that is very complicated and scientitfic or something | I4: Student | J4: 0.088
A5: Start date: | B5: 42759
A6: End date: | B6: 44298
A7: Federal Sponsor: | B7: NIH
A8: If sub, prime institution: | B8: N/A
D9: Year 1 | J9: Year 2 | M9: Year 3 | P9: Year 4 | S9: Year 5 | V9: Total Request
A10: Professional Staff | B10: Salary | C10: Merit | D10: Calendar Months | E10: Academic Months | F10: Summer Months | G10: Effort % | H10: Requested Salary | I10: Requested Fringe | J10: Effort % | K10: Requested Salary | L10: Requested Fringe | M10: Effort % | N10: Requested Salary | O10: Requested Fringe | P10: Effort % | Q10: Requested Salary | R10: Requested Fringe | S10: Effort % | T10: Requested Salary | U10: Requested Fringe | X10: Year 2 Change | Y10: Year 3 Change | Z10: Year 4 Change | AA10: Year 5 Change
A11: =B1 -> Dave Davis | B11: 140000 | C11: 0.03 | D11: 1.5 | E11: 0 | F11: 0 | G11: =SUM(D11:F11) / 12 -> 0.125 | H11: =G11*B11 -> 17500 | I11: =H11*$J$2 -> 4725 | J11: =G11 -> 0.125 | K11: =B11*(1+C11)*J11 -> 18025 | L11: =K11*$J$2 -> 4866.75 | M11: =G11 -> 0.125 | N11: =(B11*(1+C11)^2*M11) -> 18565.75 | O11: =N11*$J$2 -> 5012.7525 | P11: =G11 -> 0.125 | Q11: =B11*(1+C11)^3*P11 -> 19122.722 | R11: =Q11*$J$2 -> 5163.1351 | S11: =G11 -> 0.125 | T11: =B11*(1+C11)^4*S11 -> 19696.404 | U11: =T11*$J$2 -> 5318.0291 | V11: =SUM(H11:I11,K11:L11,N11:O11,Q11:R11,T11:U11) -> 117995.54 | X11: =IF(G11=J11, 1,0) -> 1 | Y11: =IF(G11=M11, 1,0) -> 1 | Z11: =IF(P11=G11, 1, 0) -> 1 | AA11: =IF(S11=G11, 1, 0) -> 1
A12: Danielle | B12: 140000 | C12: 0.03 | D12: 1.5 | E12: 0 | F12: 0 | G12: =SUM(D12:F12) / 12 -> 0.125 | H12: =G12*B12 -> 17500 | I12: =H12*$J$2 -> 4725 | J12: =G12 -> 0.125 | K12: =B12*(1+C12)*J12 -> 18025 | L12: =K12*$J$2 -> 4866.75 | M12: =G12 -> 0.125 | N12: =(B12*(1+C12)^2*M12) -> 18565.75 | O12: =N12*$J$2 -> 5012.7525 | P12: =G12 -> 0.125 | Q12: =B12*(1+C12)^3*P12 -> 19122.722 | R12: =Q12*$J$2 -> 5163.1351 | S12: 0.1 | T12: =B12*(1+C12)^4*S12 -> 15757.123 | U12: =T12*$J$2 -> 4254.4233 | V12: =SUM(H12:I12,K12:L12,N12:O12,Q12:R12,T12:U12) -> 112992.66 | X12: =IF(G12=J12, 1,0) -> 1 | Y12: =IF(G12=M12, 1,0) -> 1 | Z12: =IF(P12=G12, 1, 0) -> 1 | AA12: =IF(S12=G12, 1, 0) -> 0
A13: Donna | B13: 90000 | C13: 0.03 | D13: 0 | E13: 3 | F13: 1 | G13: =SUM(D13:F13) / 12 -> 0.33333333 | H13: =G13*B13 -> 30000 | I13: =H13*$J$2 -> 8100 | J13: =G13 -> 0.33333333 | K13: =B13*(1+C13)*J13 -> 30900 | L13: =K13*$J$2 -> 8343 | M13: =G13 -> 0.33333333 | N13: =(B13*(1+C13)^2*M13) -> 31827 | O13: =N13*$J$2 -> 8593.29 | P13: =G13 -> 0.33333333 | Q13: =B13*(1+C13)^3*P13 -> 32781.81 | R13: =Q13*$J$2 -> 8851.0887 | S13: 0 | T13: =B13*(1+C13)^4*S13 -> 0 | U13: =T13*$J$2 -> 0 | V13: =SUM(H13:I13,K13:L13,N13:O13,Q13:R13,T13:U13) -> 159396.19 | X13: =IF(G13=J13, 1,0) -> 1 | Y13: =IF(G13=M13, 1,0) -> 1 | Z13: =IF(P13=G13, 1, 0) -> 1 | AA13: =IF(S13=G13, 1, 0) -> 0
I14: =H14*$J$2 -> 0 | J14: =G14 -> 0 | K14: =B14*(1+C14)*J14 -> 0 | L14: =K14*$J$2 -> 0 | M14: =G14 -> 0 | N14: =(B14*(1+C14)^2*M14) -> 0 | O14: =N14*$J$2 -> 0 | P14: =G14 -> 0 | Q14: =B14*(1+C14)^3*P14 -> 0 | R14: =Q14*$J$2 -> 0 | S14: =G14 -> 0 | T14: =B14*(1+C14)^4*S14 -> 0 | U14: =T14*$J$2 -> 0 | V14: =SUM(H14:I14,K14:L14,N14:O14,Q14:R14,T14:U14) -> 0 | X14: =IF(G14=J14, 1,0) -> 1 | Y14: =IF(G14=M14, 1,0) -> 1 | Z14: =IF(P14=G14, 1, 0) -> 1 | AA14: =IF(S14=G14, 1, 0) -> 1
A15: Support Staff | X15: =IF(G15=J15, 1,0) -> 1 | Y15: =IF(G15=M15, 1,0) -> 1 | Z15: =IF(P15=G15, 1, 0) -> 1 | AA15: =IF(S15=G15, 1, 0) -> 1
A16: Danny | B16: 45000 | C16: 0.03 | D16: 0 | E16: 0.75 | F16: 3 | G16: =SUM(D16:F16) / 12 -> 0.3125 | H16: =G16*B16 -> 14062.5 | I16: =H16*$J$3 -> 3375 | J16: 0.5 | K16: =B16*(1+C16)*J16 -> 23175 | L16: =K16*$J$3 -> 5562 | M16: 0.5 | N16: =(B16*(1+C16)^2*M16) -> 23870.25 | O16: =N16*$J$3 -> 5728.86 | P16: 0.1 | Q16: =B16*(1+C16)^3*P16 -> 4917.2715 | R16: =Q16*$J$3 -> 1180.1452 | S16: 0.25 | T16: =B16*(1+C16)^4*S16 -> 12661.974 | U16: =T16*$J$3 -> 3038.8738 | V16: =SUM(H16:I16,K16:L16,N16:O16,Q16:R16,T16:U16) -> 97571.875 | X16: =IF(G16=J16, 1,0) -> 0 | Y16: =IF(G16=M16, 1,0) -> 0 | Z16: =IF(P16=G16, 1, 0) -> 0 | AA16: =IF(S16=G16, 1, 0) -> 0
A17: Dylan | B17: 40000 | C17: 0.03 | D17: 0 | E17: 3 | F17: 3 | G17: =SUM(D17:F17) / 12 -> 0.5 | H17: =G17*B17 -> 20000 | I17: =H17*$J$3 -> 4800 | J17: =G17 -> 0.5 | K17: =B17*(1+C17)*J17 -> 20600 | L17: =K17*$J$3 -> 4944 | M17: =G17 -> 0.5 | N17: =(B17*(1+C17)^2*M17) -> 21218 | O17: =N17*$J$3 -> 5092.32 | P17: =G17 -> 0.5 | Q17: =B17*(1+C17)^3*P17 -> 21854.54 | R17: =Q17*$J$3 -> 5245.0896 | S17: 0 | T17: =B17*(1+C17)^4*S17 -> 0 | U17: =T17*$J$3 -> 0 | V17: =SUM(H17:I17,K17:L17,N17:O17,Q17:R17,T17:U17) -> 103753.95 | X17: =IF(G17=J17, 1,0) -> 1 | Y17: =IF(G17=M17, 1,0) -> 1 | Z17: =IF(P17=G17, 1, 0) -> 1 | AA17: =IF(S17=G17, 1, 0) -> 0
A18: Debbie | B18: 75000 | C18: 0.03 | D18: 0 | E18: 3 | F18: 3 | G18: =SUM(D18:F18) / 12 -> 0.5 | H18: =G18*B18 -> 37500 | I18: =H18*$J$3 -> 9000 | J18: =G18 -> 0.5 | K18: =B18*(1+C18)*J18 -> 38625 | L18: =K18*$J$3 -> 9270 | M18: =G18 -> 0.5 | N18: =(B18*(1+C18)^2*M18) -> 39783.75 | O18: =N18*$J$3 -> 9548.1 | P18: =G18 -> 0.5 | Q18: =B18*(1+C18)^3*P18 -> 40977.262 | R18: =Q18*$J$3 -> 9834.543 | S18: =G18 -> 0.5 | T18: =B18*(1+C18)^4*S18 -> 42206.58 | U18: =T18*$J$3 -> 10129.579 | V18: =SUM(H18:I18,K18:L18,N18:O18,Q18:R18,T18:U18) -> 246874.82 | X18: =IF(G18=J18, 1,0) -> 1 | Y18: =IF(G18=M18, 1,0) -> 1 | Z18: =IF(P18=G18, 1, 0) -> 1 | AA18: =IF(S18=G18, 1, 0) -> 1
C19: 0.03 | G19: =SUM(D19:F19) / 12 -> 0 | H19: =G19*B19 -> 0 | I19: =H19*$J$3 -> 0 | J19: =G19 -> 0 | K19: =B19*(1+C19)*J19 -> 0 | L19: =K19*$J$2 -> 0 | M19: =G19 -> 0 | N19: =(B19*(1+C19)^2*M19) -> 0 | O19: =N19*$J$3 -> 0 | P19: =G19 -> 0 | Q19: =B19*(1+C19)^3*P19 -> 0 | R19: =Q19*$J$3 -> 0 | S19: =G19 -> 0 | T19: =B19*(1+C19)^4*S19 -> 0 | U19: =T19*$J$3 -> 0 | V19: =SUM(H19:I19,K19:L19,N19:O19,Q19:R19,T19:U19) -> 0 | X19: =IF(G19=J19, 1,0) -> 1 | Y19: =IF(G19=M19, 1,0) -> 1 | Z19: =IF(P19=G19, 1, 0) -> 1 | AA19: =IF(S19=G19, 1, 0) -> 1
A20: Students | X20: =IF(G20=J20, 1,0) -> 1 | Y20: =IF(G20=M20, 1,0) -> 1 | Z20: =IF(P20=G20, 1, 0) -> 1 | AA20: =IF(S20=G20, 1, 0) -> 1
A21: Dustin | B21: 25000 | C21: 0 | E21: 1 | G21: =SUM(D21:F21) / 12 -> 0.083333333 | H21: =G21*B21 -> 2083.3333 | I21: =H21*$J$4 -> 183.33333 | J21: =G21 -> 0.083333333 | K21: =B21*(1+C21)*J21 -> 2083.3333 | L21: =K21*$J$4 -> 183.33333 | M21: =G21 -> 0.083333333 | N21: =(B21*(1+C21)^2*M21) -> 2083.3333 | O21: =N21*$J$4 -> 183.33333 | P21: 0.5 | Q21: =B21*(1+C21)^3*P21 -> 12500 | R21: =Q21*$J$4 -> 1100 | S21: 0.5 | T21: =B21*(1+C21)^4*S21 -> 12500 | U21: =T21*$J$4 -> 1100 | V21: =SUM(H21:I21,K21:L21,N21:O21,Q21:R21,T21:U21) -> 34000 | X21: =IF(G21=J21, 1,0) -> 1 | Y21: =IF(G21=M21, 1,0) -> 1 | Z21: =IF(P21=G21, 1, 0) -> 0 | AA21: =IF(S21=G21, 1, 0) -> 0
A22: Dawrin | B22: 30000 | C22: 0 | F22: 3 | G22: =SUM(D22:F22) / 12 -> 0.25 | H22: =G22*B22 -> 7500 | I22: =H22*$J$4 -> 660 | J22: =G22 -> 0.25 | K22: =B22*(1+C22)*J22 -> 7500 | L22: =K22*$J$4 -> 660 | M22: =G22 -> 0.25 | N22: =(B22*(1+C22)^2*M22) -> 7500 | O22: =N22*$J$4 -> 660 | P22: =G22 -> 0.25 | Q22: =B22*(1+C22)^3*P22 -> 7500 | R22: =Q22*$J$4 -> 660 | S22: =G22 -> 0.25 | T22: =B22*(1+C22)^4*S22 -> 7500 | U22: =T22*$J$4 -> 660 | V22: =SUM(H22:I22,K22:L22,N22:O22,Q22:R22,T22:U22) -> 40800 | X22: =IF(G22=J22, 1,0) -> 1 | Y22: =IF(G22=M22, 1,0) -> 1 | Z22: =IF(P22=G22, 1, 0) -> 1 | AA22: =IF(S22=G22, 1, 0) -> 1
A23: Subtotals | H23: =SUM(H11:H22) -> 146145.83 | I23: =SUM(I11:I22) -> 35568.333 | K23: =SUM(K11:K22) -> 158933.33 | L23: =SUM(L11:L22) -> 38695.833 | N23: =SUM(N11:N22) -> 163413.83 | O23: =SUM(O11:O22) -> 39831.408 | Q23: =SUM(Q11:Q22) -> 158776.33 | R23: =SUM(R11:R22) -> 37197.137 | T23: =SUM(T11:T22) -> 110322.08 | U23: =SUM(U11:U22) -> 24500.906 | V23: =SUM(H23:I23,K23:L23,N23:O23,Q23:R23,T23:U23) -> 913385.03
V24: =SUM(H24:I24,K24:L24,N24:O24,Q24:R24,T24:U24) -> 0 | AB24: =SUM(H24:U24) -> 0
A25: Personnel Totals | I25: =SUM(H23:I23) -> 181714.17 | L25: =SUM(K23:L23) -> 197629.17 | O25: =SUM(N23:O23) -> 203245.24 | R25: =SUM(Q23:R23) -> 195973.47 | U25: =SUM(T23:U23) -> 134822.99 | V25: =SUM(H25:I25,K25:L25,N25:O25,Q25:R25,T25:U25) -> 913385.03
A26: Consultants | D26: Conultant A | I26: 3000
D27: The Great Consulting Group | I27: 25000
D28: The best consultants | I28: 0 | K28: 1000 | N28: 10000
D29: Annual Total | I29: =SUM(I26:I28) -> 28000 | K29: =SUM(K26:L28) -> 1000 | N29: =SUM(N26:O28) -> 10000 | Q29: =SUM(Q26:R28) -> 0 | T29: =SUM(T26:U28) -> 0 | V29: =SUM(I29:U29) -> 39000
A30: Equipment (stand alone pieces>$5k) | D30: Thing A | K30: 20000
D31: Thing B | N31: 13000
D33: Annual Total | I33: =SUM(I30:I32) -> 0 | K33: =SUM(K30:K32) -> 20000 | L33: =SUM(L30:L32) -> 0 | N33: =SUM(N30:N32) -> 13000 | O33: =SUM(O30:O32) -> 0 | Q33: =SUM(Q30:R32) -> 0 | T33: =SUM(T30:U32) -> 0 | V33: =SUM(I33:U33) -> 33000
A34: Supplies | D34: Supplies A | I34: 500 | K34: 500 | N34: 500 | Q34: 500 | T34: 500
D35: Supplies B | I35: 100 | K35: 500 | N35: 100 | Q35: 200 | T35: 200
D36: Supplies C | I36: 1500 | K36: 200 | N36: 100 | Q36: 0 | T36: 0
D39: Annual Total | I39: =SUM(I34:I38) -> 2100 | K39: =SUM(K34:L38) -> 1200 | N39: =SUM(N34:O38) -> 700 | Q39: =SUM(Q34:R38) -> 700 | T39: =SUM(T34:U38) -> 700 | V39: =SUM(I39:U39) -> 5400
A40: Animal Costs | D40: Animal 1 | N40: 1000
D41: Animal 2
D42: Annual Total | I42: =SUM(I40:I41) -> 0 | K42: =SUM(K40:L41) -> 0 | N42: =SUM(N40:O41) -> 1000 | Q42: =SUM(Q40:R41) -> 0 | T42: =SUM(T40:U41) -> 0 | V42: =SUM(I42:U42) -> 1000
A43: Travel | D43: Domestic | I43: 1000 | K43: 500 | Q43: 300
D44: Foreign | N44: 500
D45: Annual Total | I45: =SUM(I43:I44) -> 1000 | K45: =SUM(K43:L44) -> 500 | N45: =SUM(N43:O44) -> 500 | Q45: =SUM(Q43:R44) -> 300 | T45: =SUM(T43:U44) -> 0 | V45: =SUM(I45:U45) -> 2300
A46: Patient Care costs* | I46: 250 | K46: 750
I47: 500
I48: =SUM(I46:I47) -> 750 | K48: =SUM(K46:L47) -> 750 | L48: =SUM(K46:L47) -> 750
A49: Alterations and Renovations* | D49: Reno 1 | I49: 20000 | K49: 200 | N49: 100 | T49: 250
D50: reno 2 | I50: 1200 | K50: 600 | T50: 500
D51: Annual Total | I51: =SUM(I49:I50) -> 21200 | K51: =SUM(K49:L50) -> 800 | N51: =SUM(N49:O50) -> 100 | Q51: =SUM(Q49:R50) -> 0 | T51: =SUM(T49:U50) -> 750 | V51: =SUM(I51:U51) -> 22850
A52: Other Costs | D52: Other A | I52: 500 | K52: 500
D53: Other B | I53: 250 | K53: 250
D54: Other C | I54: 250 | N54: 300
D56: Annual Total | I56: =SUM(I52:I55) -> 1000 | K56: =SUM(K52:L55) -> 750 | N56: =SUM(N52:O55) -> 300 | Q56: =SUM(Q52:R55) -> 0 | T56: =SUM(T52:U55) -> 0 | V56: =SUM(I56:U56) -> 2050

Sheet Non Federal Budget Summary
A1: ='Non Federal Detail'!A1 -> PI Name: | B1: ='Non Federal Detail'!B1 -> 0 | C1: ='Non Federal Detail'!A4 -> Proposal Title: | D1: ='Non Federal Detail'!$B$4 -> 0 | F1: ='Non Federal Detail'!A6 -> Start date: | H1: ='Non Federal Detail'!B6 -> 0 | I1: ='Non Federal Detail'!C5 -> 0 | J1: ='Non Federal Detail'!A8 -> Federal Sponsor: | L1: ='Non Federal Detail'!B8 -> 0 | M1: ='Non Federal Detail'!#REF! -> #REF!
A2: ='Non Federal Detail'!A2 -> Department Submitting Proposal: | B2: ='Non Federal Detail'!B2 -> 0 | F2: ='Non Federal Detail'!A7 -> End date: | H2: ='Non Federal Detail'!B7 -> 0 | I2: ='Non Federal Detail'!C6 -> 0 | J2: ='Non Federal Detail'!A9 -> If sub, prime institution: | L2: ='Non Federal Detail'!B9 -> 0 | M2: ='Non Federal Detail'!C8 -> 0
A3: ='Non Federal Detail'!A3 -> Budget Preparer: | B3: ='Non Federal Detail'!B3 -> 0 | G3: PI Year 1 Effort | H3: ='Non Federal Detail'!$H$11 -> 0 | K3: Year 1 F&A Rate: | L3: ='Non Federal Detail'!H69 -> 0.65 | M3: =IF('Non Federal Detail'!H69<>'Non Federal Detail'!H70, 'Non Federal Detail'!H70, " ")
A4: Anticipate Cost Share?* | B4: No | D4: Year 1 | F4: Year 2 | H4: Year 3 | J4: Year 4 | L4: Year 5 | N4: Total Request
A5: *If cost-share, fill out federal cost-share tab | D5: Salary Request | E5: Fringe Request | F5: Salary Request | G5: Fringe Request | H5: Salary Request | I5: Fringe Request | J5: Salary Request | K5: Fringe Request | L5: Salary Request | M5: Fringe Request | N5: Salary | O5: Fringe
A6: Personnel | B6: Professional | D6: =SUMIF('Non Federal Detail'!$B$11:$AL$30, Table2[[#This Row],[Column1]], 'Non Federal Detail'!I$11:I$30) -> 0 | E6: =SUMIF('Non Federal Detail'!$B$11:$AL$30, Table2[[#This Row],[Column1]], 'Non Federal Detail'!J$11:J$30) -> 0 | F6: =SUMIF('Non Federal Detail'!$B$11:$AL$30, Table2[[#This Row],[Column1]], 'Non Federal Detail'!P$11:P$30) -> 0 | G6: =SUMIF('Non Federal Detail'!$B$11:$AL$30, Table2[[#This Row],[Column1]], 'Non Federal Detail'!Q$11:Q$30) -> 0 | H6: =SUMIF('Non Federal Detail'!$B$11:$AL$30, Table2[[#This Row],[Column1]], 'Non Federal Detail'!W$11:W$30) -> 0 | I6: =SUMIF('Non Federal Detail'!$B$11:$AL$30, Table2[[#This Row],[Column1]], 'Non Federal Detail'!X$11:X$30) -> 0 | J6: =SUMIF('Non Federal Detail'!$B$11:$AL$30, Table2[[#This Row],[Column1]], 'Non Federal Detail'!AD$11:AD$30) -> 0 | K6: =SUMIF('Non Federal Detail'!$B$11:$AL$30, Table2[[#This Row],[Column1]], 'Non Federal Detail'!AE$11:AE$30) -> 0 | L6: =SUMIF('Non Federal Detail'!$B$11:$AL$30, Table2[[#This Row],[Column1]], 'Non Federal Detail'!AK$11:AK$30) -> 0 | M6: =SUMIF('Non Federal Detail'!$B$11:$AL$30, Table2[[#This Row],[Column1]], 'Non Federal Detail'!AL$11:AL$30) -> 0 | N6: =SUM(Table2[[#This Row],[Column3]], Table2[[#This Row],[Column4]], Table2[[#This Row],[Column5]], Table2[[#This Row],[Column6]], Table2[[#This Row],[Column7]]) -> 0 | O6: =SUM(Table2[[#This Row],[Column9]],Table2[[#This Row],[Column10]],Table2[[#This Row],[Column11]],Table2[[#This Row],[Column12]],Table2[[#This Row],[Column8]]) -> 0
B7: Post Doc | D7: =SUMIF('Non Federal Detail'!$B$11:$AL$30, Table2[[#This Row],[Column1]], 'Non Federal Detail'!I$11:I$30) -> 0 | E7: =SUMIF('Non Federal Detail'!$B$11:$AL$30, Table2[[#This Row],[Column1]], 'Non Federal Detail'!J$11:J$30) -> 0 | F7: =SUMIF('Non Federal Detail'!$B$11:$AL$30, Table2[[#This Row],[Column1]], 'Non Federal Detail'!P$11:P$30) -> 0 | G7: =SUMIF('Non Federal Detail'!$B$11:$AL$30, Table2[[#This Row],[Column1]], 'Non Federal Detail'!Q$11:Q$30) -> 0 | H7: =SUMIF('Non Federal Detail'!$B$11:$AL$30, Table2[[#This Row],[Column1]], 'Non Federal Detail'!W$11:W$30) -> 0 | I7: =SUMIF('Non Federal Detail'!$B$11:$AL$30, Table2[[#This Row],[Column1]], 'Non Federal Detail'!X$11:X$30) -> 0 | J7: =SUMIF('Non Federal Detail'!$B$11:$AL$30, Table2[[#This Row],[Column1]], 'Non Federal Detail'!AD$11:AD$30) -> 0 | K7: =SUMIF('Non Federal Detail'!$B$11:$AL$30, Table2[[#This Row],[Column1]], 'Non Federal Detail'!AE$11:AE$30) -> 0 | L7: =SUMIF('Non Federal Detail'!$B$11:$AL$30, Table2[[#This Row],[Column1]], 'Non Federal Detail'!AK$11:AK$30) -> 0 | M7: =SUMIF('Non Federal Detail'!$B$11:$AL$30, Table2[[#This Row],[Column1]], 'Non Federal Detail'!AL$11:AL$30) -> 0 | N7: =SUM(Table2[[#This Row],[Column3]], Table2[[#This Row],[Column4]], Table2[[#This Row],[Column5]], Table2[[#This Row],[Column6]], Table2[[#This Row],[Column7]]) -> 0 | O7: =SUM(Table2[[#This Row],[Column9]],Table2[[#This Row],[Column10]],Table2[[#This Row],[Column11]],Table2[[#This Row],[Column12]],Table2[[#This Row],[Column8]]) -> 0
B8: Support Staff | D8: =SUMIF('Non Federal Detail'!$B$11:$AL$30, Table2[[#This Row],[Column1]], 'Non Federal Detail'!I$11:I$30) -> 0 | E8: =SUMIF('Non Federal Detail'!$B$11:$AL$30, Table2[[#This Row],[Column1]], 'Non Federal Detail'!J$11:J$30) -> 0 | F8: =SUMIF('Non Federal Detail'!$B$11:$AL$30, Table2[[#This Row],[Column1]], 'Non Federal Detail'!P$11:P$30) -> 0 | G8: =SUMIF('Non Federal Detail'!$B$11:$AL$30, Table2[[#This Row],[Column1]], 'Non Federal Detail'!Q$11:Q$30) -> 0 | H8: =SUMIF('Non Federal Detail'!$B$11:$AL$30, Table2[[#This Row],[Column1]], 'Non Federal Detail'!W$11:W$30) -> 0 | I8: =SUMIF('Non Federal Detail'!$B$11:$AL$30, Table2[[#This Row],[Column1]], 'Non Federal Detail'!X$11:X$30) -> 0 | J8: =SUMIF('Non Federal Detail'!$B$11:$AL$30, Table2[[#This Row],[Column1]], 'Non Federal Detail'!AD$11:AD$30) -> 0 | K8: =SUMIF('Non Federal Detail'!$B$11:$AL$30, Table2[[#This Row],[Column1]], 'Non Federal Detail'!AE$11:AE$30) -> 0 | L8: =SUMIF('Non Federal Detail'!$B$11:$AL$30, Table2[[#This Row],[Column1]], 'Non Federal Detail'!AK$11:AK$30) -> 0 | M8: =SUMIF('Non Federal Detail'!$B$11:$AL$30, Table2[[#This Row],[Column1]], 'Non Federal Detail'!AL$11:AL$30) -> 0 | N8: =SUM(Table2[[#This Row],[Column3]], Table2[[#This Row],[Column4]], Table2[[#This Row],[Column5]], Table2[[#This Row],[Column6]], Table2[[#This Row],[Column7]]) -> 0 | O8: =SUM(Table2[[#This Row],[Column9]],Table2[[#This Row],[Column10]],Table2[[#This Row],[Column11]],Table2[[#This Row],[Column12]],Table2[[#This Row],[Column8]]) -> 0
B9: Grad Student | D9: =SUMIF('Non Federal Detail'!$B$11:$AL$30, Table2[[#This Row],[Column1]], 'Non Federal Detail'!I$11:I$30) -> 0 | E9: =SUMIF('Non Federal Detail'!$B$11:$AL$30, Table2[[#This Row],[Column1]], 'Non Federal Detail'!J$11:J$30) -> 0 | F9: =SUMIF('Non Federal Detail'!$B$11:$AL$30, Table2[[#This Row],[Column1]], 'Non Federal Detail'!P$11:P$30) -> 0 | G9: =SUMIF('Non Federal Detail'!$B$11:$AL$30, Table2[[#This Row],[Column1]], 'Non Federal Detail'!Q$11:Q$30) -> 0 | H9: =SUMIF('Non Federal Detail'!$B$11:$AL$30, Table2[[#This Row],[Column1]], 'Non Federal Detail'!W$11:W$30) -> 0 | I9: =SUMIF('Non Federal Detail'!$B$11:$AL$30, Table2[[#This Row],[Column1]], 'Non Federal Detail'!X$11:X$30) -> 0 | J9: =SUMIF('Non Federal Detail'!$B$11:$AL$30, Table2[[#This Row],[Column1]], 'Non Federal Detail'!AD$11:AD$30) -> 0 | K9: =SUMIF('Non Federal Detail'!$B$11:$AL$30, Table2[[#This Row],[Column1]], 'Non Federal Detail'!AE$11:AE$30) -> 0 | L9: =SUMIF('Non Federal Detail'!$B$11:$AL$30, Table2[[#This Row],[Column1]], 'Non Federal Detail'!AK$11:AK$30) -> 0 | M9: =SUMIF('Non Federal Detail'!$B$11:$AL$30, Table2[[#This Row],[Column1]], 'Non Federal Detail'!AL$11:AL$30) -> 0 | N9: =SUM(Table2[[#This Row],[Column3]], Table2[[#This Row],[Column4]], Table2[[#This Row],[Column5]], Table2[[#This Row],[Column6]], Table2[[#This Row],[Column7]]) -> 0 | O9: =SUM(Table2[[#This Row],[Column9]],Table2[[#This Row],[Column10]],Table2[[#This Row],[Column11]],Table2[[#This Row],[Column12]],Table2[[#This Row],[Column8]]) -> 0
B10: Undergrad Student | D10: =SUMIF('Non Federal Detail'!$B$11:$AL$30, Table2[[#This Row],[Column1]], 'Non Federal Detail'!I$11:I$30) -> 0 | E10: =SUMIF('Non Federal Detail'!$B$11:$AL$30, Table2[[#This Row],[Column1]], 'Non Federal Detail'!J$11:J$30) -> 0 | F10: =SUMIF('Non Federal Detail'!$B$11:$AL$30, Table2[[#This Row],[Column1]], 'Non Federal Detail'!P$11:P$30) -> 0 | G10: =SUMIF('Non Federal Detail'!$B$11:$AL$30, Table2[[#This Row],[Column1]], 'Non Federal Detail'!Q$11:Q$30) -> 0 | H10: =SUMIF('Non Federal Detail'!$B$11:$AL$30, Table2[[#This Row],[Column1]], 'Non Federal Detail'!W$11:W$30) -> 0 | I10: =SUMIF('Non Federal Detail'!$B$11:$AL$30, Table2[[#This Row],[Column1]], 'Non Federal Detail'!X$11:X$30) -> 0 | J10: =SUMIF('Non Federal Detail'!$B$11:$AL$30, Table2[[#This Row],[Column1]], 'Non Federal Detail'!AD$11:AD$30) -> 0 | K10: =SUMIF('Non Federal Detail'!$B$11:$AL$30, Table2[[#This Row],[Column1]], 'Non Federal Detail'!AE$11:AE$30) -> 0 | L10: =SUMIF('Non Federal Detail'!$B$11:$AL$30, Table2[[#This Row],[Column1]], 'Non Federal Detail'!AK$11:AK$30) -> 0 | M10: =SUMIF('Non Federal Detail'!$B$11:$AL$30, Table2[[#This Row],[Column1]], 'Non Federal Detail'!AL$11:AL$30) -> 0 | N10: =SUM(Table2[[#This Row],[Column3]], Table2[[#This Row],[Column4]], Table2[[#This Row],[Column5]], Table2[[#This Row],[Column6]], Table2[[#This Row],[Column7]]) -> 0 | O10: =SUM(Table2[[#This Row],[Column9]],Table2[[#This Row],[Column10]],Table2[[#This Row],[Column11]],Table2[[#This Row],[Column12]],Table2[[#This Row],[Column8]]) -> 0
B11: Detail Subtotals | D11: =SUM(Table2[[#All],[Column3]]) -> 0 | E11: =SUM(Table2[[#All],[Column9]]) -> 0 | F11: =SUM(Table2[[#All],[Column4]]) -> 0 | G11: =SUM(Table2[[#All],[Column10]]) -> 0 | H11: =SUM(Table2[[#All],[Column5]]) -> 0 | I11: =SUM(Table2[[#All],[Column11]]) -> 0 | J11: =SUM(Table2[[#All],[Column6]]) -> 0 | K11: =SUM(Table2[[#All],[Column12]]) -> 0 | L11: =SUM(Table2[[#All],[Column7]]) -> 0 | M11: =SUM(Table2[[#All],[Column8]]) -> 0 | N11: =SUM(Table2[[#All],[Column13]]) -> 0 | O11: =SUM(Table2[[#All],[Column14]]) -> 0
D12: Year 1 | F12: Year 2 | H12: Year 3 | J12: Year 4 | L12: Year 5 | N12: Total Request
B13: Annual Subtotals | D13: =SUM(D11:E11) -> 0 | F13: =SUM(F11:G11) -> 0 | H13: =SUM(H11:I11) -> 0 | J13: =SUM(J11:K11) -> 0 | L13: =SUM(L11:M11) -> 0 | N13: =SUM(N11:O11) -> 0
A14: Non-Personnel | B14: Consultants | D14: =VLOOKUP(CONCATENATE($B14, " Annual Total"), 'Non Federal Detail'!$E$35:$AL$64, 6, FALSE) -> 0 | F14: =VLOOKUP(CONCATENATE($B14, " Annual Total"),'Non Federal Detail'!$E$35:$AL$64, 13, FALSE) -> 0 | H14: =VLOOKUP(CONCATENATE($B14, " Annual Total"),'Non Federal Detail'!$E$35:$AL$64, 20, FALSE) -> 0 | J14: =VLOOKUP(CONCATENATE($B14, " Annual Total"),'Non Federal Detail'!$E$35:$AL$64, 27, FALSE) -> 0 | L14: =VLOOKUP(CONCATENATE($B14, " Annual Total"),'Non Federal Detail'!$E$35:$AL$64, 34, FALSE) -> 0 | N14: =SUM(D14:M14) -> 0
B15: Equipment | D15: =VLOOKUP(CONCATENATE($B15, " Annual Total"), 'Non Federal Detail'!$E$35:$AL$64, 6, FALSE) -> 0 | F15: =VLOOKUP(CONCATENATE($B15, " Annual Total"),'Non Federal Detail'!$E$35:$AL$64, 13, FALSE) -> 0 | H15: =VLOOKUP(CONCATENATE($B15, " Annual Total"),'Non Federal Detail'!$E$35:$AL$64, 20, FALSE) -> 0 | J15: =VLOOKUP(CONCATENATE($B15, " Annual Total"),'Non Federal Detail'!$E$35:$AL$64, 27, FALSE) -> 0 | L15: =VLOOKUP(CONCATENATE($B15, " Annual Total"),'Non Federal Detail'!$E$35:$AL$64, 34, FALSE) -> 0 | N15: =SUM(D15:M15) -> 0
B16: Supplies | D16: =VLOOKUP(CONCATENATE($B16, " Annual Total"), 'Non Federal Detail'!$E$35:$AL$64, 6, FALSE) -> 0 | F16: =VLOOKUP(CONCATENATE($B16, " Annual Total"),'Non Federal Detail'!$E$35:$AL$64, 13, FALSE) -> 0 | H16: =VLOOKUP(CONCATENATE($B16, " Annual Total"),'Non Federal Detail'!$E$35:$AL$64, 20, FALSE) -> 0 | J16: =VLOOKUP(CONCATENATE($B16, " Annual Total"),'Non Federal Detail'!$E$35:$AL$64, 27, FALSE) -> 0 | L16: =VLOOKUP(CONCATENATE($B16, " Annual Total"),'Non Federal Detail'!$E$35:$AL$64, 34, FALSE) -> 0 | N16: =SUM(D16:M16) -> 0
B17: Animal Costs | D17: =VLOOKUP(CONCATENATE($B17, " Annual Total"), 'Non Federal Detail'!$E$35:$AL$64, 6, FALSE) -> 0 | F17: =VLOOKUP(CONCATENATE($B17, " Annual Total"),'Non Federal Detail'!$E$35:$AL$64, 13, FALSE) -> 0 | H17: =VLOOKUP(CONCATENATE($B17, " Annual Total"),'Non Federal Detail'!$E$35:$AL$64, 20, FALSE) -> 0 | J17: =VLOOKUP(CONCATENATE($B17, " Annual Total"),'Non Federal Detail'!$E$35:$AL$64, 27, FALSE) -> 0 | L17: =VLOOKUP(CONCATENATE($B17, " Annual Total"),'Non Federal Detail'!$E$35:$AL$64, 34, FALSE) -> 0 | N17: =SUM(D17:M17) -> 0
B18: Travel | D18: =VLOOKUP(CONCATENATE($B18, " Annual Total"), 'Non Federal Detail'!$E$35:$AL$64, 6, FALSE) -> 0 | F18: =VLOOKUP(CONCATENATE($B18, " Annual Total"),'Non Federal Detail'!$E$35:$AL$64, 13, FALSE) -> 0 | H18: =VLOOKUP(CONCATENATE($B18, " Annual Total"),'Non Federal Detail'!$E$35:$AL$64, 20, FALSE) -> 0 | J18: =VLOOKUP(CONCATENATE($B18, " Annual Total"),'Non Federal Detail'!$E$35:$AL$64, 27, FALSE) -> 0 | L18: =VLOOKUP(CONCATENATE($B18, " Annual Total"),'Non Federal Detail'!$E$35:$AL$64, 34, FALSE) -> 0 | N18: =SUM(D18:M18) -> 0
B19: Patient Care costs | D19: =VLOOKUP(CONCATENATE($B19, " Annual Total"), 'Non Federal Detail'!$E$35:$AL$64, 6, FALSE) -> 0 | F19: =VLOOKUP(CONCATENATE($B19, " Annual Total"),'Non Federal Detail'!$E$35:$AL$64, 13, FALSE) -> 0 | H19: =VLOOKUP(CONCATENATE($B19, " Annual Total"),'Non Federal Detail'!$E$35:$AL$64, 20, FALSE) -> 0 | J19: =VLOOKUP(CONCATENATE($B19, " Annual Total"),'Non Federal Detail'!$E$35:$AL$64, 27, FALSE) -> 0 | L19: =VLOOKUP(CONCATENATE($B19, " Annual Total"),'Non Federal Detail'!$E$35:$AL$64, 34, FALSE) -> 0 | N19: =SUM(D19:M19) -> 0
B20: Alterations and Renovations | D20: =VLOOKUP(CONCATENATE($B20, " Annual Total"), 'Non Federal Detail'!$E$35:$AL$64, 6, FALSE) -> 0 | F20: =VLOOKUP(CONCATENATE($B20, " Annual Total"),'Non Federal Detail'!$E$35:$AL$64, 13, FALSE) -> 0 | H20: =VLOOKUP(CONCATENATE($B20, " Annual Total"),'Non Federal Detail'!$E$35:$AL$64, 20, FALSE) -> 0 | J20: =VLOOKUP(CONCATENATE($B20, " Annual Total"),'Non Federal Detail'!$E$35:$AL$64, 27, FALSE) -> 0 | L20: =VLOOKUP(CONCATENATE($B20, " Annual Total"),'Non Federal Detail'!$E$35:$AL$64, 34, FALSE) -> 0 | N20: =SUM(D20:M20) -> 0
B21: Other Costs | D21: =VLOOKUP(CONCATENATE($B21, " Annual Total"), 'Non Federal Detail'!$E$35:$AL$64, 6, FALSE) -> 0 | F21: =VLOOKUP(CONCATENATE($B21, " Annual Total"),'Non Federal Detail'!$E$35:$AL$64, 13, FALSE) -> 0 | H21: =VLOOKUP(CONCATENATE($B21, " Annual Total"),'Non Federal Detail'!$E$35:$AL$64, 20, FALSE) -> 0 | J21: =VLOOKUP(CONCATENATE($B21, " Annual Total"),'Non Federal Detail'!$E$35:$AL$64, 27, FALSE) -> 0 | L21: =VLOOKUP(CONCATENATE($B21, " Annual Total"),'Non Federal Detail'!$E$35:$AL$64, 34, FALSE) -> 0 | N21: =SUM(D21:M21) -> 0
B22: Subawards | D22: =VLOOKUP(CONCATENATE($B22, " Annual Total"), 'Non Federal Detail'!$E$67:$AL$67, 6, FALSE) -> 0 | F22: =VLOOKUP(CONCATENATE($B22, " Annual Total"), 'Non Federal Detail'!$E$67:$AL$67, 13, FALSE) -> 0 | H22: =VLOOKUP(CONCATENATE($B22, " Annual Total"), 'Non Federal Detail'!$E$67:$AL$67, 20,FALSE) -> 0 | J22: =VLOOKUP(CONCATENATE($B22, " Annual Total"), 'Non Federal Detail'!$E$67:$AL$67, 27, FALSE) -> 0 | L22: =VLOOKUP(CONCATENATE($B22, " Annual Total"), 'Non Federal Detail'!$E$67:$AL$67, 34, FALSE) -> 0 | N22: =SUM(D22:M22) -> 0
A23: ='Non Federal Detail'!A71 -> TOTAL DIRECT Costs (including all sub award costs) | D23: ='Non Federal Detail'!J71 -> 0 | F23: ='Non Federal Detail'!Q71 -> 0 | H23: ='Non Federal Detail'!X71 -> 0 | J23: ='Non Federal Detail'!AE71 -> 0 | L23: ='Non Federal Detail'!AL71 -> 0 | N23: =SUM(D23:M23) -> 0
A24: ='Non Federal Detail'!A72 -> TOTAL DIRECT Costs (without sub award indirect) | D24: ='Non Federal Detail'!J72 -> 0 | F24: ='Non Federal Detail'!Q72 -> 0 | H24: ='Non Federal Detail'!X72 -> 0 | J24: ='Non Federal Detail'!AE72 -> 0 | L24: ='Non Federal Detail'!AL72 -> 0 | N24: =SUM(D24:M24) -> 0
A25: ='Non Federal Detail'!A73 -> MTDC *if sponsor restrictions, subtract out approporiate categories | D25: ='Non Federal Detail'!J73 -> 0 | F25: ='Non Federal Detail'!Q73 -> 0 | H25: ='Non Federal Detail'!X73 -> 0 | J25: ='Non Federal Detail'!AE73 -> 0 | L25: ='Non Federal Detail'!AL73 -> 0 | N25: =SUM(D25:M25) -> 0
A26: ='Non Federal Detail'!A74 -> BU IDC*calculated on MTDC, if there are sponsor restrictions make adjustments in MTDC line | D26: ='Non Federal Detail'!J74 -> 0 | F26: ='Non Federal Detail'!Q74 -> 0 | H26: ='Non Federal Detail'!X74 -> 0 | J26: ='Non Federal Detail'!AE74 -> 0 | L26: ='Non Federal Detail'!AL74 -> 0 | N26: =SUM(D26:M26) -> 0
A27: ='Non Federal Detail'!A75 -> TOTAL REQUEST | D27: ='Non Federal Detail'!J75 -> 0 | F27: ='Non Federal Detail'!Q75 -> 0 | H27: ='Non Federal Detail'!X75 -> 0 | J27: ='Non Federal Detail'!AE75 -> 0 | L27: ='Non Federal Detail'!AL75 -> 0 | N27: =SUM(D27:M27) -> 0
A29: Cost Share | D29: =D12 -> Year 1 | F29: =F12 -> Year 2 | H29: =H12 -> Year 3 | J29: =J12 -> Year 4 | L29: =L12 -> Year 5 | N29: =N12 -> Total Request
A30: Direct | D30: ='Non Federal Cost Share'!J68 -> 0 | F30: ='Non Federal Cost Share'!Q68 -> 0 | H30: ='Non Federal Cost Share'!X68 -> 0 | J30: ='Non Federal Cost Share'!AE68 -> 0 | L30: ='Non Federal Cost Share'!AL68 -> 0 | N30: =SUM(D30:M30) -> 0
A31: IDC | D31: ='Non Federal Cost Share'!J69 -> 0 | F31: ='Non Federal Cost Share'!Q69 -> 0 | H31: ='Non Federal Cost Share'!X69 -> 0 | J31: ='Non Federal Cost Share'!AE69 -> 0 | L31: ='Non Federal Cost Share'!AL69 -> 0 | N31: =SUM(D31:M31) -> 0
A32: Total | D32: ='Non Federal Cost Share'!J70 -> 0 | F32: ='Non Federal Cost Share'!Q70 -> 0 | H32: ='Non Federal Cost Share'!X70 -> 0 | J32: ='Non Federal Cost Share'!AE70 -> 0 | L32: ='Non Federal Cost Share'!AL70 -> 0 | N32: =SUM(D32:M32) -> 0

Sheet Non Federal Detail
A1: PI Name: | E1: NON FEDERAL | L1: Fringe Rates | P1: Effort Conversion Calculator
A2: Department Submitting Proposal: | L2: EDIT FRINGE ONLY IF SPONSOR LIMITS
A3: Budget Preparer: | L3: Professional | N3: 0.27 | P3: % Effort | Q3: Calendar Months | R3: Academic Months | S3: Summer Months*
A4: Proposal Title: | E4: yellow indicates change in effort from previous year, prompts need for justification | G4: light red indicates NIH salary cap has been reached | I4: orange indicates error in month entry, choose either calendar months, or academic/summer months | L4: Post Doc | N4: 0.27
E5: Only input data into blue fields, please | L5: Support Staff | N5: 0.24 | Q5: =P5*0.12 -> 0 | R5: =P5*0.09 -> 0 | S5: =P5*0.03 -> 0
A6: Start date: | L6: Grad Student | N6: 0.088 | P6: *Note: Summer months are compensated as overbase and may require completion of Commitment of Summer Effort & Salary Request form. Click here for more info
A7: End date: | L7: Undergrad Student | N7: 0
A8: Federal Sponsor: | E8: Year 1 | K8: Year 2 | R8: Year 3 | Y8: Year 4 | AF8: Year 5
A9: If sub, prime institution: | D9: Dates:
A10: Personnel | B10: Role | C10: Base Salary | D10: Merit | E10: Calendar Months | F10: Academic Months | G10: Summer Months* | H10: Effort % | I10: Requested Salary | J10: Requested Fringe | K10: Base Salary | L10: Calendar Months | M10: Academic Months | N10: Summer Months* | O10: Effort % | P10: Requested Salary | Q10: Requested Fringe | R10: Base Salary | S10: Calendar Months | T10: Academic Months | U10: Summer Months* | V10: Effort % | W10: Requested Salary | X10: Requested Fringe | Y10: Base Salary | Z10: Calendar Months | AA10: Academic Months | AB10: Summer Months* | AC10: Effort % | AD10: Requested Salary | AE10: Requested Fringe | AF10: Base Salary | AG10: Calendar Months | AH10: Academic Months | AI10: Summer Months* | AJ10: Effort % | AK10: Requested Salary | AL10: Requested Fringe | AM10: Year 2 Change | AN10: Year 3 Change | AO10: Year 4 Change | AP10: Year 5 Change | AQ10: Total Request
A11: =B1 -> 0 | B11: Professional | D11: 0.03 | H11: =IF(E11>0,E11/12,IF(F11>0,F11/9,0))+G11/9 -> 0 | I11: ='Non Federal Detail'!$C11*'Non Federal Detail'!$H11 -> 0 | J11: =IFERROR(VLOOKUP('Non Federal Detail'!$B11, Table3[#All], 3, 0)*'Non Federal Detail'!$I11, 0) -> 0 | K11: ='Non Federal Detail'!$C11*(1+'Non Federal Detail'!$D11) -> 0 | O11: =IF(L11>0,L11/12,IF(M11>0,M11/9,0))+N11/9 -> 0 | P11: ='Non Federal Detail'!$K11*'Non Federal Detail'!$O11 -> 0 | Q11: =IFERROR(VLOOKUP('Non Federal Detail'!$B11, Table3[#All], 3, 0)*'Non Federal Detail'!$P11, 0) -> 0 | R11: ='Non Federal Detail'!$K11*(1+'Non Federal Detail'!$D11) -> 0 | V11: =IF(S11>0,S11/12,IF(T11>0,T11/9,0))+U11/9 -> 0 | W11: ='Non Federal Detail'!$R11*'Non Federal Detail'!$V11 -> 0 | X11: =IFERROR(VLOOKUP('Non Federal Detail'!$B11, Table3[#All], 3, 0)*'Non Federal Detail'!$W11, 0) -> 0 | Y11: ='Non Federal Detail'!$R11*(1+'Non Federal Detail'!$D11) -> 0 | AC11: =IF(Z11>0,Z11/12,IF(AA11>0,AA11/9,0))+AB11/9 -> 0 | AD11: ='Non Federal Detail'!$Y11*'Non Federal Detail'!$AC11 -> 0 | AE11: =IFERROR(VLOOKUP('Non Federal Detail'!$B11, Table3[#All], 3, 0)*'Non Federal Detail'!$AD11, 0) -> 0 | AF11: ='Non Federal Detail'!$Y11*(1+'Non Federal Detail'!$D11) -> 0 | AJ11: =IF(AG11>0,AG11/12,IF(AH11>0,AH11/9,0))+AI11/9 -> 0 | AK11: ='Non Federal Detail'!$AF11*'Non Federal Detail'!$AJ11 -> 0 | AL11: =IFERROR(VLOOKUP('Non Federal Detail'!$B11, Table3[#All], 3, 0)*'Non Federal Detail'!$AK11, 0) -> 0 | AM11: =IF('Non Federal Detail'!$H11='Non Federal Detail'!$O11, 1,0) -> 1 | AN11: =IF('Non Federal Detail'!$O11='Non Federal Detail'!$V11, 1,0) -> 1 | AO11: =IF('Non Federal Detail'!$V11='Non Federal Detail'!$AC11, 1,0) -> 1 | AP11: =IF('Non Federal Detail'!$AC11='Non Federal Detail'!$AJ11, 1,0) -> 1 | AQ11: =SUM(I11:J11,P11:Q11,W11:X11,AD11:AE11,AK11:AL11) -> 0
D12: 0 | H12: =IF(E12>0,E12/12,IF(F12>0,F12/9,0))+G12/9 -> 0 | I12: ='Non Federal Detail'!$C12*'Non Federal Detail'!$H12 -> 0 | J12: =IFERROR(VLOOKUP('Non Federal Detail'!$B12, Table3[#All], 3, 0)*'Non Federal Detail'!$I12, 0) -> 0 | K12: ='Non Federal Detail'!$C12*(1+'Non Federal Detail'!$D12) -> 0 | O12: =IF(L12>0,L12/12,IF(M12>0,M12/9,0))+N12/9 -> 0 | P12: ='Non Federal Detail'!$K12*'Non Federal Detail'!$O12 -> 0 | Q12: =IFERROR(VLOOKUP('Non Federal Detail'!$B12, Table3[#All], 3, 0)*'Non Federal Detail'!$P12, 0) -> 0 | R12: ='Non Federal Detail'!$K12*(1+'Non Federal Detail'!$D12) -> 0 | V12: =IF(S12>0,S12/12,IF(T12>0,T12/9,0))+U12/9 -> 0 | W12: ='Non Federal Detail'!$R12*'Non Federal Detail'!$V12 -> 0 | X12: =IFERROR(VLOOKUP('Non Federal Detail'!$B12, Table3[#All], 3, 0)*'Non Federal Detail'!$W12, 0) -> 0 | Y12: ='Non Federal Detail'!$R12*(1+'Non Federal Detail'!$D12) -> 0 | AC12: =IF(Z12>0,Z12/12,IF(AA12>0,AA12/9,0))+AB12/9 -> 0 | AD12: ='Non Federal Detail'!$Y12*'Non Federal Detail'!$AC12 -> 0 | AE12: =IFERROR(VLOOKUP('Non Federal Detail'!$B12, Table3[#All], 3, 0)*'Non Federal Detail'!$AD12, 0) -> 0 | AF12: ='Non Federal Detail'!$Y12*(1+'Non Federal Detail'!$D12) -> 0 | AJ12: =IF(AG12>0,AG12/12,IF(AH12>0,AH12/9,0))+AI12/9 -> 0 | AK12: ='Non Federal Detail'!$AF12*'Non Federal Detail'!$AJ12 -> 0 | AL12: =IFERROR(VLOOKUP('Non Federal Detail'!$B12, Table3[#All], 3, 0)*'Non Federal Detail'!$AK12, 0) -> 0 | AM12: =IF('Non Federal Detail'!$H12='Non Federal Detail'!$O12, 1,0) -> 1 | AN12: =IF('Non Federal Detail'!$O12='Non Federal Detail'!$V12, 1,0) -> 1 | AO12: =IF('Non Federal Detail'!$V12='Non Federal Detail'!$AC12, 1,0) -> 1 | AP12: =IF('Non Federal Detail'!$AC12='Non Federal Detail'!$AJ12, 1,0) -> 1 | AQ12: =SUM(I12:J12,P12:Q12,W12:X12,AD12:AE12,AK12:AL12) -> 0
D13: 0 | H13: =IF(E13>0,E13/12,IF(F13>0,F13/9,0))+G13/9 -> 0 | I13: ='Non Federal Detail'!$C13*'Non Federal Detail'!$H13 -> 0 | J13: =IFERROR(VLOOKUP('Non Federal Detail'!$B13, Table3[#All], 3, 0)*'Non Federal Detail'!$I13, 0) -> 0 | K13: ='Non Federal Detail'!$C13*(1+'Non Federal Detail'!$D13) -> 0 | O13: =IF(L13>0,L13/12,IF(M13>0,M13/9,0))+N13/9 -> 0 | P13: ='Non Federal Detail'!$K13*'Non Federal Detail'!$O13 -> 0 | Q13: =IFERROR(VLOOKUP('Non Federal Detail'!$B13, Table3[#All], 3, 0)*'Non Federal Detail'!$P13, 0) -> 0 | R13: ='Non Federal Detail'!$K13*(1+'Non Federal Detail'!$D13) -> 0 | V13: =IF(S13>0,S13/12,IF(T13>0,T13/9,0))+U13/9 -> 0 | W13: ='Non Federal Detail'!$R13*'Non Federal Detail'!$V13 -> 0 | X13: =IFERROR(VLOOKUP('Non Federal Detail'!$B13, Table3[#All], 3, 0)*'Non Federal Detail'!$W13, 0) -> 0 | Y13: ='Non Federal Detail'!$R13*(1+'Non Federal Detail'!$D13) -> 0 | AC13: =IF(Z13>0,Z13/12,IF(AA13>0,AA13/9,0))+AB13/9 -> 0 | AD13: ='Non Federal Detail'!$Y13*'Non Federal Detail'!$AC13 -> 0 | AE13: =IFERROR(VLOOKUP('Non Federal Detail'!$B13, Table3[#All], 3, 0)*'Non Federal Detail'!$AD13, 0) -> 0 | AF13: ='Non Federal Detail'!$Y13*(1+'Non Federal Detail'!$D13) -> 0 | AJ13: =IF(AG13>0,AG13/12,IF(AH13>0,AH13/9,0))+AI13/9 -> 0 | AK13: ='Non Federal Detail'!$AF13*'Non Federal Detail'!$AJ13 -> 0 | AL13: =IFERROR(VLOOKUP('Non Federal Detail'!$B13, Table3[#All], 3, 0)*'Non Federal Detail'!$AK13, 0) -> 0 | AM13: =IF('Non Federal Detail'!$H13='Non Federal Detail'!$O13, 1,0) -> 1 | AN13: =IF('Non Federal Detail'!$O13='Non Federal Detail'!$V13, 1,0) -> 1 | AO13: =IF('Non Federal Detail'!$V13='Non Federal Detail'!$AC13, 1,0) -> 1 | AP13: =IF('Non Federal Detail'!$AC13='Non Federal Detail'!$AJ13, 1,0) -> 1 | AQ13: =SUM(I13:J13,P13:Q13,W13:X13,AD13:AE13,AK13:AL13) -> 0
D14: 0 | H14: =IF(E14>0,E14/12,IF(F14>0,F14/9,0))+G14/9 -> 0 | I14: ='Non Federal Detail'!$C14*'Non Federal Detail'!$H14 -> 0 | J14: =IFERROR(VLOOKUP('Non Federal Detail'!$B14, Table3[#All], 3, 0)*'Non Federal Detail'!$I14, 0) -> 0 | K14: ='Non Federal Detail'!$C14*(1+'Non Federal Detail'!$D14) -> 0 | O14: =IF(L14>0,L14/12,IF(M14>0,M14/9,0))+N14/9 -> 0 | P14: ='Non Federal Detail'!$K14*'Non Federal Detail'!$O14 -> 0 | Q14: =IFERROR(VLOOKUP('Non Federal Detail'!$B14, Table3[#All], 3, 0)*'Non Federal Detail'!$P14, 0) -> 0 | R14: ='Non Federal Detail'!$K14*(1+'Non Federal Detail'!$D14) -> 0 | V14: =IF(S14>0,S14/12,IF(T14>0,T14/9,0))+U14/9 -> 0 | W14: ='Non Federal Detail'!$R14*'Non Federal Detail'!$V14 -> 0 | X14: =IFERROR(VLOOKUP('Non Federal Detail'!$B14, Table3[#All], 3, 0)*'Non Federal Detail'!$W14, 0) -> 0 | Y14: ='Non Federal Detail'!$R14*(1+'Non Federal Detail'!$D14) -> 0 | AC14: =IF(Z14>0,Z14/12,IF(AA14>0,AA14/9,0))+AB14/9 -> 0 | AD14: ='Non Federal Detail'!$Y14*'Non Federal Detail'!$AC14 -> 0 | AE14: =IFERROR(VLOOKUP('Non Federal Detail'!$B14, Table3[#All], 3, 0)*'Non Federal Detail'!$AD14, 0) -> 0 | AF14: ='Non Federal Detail'!$Y14*(1+'Non Federal Detail'!$D14) -> 0 | AJ14: =IF(AG14>0,AG14/12,IF(AH14>0,AH14/9,0))+AI14/9 -> 0 | AK14: ='Non Federal Detail'!$AF14*'Non Federal Detail'!$AJ14 -> 0 | AL14: =IFERROR(VLOOKUP('Non Federal Detail'!$B14, Table3[#All], 3, 0)*'Non Federal Detail'!$AK14, 0) -> 0 | AM14: =IF('Non Federal Detail'!$H14='Non Federal Detail'!$O14, 1,0) -> 1 | AN14: =IF('Non Federal Detail'!$O14='Non Federal Detail'!$V14, 1,0) -> 1 | AO14: =IF('Non Federal Detail'!$V14='Non Federal Detail'!$AC14, 1,0) -> 1 | AP14: =IF('Non Federal Detail'!$AC14='Non Federal Detail'!$AJ14, 1,0) -> 1 | AQ14: =SUM(I14:J14,P14:Q14,W14:X14,AD14:AE14,AK14:AL14) -> 0
D15: 0 | H15: =IF(E15>0,E15/12,IF(F15>0,F15/9,0))+G15/9 -> 0 | I15: ='Non Federal Detail'!$C15*'Non Federal Detail'!$H15 -> 0 | J15: =IFERROR(VLOOKUP('Non Federal Detail'!$B15, Table3[#All], 3, 0)*'Non Federal Detail'!$I15, 0) -> 0 | K15: ='Non Federal Detail'!$C15*(1+'Non Federal Detail'!$D15) -> 0 | O15: =IF(L15>0,L15/12,IF(M15>0,M15/9,0))+N15/9 -> 0 | P15: ='Non Federal Detail'!$K15*'Non Federal Detail'!$O15 -> 0 | Q15: =IFERROR(VLOOKUP('Non Federal Detail'!$B15, Table3[#All], 3, 0)*'Non Federal Detail'!$P15, 0) -> 0 | R15: ='Non Federal Detail'!$K15*(1+'Non Federal Detail'!$D15) -> 0 | V15: =IF(S15>0,S15/12,IF(T15>0,T15/9,0))+U15/9 -> 0 | W15: ='Non Federal Detail'!$R15*'Non Federal Detail'!$V15 -> 0 | X15: =IFERROR(VLOOKUP('Non Federal Detail'!$B15, Table3[#All], 3, 0)*'Non Federal Detail'!$W15, 0) -> 0 | Y15: ='Non Federal Detail'!$R15*(1+'Non Federal Detail'!$D15) -> 0 | AC15: =IF(Z15>0,Z15/12,IF(AA15>0,AA15/9,0))+AB15/9 -> 0 | AD15: ='Non Federal Detail'!$Y15*'Non Federal Detail'!$AC15 -> 0 | AE15: =IFERROR(VLOOKUP('Non Federal Detail'!$B15, Table3[#All], 3, 0)*'Non Federal Detail'!$AD15, 0) -> 0 | AF15: ='Non Federal Detail'!$Y15*(1+'Non Federal Detail'!$D15) -> 0 | AJ15: =IF(AG15>0,AG15/12,IF(AH15>0,AH15/9,0))+AI15/9 -> 0 | AK15: ='Non Federal Detail'!$AF15*'Non Federal Detail'!$AJ15 -> 0 | AL15: =IFERROR(VLOOKUP('Non Federal Detail'!$B15, Table3[#All], 3, 0)*'Non Federal Detail'!$AK15, 0) -> 0 | AM15: =IF('Non Federal Detail'!$H15='Non Federal Detail'!$O15, 1,0) -> 1 | AN15: =IF('Non Federal Detail'!$O15='Non Federal Detail'!$V15, 1,0) -> 1 | AO15: =IF('Non Federal Detail'!$V15='Non Federal Detail'!$AC15, 1,0) -> 1 | AP15: =IF('Non Federal Detail'!$AC15='Non Federal Detail'!$AJ15, 1,0) -> 1 | AQ15: =SUM(I15:J15,P15:Q15,W15:X15,AD15:AE15,AK15:AL15) -> 0
D16: 0 | H16: =IF(E16>0,E16/12,IF(F16>0,F16/9,0))+G16/9 -> 0 | I16: ='Non Federal Detail'!$C16*'Non Federal Detail'!$H16 -> 0 | J16: =IFERROR(VLOOKUP('Non Federal Detail'!$B16, Table3[#All], 3, 0)*'Non Federal Detail'!$I16, 0) -> 0 | K16: ='Non Federal Detail'!$C16*(1+'Non Federal Detail'!$D16) -> 0 | O16: =IF(L16>0,L16/12,IF(M16>0,M16/9,0))+N16/9 -> 0 | P16: ='Non Federal Detail'!$K16*'Non Federal Detail'!$O16 -> 0 | Q16: =IFERROR(VLOOKUP('Non Federal Detail'!$B16, Table3[#All], 3, 0)*'Non Federal Detail'!$P16, 0) -> 0 | R16: ='Non Federal Detail'!$K16*(1+'Non Federal Detail'!$D16) -> 0 | V16: =IF(S16>0,S16/12,IF(T16>0,T16/9,0))+U16/9 -> 0 | W16: ='Non Federal Detail'!$R16*'Non Federal Detail'!$V16 -> 0 | X16: =IFERROR(VLOOKUP('Non Federal Detail'!$B16, Table3[#All], 3, 0)*'Non Federal Detail'!$W16, 0) -> 0 | Y16: ='Non Federal Detail'!$R16*(1+'Non Federal Detail'!$D16) -> 0 | AC16: =IF(Z16>0,Z16/12,IF(AA16>0,AA16/9,0))+AB16/9 -> 0 | AD16: ='Non Federal Detail'!$Y16*'Non Federal Detail'!$AC16 -> 0 | AE16: =IFERROR(VLOOKUP('Non Federal Detail'!$B16, Table3[#All], 3, 0)*'Non Federal Detail'!$AD16, 0) -> 0 | AF16: ='Non Federal Detail'!$Y16*(1+'Non Federal Detail'!$D16) -> 0 | AJ16: =IF(AG16>0,AG16/12,IF(AH16>0,AH16/9,0))+AI16/9 -> 0 | AK16: ='Non Federal Detail'!$AF16*'Non Federal Detail'!$AJ16 -> 0 | AL16: =IFERROR(VLOOKUP('Non Federal Detail'!$B16, Table3[#All], 3, 0)*'Non Federal Detail'!$AK16, 0) -> 0 | AM16: =IF('Non Federal Detail'!$H16='Non Federal Detail'!$O16, 1,0) -> 1 | AN16: =IF('Non Federal Detail'!$O16='Non Federal Detail'!$V16, 1,0) -> 1 | AO16: =IF('Non Federal Detail'!$V16='Non Federal Detail'!$AC16, 1,0) -> 1 | AP16: =IF('Non Federal Detail'!$AC16='Non Federal Detail'!$AJ16, 1,0) -> 1 | AQ16: =SUM(I16:J16,P16:Q16,W16:X16,AD16:AE16,AK16:AL16) -> 0
D17: 0 | H17: =IF(E17>0,E17/12,IF(F17>0,F17/9,0))+G17/9 -> 0 | I17: ='Non Federal Detail'!$C17*'Non Federal Detail'!$H17 -> 0 | J17: =IFERROR(VLOOKUP('Non Federal Detail'!$B17, Table3[#All], 3, 0)*'Non Federal Detail'!$I17, 0) -> 0 | K17: ='Non Federal Detail'!$C17*(1+'Non Federal Detail'!$D17) -> 0 | O17: =IF(L17>0,L17/12,IF(M17>0,M17/9,0))+N17/9 -> 0 | P17: ='Non Federal Detail'!$K17*'Non Federal Detail'!$O17 -> 0 | Q17: =IFERROR(VLOOKUP('Non Federal Detail'!$B17, Table3[#All], 3, 0)*'Non Federal Detail'!$P17, 0) -> 0 | R17: ='Non Federal Detail'!$K17*(1+'Non Federal Detail'!$D17) -> 0 | V17: =IF(S17>0,S17/12,IF(T17>0,T17/9,0))+U17/9 -> 0 | W17: ='Non Federal Detail'!$R17*'Non Federal Detail'!$V17 -> 0 | X17: =IFERROR(VLOOKUP('Non Federal Detail'!$B17, Table3[#All], 3, 0)*'Non Federal Detail'!$W17, 0) -> 0 | Y17: ='Non Federal Detail'!$R17*(1+'Non Federal Detail'!$D17) -> 0 | AC17: =IF(Z17>0,Z17/12,IF(AA17>0,AA17/9,0))+AB17/9 -> 0 | AD17: ='Non Federal Detail'!$Y17*'Non Federal Detail'!$AC17 -> 0 | AE17: =IFERROR(VLOOKUP('Non Federal Detail'!$B17, Table3[#All], 3, 0)*'Non Federal Detail'!$AD17, 0) -> 0 | AF17: ='Non Federal Detail'!$Y17*(1+'Non Federal Detail'!$D17) -> 0 | AJ17: =IF(AG17>0,AG17/12,IF(AH17>0,AH17/9,0))+AI17/9 -> 0 | AK17: ='Non Federal Detail'!$AF17*'Non Federal Detail'!$AJ17 -> 0 | AL17: =IFERROR(VLOOKUP('Non Federal Detail'!$B17, Table3[#All], 3, 0)*'Non Federal Detail'!$AK17, 0) -> 0 | AM17: =IF('Non Federal Detail'!$H17='Non Federal Detail'!$O17, 1,0) -> 1 | AN17: =IF('Non Federal Detail'!$O17='Non Federal Detail'!$V17, 1,0) -> 1 | AO17: =IF('Non Federal Detail'!$V17='Non Federal Detail'!$AC17, 1,0) -> 1 | AP17: =IF('Non Federal Detail'!$AC17='Non Federal Detail'!$AJ17, 1,0) -> 1 | AQ17: =SUM(I17:J17,P17:Q17,W17:X17,AD17:AE17,AK17:AL17) -> 0
D18: 0 | H18: =IF(E18>0,E18/12,IF(F18>0,F18/9,0))+G18/9 -> 0 | I18: ='Non Federal Detail'!$C18*'Non Federal Detail'!$H18 -> 0 | J18: =IFERROR(VLOOKUP('Non Federal Detail'!$B18, Table3[#All], 3, 0)*'Non Federal Detail'!$I18, 0) -> 0 | K18: ='Non Federal Detail'!$C18*(1+'Non Federal Detail'!$D18) -> 0 | O18: =IF(L18>0,L18/12,IF(M18>0,M18/9,0))+N18/9 -> 0 | P18: ='Non Federal Detail'!$K18*'Non Federal Detail'!$O18 -> 0 | Q18: =IFERROR(VLOOKUP('Non Federal Detail'!$B18, Table3[#All], 3, 0)*'Non Federal Detail'!$P18, 0) -> 0 | R18: ='Non Federal Detail'!$K18*(1+'Non Federal Detail'!$D18) -> 0 | V18: =IF(S18>0,S18/12,IF(T18>0,T18/9,0))+U18/9 -> 0 | W18: ='Non Federal Detail'!$R18*'Non Federal Detail'!$V18 -> 0 | X18: =IFERROR(VLOOKUP('Non Federal Detail'!$B18, Table3[#All], 3, 0)*'Non Federal Detail'!$W18, 0) -> 0 | Y18: ='Non Federal Detail'!$R18*(1+'Non Federal Detail'!$D18) -> 0 | AC18: =IF(Z18>0,Z18/12,IF(AA18>0,AA18/9,0))+AB18/9 -> 0 | AD18: ='Non Federal Detail'!$Y18*'Non Federal Detail'!$AC18 -> 0 | AE18: =IFERROR(VLOOKUP('Non Federal Detail'!$B18, Table3[#All], 3, 0)*'Non Federal Detail'!$AD18, 0) -> 0 | AF18: ='Non Federal Detail'!$Y18*(1+'Non Federal Detail'!$D18) -> 0 | AJ18: =IF(AG18>0,AG18/12,IF(AH18>0,AH18/9,0))+AI18/9 -> 0 | AK18: ='Non Federal Detail'!$AF18*'Non Federal Detail'!$AJ18 -> 0 | AL18: =IFERROR(VLOOKUP('Non Federal Detail'!$B18, Table3[#All], 3, 0)*'Non Federal Detail'!$AK18, 0) -> 0 | AM18: =IF('Non Federal Detail'!$H18='Non Federal Detail'!$O18, 1,0) -> 1 | AN18: =IF('Non Federal Detail'!$O18='Non Federal Detail'!$V18, 1,0) -> 1 | AO18: =IF('Non Federal Detail'!$V18='Non Federal Detail'!$AC18, 1,0) -> 1 | AP18: =IF('Non Federal Detail'!$AC18='Non Federal Detail'!$AJ18, 1,0) -> 1 | AQ18: =SUM(I18:J18,P18:Q18,W18:X18,AD18:AE18,AK18:AL18) -> 0
D19: 0 | H19: =IF(E19>0,E19/12,IF(F19>0,F19/9,0))+G19/9 -> 0 | I19: ='Non Federal Detail'!$C19*'Non Federal Detail'!$H19 -> 0 | J19: =IFERROR(VLOOKUP('Non Federal Detail'!$B19, Table3[#All], 3, 0)*'Non Federal Detail'!$I19, 0) -> 0 | K19: ='Non Federal Detail'!$C19*(1+'Non Federal Detail'!$D19) -> 0 | O19: =IF(L19>0,L19/12,IF(M19>0,M19/9,0))+N19/9 -> 0 | P19: ='Non Federal Detail'!$K19*'Non Federal Detail'!$O19 -> 0 | Q19: =IFERROR(VLOOKUP('Non Federal Detail'!$B19, Table3[#All], 3, 0)*'Non Federal Detail'!$P19, 0) -> 0 | R19: ='Non Federal Detail'!$K19*(1+'Non Federal Detail'!$D19) -> 0 | V19: =IF(S19>0,S19/12,IF(T19>0,T19/9,0))+U19/9 -> 0 | W19: ='Non Federal Detail'!$R19*'Non Federal Detail'!$V19 -> 0 | X19: =IFERROR(VLOOKUP('Non Federal Detail'!$B19, Table3[#All], 3, 0)*'Non Federal Detail'!$W19, 0) -> 0 | Y19: ='Non Federal Detail'!$R19*(1+'Non Federal Detail'!$D19) -> 0 | AC19: =IF(Z19>0,Z19/12,IF(AA19>0,AA19/9,0))+AB19/9 -> 0 | AD19: ='Non Federal Detail'!$Y19*'Non Federal Detail'!$AC19 -> 0 | AE19: =IFERROR(VLOOKUP('Non Federal Detail'!$B19, Table3[#All], 3, 0)*'Non Federal Detail'!$AD19, 0) -> 0 | AF19: ='Non Federal Detail'!$Y19*(1+'Non Federal Detail'!$D19) -> 0 | AJ19: =IF(AG19>0,AG19/12,IF(AH19>0,AH19/9,0))+AI19/9 -> 0 | AK19: ='Non Federal Detail'!$AF19*'Non Federal Detail'!$AJ19 -> 0 | AL19: =IFERROR(VLOOKUP('Non Federal Detail'!$B19, Table3[#All], 3, 0)*'Non Federal Detail'!$AK19, 0) -> 0 | AM19: =IF('Non Federal Detail'!$H19='Non Federal Detail'!$O19, 1,0) -> 1 | AN19: =IF('Non Federal Detail'!$O19='Non Federal Detail'!$V19, 1,0) -> 1 | AO19: =IF('Non Federal Detail'!$V19='Non Federal Detail'!$AC19, 1,0) -> 1 | AP19: =IF('Non Federal Detail'!$AC19='Non Federal Detail'!$AJ19, 1,0) -> 1 | AQ19: =SUM(I19:J19,P19:Q19,W19:X19,AD19:AE19,AK19:AL19) -> 0
D20: 0 | H20: =IF(E20>0,E20/12,IF(F20>0,F20/9,0))+G20/9 -> 0 | I20: ='Non Federal Detail'!$C20*'Non Federal Detail'!$H20 -> 0 | J20: =IFERROR(VLOOKUP('Non Federal Detail'!$B20, Table3[#All], 3, 0)*'Non Federal Detail'!$I20, 0) -> 0 | K20: ='Non Federal Detail'!$C20*(1+'Non Federal Detail'!$D20) -> 0 | O20: =IF(L20>0,L20/12,IF(M20>0,M20/9,0))+N20/9 -> 0 | P20: ='Non Federal Detail'!$K20*'Non Federal Detail'!$O20 -> 0 | Q20: =IFERROR(VLOOKUP('Non Federal Detail'!$B20, Table3[#All], 3, 0)*'Non Federal Detail'!$P20, 0) -> 0 | R20: ='Non Federal Detail'!$K20*(1+'Non Federal Detail'!$D20) -> 0 | V20: =IF(S20>0,S20/12,IF(T20>0,T20/9,0))+U20/9 -> 0 | W20: ='Non Federal Detail'!$R20*'Non Federal Detail'!$V20 -> 0 | X20: =IFERROR(VLOOKUP('Non Federal Detail'!$B20, Table3[#All], 3, 0)*'Non Federal Detail'!$W20, 0) -> 0 | Y20: ='Non Federal Detail'!$R20*(1+'Non Federal Detail'!$D20) -> 0 | AC20: =IF(Z20>0,Z20/12,IF(AA20>0,AA20/9,0))+AB20/9 -> 0 | AD20: ='Non Federal Detail'!$Y20*'Non Federal Detail'!$AC20 -> 0 | AE20: =IFERROR(VLOOKUP('Non Federal Detail'!$B20, Table3[#All], 3, 0)*'Non Federal Detail'!$AD20, 0) -> 0 | AF20: ='Non Federal Detail'!$Y20*(1+'Non Federal Detail'!$D20) -> 0 | AJ20: =IF(AG20>0,AG20/12,IF(AH20>0,AH20/9,0))+AI20/9 -> 0 | AK20: ='Non Federal Detail'!$AF20*'Non Federal Detail'!$AJ20 -> 0 | AL20: =IFERROR(VLOOKUP('Non Federal Detail'!$B20, Table3[#All], 3, 0)*'Non Federal Detail'!$AK20, 0) -> 0 | AM20: =IF('Non Federal Detail'!$H20='Non Federal Detail'!$O20, 1,0) -> 1 | AN20: =IF('Non Federal Detail'!$O20='Non Federal Detail'!$V20, 1,0) -> 1 | AO20: =IF('Non Federal Detail'!$V20='Non Federal Detail'!$AC20, 1,0) -> 1 | AP20: =IF('Non Federal Detail'!$AC20='Non Federal Detail'!$AJ20, 1,0) -> 1 | AQ20: =SUM(I20:J20,P20:Q20,W20:X20,AD20:AE20,AK20:AL20) -> 0
D21: 0 | H21: =IF(E21>0,E21/12,IF(F21>0,F21/9,0))+G21/9 -> 0 | I21: ='Non Federal Detail'!$C21*'Non Federal Detail'!$H21 -> 0 | J21: =IFERROR(VLOOKUP('Non Federal Detail'!$B21, Table3[#All], 3, 0)*'Non Federal Detail'!$I21, 0) -> 0 | K21: ='Non Federal Detail'!$C21*(1+'Non Federal Detail'!$D21) -> 0 | O21: =IF(L21>0,L21/12,IF(M21>0,M21/9,0))+N21/9 -> 0 | P21: ='Non Federal Detail'!$K21*'Non Federal Detail'!$O21 -> 0 | Q21: =IFERROR(VLOOKUP('Non Federal Detail'!$B21, Table3[#All], 3, 0)*'Non Federal Detail'!$P21, 0) -> 0 | R21: ='Non Federal Detail'!$K21*(1+'Non Federal Detail'!$D21) -> 0 | V21: =IF(S21>0,S21/12,IF(T21>0,T21/9,0))+U21/9 -> 0 | W21: ='Non Federal Detail'!$R21*'Non Federal Detail'!$V21 -> 0 | X21: =IFERROR(VLOOKUP('Non Federal Detail'!$B21, Table3[#All], 3, 0)*'Non Federal Detail'!$W21, 0) -> 0 | Y21: ='Non Federal Detail'!$R21*(1+'Non Federal Detail'!$D21) -> 0 | AC21: =IF(Z21>0,Z21/12,IF(AA21>0,AA21/9,0))+AB21/9 -> 0 | AD21: ='Non Federal Detail'!$Y21*'Non Federal Detail'!$AC21 -> 0 | AE21: =IFERROR(VLOOKUP('Non Federal Detail'!$B21, Table3[#All], 3, 0)*'Non Federal Detail'!$AD21, 0) -> 0 | AF21: ='Non Federal Detail'!$Y21*(1+'Non Federal Detail'!$D21) -> 0 | AJ21: =IF(AG21>0,AG21/12,IF(AH21>0,AH21/9,0))+AI21/9 -> 0 | AK21: ='Non Federal Detail'!$AF21*'Non Federal Detail'!$AJ21 -> 0 | AL21: =IFERROR(VLOOKUP('Non Federal Detail'!$B21, Table3[#All], 3, 0)*'Non Federal Detail'!$AK21, 0) -> 0 | AM21: =IF('Non Federal Detail'!$H21='Non Federal Detail'!$O21, 1,0) -> 1 | AN21: =IF('Non Federal Detail'!$O21='Non Federal Detail'!$V21, 1,0) -> 1 | AO21: =IF('Non Federal Detail'!$V21='Non Federal Detail'!$AC21, 1,0) -> 1 | AP21: =IF('Non Federal Detail'!$AC21='Non Federal Detail'!$AJ21, 1,0) -> 1 | AQ21: =SUM(I21:J21,P21:Q21,W21:X21,AD21:AE21,AK21:AL21) -> 0
D22: 0 | H22: =IF(E22>0,E22/12,IF(F22>0,F22/9,0))+G22/9 -> 0 | I22: ='Non Federal Detail'!$C22*'Non Federal Detail'!$H22 -> 0 | J22: =IFERROR(VLOOKUP('Non Federal Detail'!$B22, Table3[#All], 3, 0)*'Non Federal Detail'!$I22, 0) -> 0 | K22: ='Non Federal Detail'!$C22*(1+'Non Federal Detail'!$D22) -> 0 | O22: =IF(L22>0,L22/12,IF(M22>0,M22/9,0))+N22/9 -> 0 | P22: ='Non Federal Detail'!$K22*'Non Federal Detail'!$O22 -> 0 | Q22: =IFERROR(VLOOKUP('Non Federal Detail'!$B22, Table3[#All], 3, 0)*'Non Federal Detail'!$P22, 0) -> 0 | R22: ='Non Federal Detail'!$K22*(1+'Non Federal Detail'!$D22) -> 0 | V22: =IF(S22>0,S22/12,IF(T22>0,T22/9,0))+U22/9 -> 0 | W22: ='Non Federal Detail'!$R22*'Non Federal Detail'!$V22 -> 0 | X22: =IFERROR(VLOOKUP('Non Federal Detail'!$B22, Table3[#All], 3, 0)*'Non Federal Detail'!$W22, 0) -> 0 | Y22: ='Non Federal Detail'!$R22*(1+'Non Federal Detail'!$D22) -> 0 | AC22: =IF(Z22>0,Z22/12,IF(AA22>0,AA22/9,0))+AB22/9 -> 0 | AD22: ='Non Federal Detail'!$Y22*'Non Federal Detail'!$AC22 -> 0 | AE22: =IFERROR(VLOOKUP('Non Federal Detail'!$B22, Table3[#All], 3, 0)*'Non Federal Detail'!$AD22, 0) -> 0 | AF22: ='Non Federal Detail'!$Y22*(1+'Non Federal Detail'!$D22) -> 0 | AJ22: =IF(AG22>0,AG22/12,IF(AH22>0,AH22/9,0))+AI22/9 -> 0 | AK22: ='Non Federal Detail'!$AF22*'Non Federal Detail'!$AJ22 -> 0 | AL22: =IFERROR(VLOOKUP('Non Federal Detail'!$B22, Table3[#All], 3, 0)*'Non Federal Detail'!$AK22, 0) -> 0 | AM22: =IF('Non Federal Detail'!$H22='Non Federal Detail'!$O22, 1,0) -> 1 | AN22: =IF('Non Federal Detail'!$O22='Non Federal Detail'!$V22, 1,0) -> 1 | AO22: =IF('Non Federal Detail'!$V22='Non Federal Detail'!$AC22, 1,0) -> 1 | AP22: =IF('Non Federal Detail'!$AC22='Non Federal Detail'!$AJ22, 1,0) -> 1 | AQ22: =SUM(I22:J22,P22:Q22,W22:X22,AD22:AE22,AK22:AL22) -> 0
D23: 0 | H23: =IF(E23>0,E23/12,IF(F23>0,F23/9,0))+G23/9 -> 0 | I23: ='Non Federal Detail'!$C23*'Non Federal Detail'!$H23 -> 0 | J23: =IFERROR(VLOOKUP('Non Federal Detail'!$B23, Table3[#All], 3, 0)*'Non Federal Detail'!$I23, 0) -> 0 | K23: ='Non Federal Detail'!$C23*(1+'Non Federal Detail'!$D23) -> 0 | O23: =IF(L23>0,L23/12,IF(M23>0,M23/9,0))+N23/9 -> 0 | P23: ='Non Federal Detail'!$K23*'Non Federal Detail'!$O23 -> 0 | Q23: =IFERROR(VLOOKUP('Non Federal Detail'!$B23, Table3[#All], 3, 0)*'Non Federal Detail'!$P23, 0) -> 0 | R23: ='Non Federal Detail'!$K23*(1+'Non Federal Detail'!$D23) -> 0 | V23: =IF(S23>0,S23/12,IF(T23>0,T23/9,0))+U23/9 -> 0 | W23: ='Non Federal Detail'!$R23*'Non Federal Detail'!$V23 -> 0 | X23: =IFERROR(VLOOKUP('Non Federal Detail'!$B23, Table3[#All], 3, 0)*'Non Federal Detail'!$W23, 0) -> 0 | Y23: ='Non Federal Detail'!$R23*(1+'Non Federal Detail'!$D23) -> 0 | AC23: =IF(Z23>0,Z23/12,IF(AA23>0,AA23/9,0))+AB23/9 -> 0 | AD23: ='Non Federal Detail'!$Y23*'Non Federal Detail'!$AC23 -> 0 | AE23: =IFERROR(VLOOKUP('Non Federal Detail'!$B23, Table3[#All], 3, 0)*'Non Federal Detail'!$AD23, 0) -> 0 | AF23: ='Non Federal Detail'!$Y23*(1+'Non Federal Detail'!$D23) -> 0 | AJ23: =IF(AG23>0,AG23/12,IF(AH23>0,AH23/9,0))+AI23/9 -> 0 | AK23: ='Non Federal Detail'!$AF23*'Non Federal Detail'!$AJ23 -> 0 | AL23: =IFERROR(VLOOKUP('Non Federal Detail'!$B23, Table3[#All], 3, 0)*'Non Federal Detail'!$AK23, 0) -> 0 | AM23: =IF('Non Federal Detail'!$H23='Non Federal Detail'!$O23, 1,0) -> 1 | AN23: =IF('Non Federal Detail'!$O23='Non Federal Detail'!$V23, 1,0) -> 1 | AO23: =IF('Non Federal Detail'!$V23='Non Federal Detail'!$AC23, 1,0) -> 1 | AP23: =IF('Non Federal Detail'!$AC23='Non Federal Detail'!$AJ23, 1,0) -> 1 | AQ23: =SUM(I23:J23,P23:Q23,W23:X23,AD23:AE23,AK23:AL23) -> 0
... D30: 0 | H30: =IF(E30>0,E30/12,IF(F30>0,F30/9,0))+G30/9 -> 0 | I30: ='Non Federal Detail'!$C30*'Non Federal Detail'!$H30 -> 0 | J30: =IFERROR(VLOOKUP('Non Federal Detail'!$B30, Table3[#All], 3, 0)*'Non Federal Detail'!$I30, 0) -> 0 | K30: ='Non Federal Detail'!$C30*(1+'Non Federal Detail'!$D30) -> 0 | O30: =IF(L30>0,L30/12,IF(M30>0,M30/9,0))+N30/9 -> 0 | P30: ='Non Federal Detail'!$K30*'Non Federal Detail'!$O30 -> 0 | Q30: =IFERROR(VLOOKUP('Non Federal Detail'!$B30, Table3[#All], 3, 0)*'Non Federal Detail'!$P30, 0) -> 0 | R30: ='Non Federal Detail'!$K30*(1+'Non Federal Detail'!$D30) -> 0 | V30: =IF(S30>0,S30/12,IF(T30>0,T30/9,0))+U30/9 -> 0 | W30: ='Non Federal Detail'!$R30*'Non Federal Detail'!$V30 -> 0 | X30: =IFERROR(VLOOKUP('Non Federal Detail'!$B30, Table3[#All], 3, 0)*'Non Federal Detail'!$W30, 0) -> 0 | Y30: ='Non Federal Detail'!$R30*(1+'Non Federal Detail'!$D30) -> 0 | AC30: =IF(Z30>0,Z30/12,IF(AA30>0,AA30/9,0))+AB30/9 -> 0 | AD30: ='Non Federal Detail'!$Y30*'Non Federal Detail'!$AC30 -> 0 | AE30: =IFERROR(VLOOKUP('Non Federal Detail'!$B30, Table3[#All], 3, 0)*'Non Federal Detail'!$AD30, 0) -> 0 | AF30: ='Non Federal Detail'!$Y30*(1+'Non Federal Detail'!$D30) -> 0 | AJ30: =IF(AG30>0,AG30/12,IF(AH30>0,AH30/9,0))+AI30/9 -> 0 | AK30: ='Non Federal Detail'!$AF30*'Non Federal Detail'!$AJ30 -> 0 | AL30: =IFERROR(VLOOKUP('Non Federal Detail'!$B30, Table3[#All], 3, 0)*'Non Federal Detail'!$AK30, 0) -> 0 | AM30: =IF('Non Federal Detail'!$H30='Non Federal Detail'!$O30, 1,0) -> 1 | AN30: =IF('Non Federal Detail'!$O30='Non Federal Detail'!$V30, 1,0) -> 1 | AO30: =IF('Non Federal Detail'!$V30='Non Federal Detail'!$AC30, 1,0) -> 1 | AP30: =IF('Non Federal Detail'!$AC30='Non Federal Detail'!$AJ30, 1,0) -> 1 | AQ30: =SUM(I30:J30,P30:Q30,W30:X30,AD30:AE30,AK30:AL30) -> 0
A31: Subtotals | I31: =SUM(I11:I30) -> 0 | J31: =SUM(J11:J30) -> 0 | P31: =SUM(P11:P30) -> 0 | Q31: =SUM(Q11:Q30) -> 0 | W31: =SUM(W11:W30) -> 0 | X31: =SUM(X11:X30) -> 0 | AD31: =SUM(AD11:AD30) -> 0 | AE31: =SUM(AE11:AE30) -> 0 | AK31: =SUM(AK11:AK30) -> 0 | AL31: =SUM(AL11:AL30) -> 0 | AQ31: =SUM(I31:J31,P31:Q31,W31:X31,AD31:AE31,AK31:AL31) -> 0
AQ32: =SUM(I32:J32,P32:Q32,W32:X32,AD32:AE32,AK32:AL32) -> 0
A33: Personnel Totals | J33: =SUM(I31:J31) -> 0 | Q33: =SUM(P31:Q31) -> 0 | X33: =SUM(W31:X31) -> 0 | AE33: =SUM(AD31:AE31) -> 0 | AL33: =SUM(AK31:AL31) -> 0 | AQ33: =SUM(I33:J33,P33:Q33,W33:X33,AD33:AE33,AK33:AL33) -> 0
A34: Non Personnel Details | E34: =E8 -> Year 1 | K34: =K8 -> Year 2 | R34: =R8 -> Year 3 | Y34: =Y8 -> Year 4 | AF34: Year 5
A35: Consultants
E37: Consultants Annual Total | J37: =SUM(J35:J36) -> 0 | Q37: =SUM(Q35:Q36) -> 0 | X37: =SUM(X35:X36) -> 0 | AE37: =SUM(AE35:AE36) -> 0 | AL37: =SUM(AL35:AL36) -> 0 | AQ37: =SUM(J37:AL37) -> 0
A38: Equipment (stand alone pieces>$5k)
E40: Equipment Annual Total | J40: =SUM(J38:J39) -> 0 | Q40: =SUM(Q38:Q39) -> 0 | X40: =SUM(X38:X39) -> 0 | AE40: =SUM(AE38:AE39) -> 0 | AL40: =SUM(AL38:AL39) -> 0 | AQ40: =SUM(J40:AL40) -> 0
A41: Supplies
E47: Supplies Annual Total | J47: =SUM(J41:J46) -> 0 | Q47: =SUM(Q41:Q46) -> 0 | X47: =SUM(X41:X46) -> 0 | AE47: =SUM(AE41:AE46) -> 0 | AL47: =SUM(AL41:AL46) -> 0 | AQ47: =SUM(J47:AL47) -> 0
A48: Animal Costs
E50: =CONCATENATE(A48, " Annual Total") -> Animal Costs Annual Total | J50: =SUM(J48:J49) -> 0 | Q50: =SUM(Q48:Q49) -> 0 | X50: =SUM(X48:X49) -> 0 | AE50: =SUM(AE48:AE49) -> 0 | AL50: =SUM(AL48:AL49) -> 0 | AQ50: =SUM(J50:AL50) -> 0
A51: Travel | E51: Domestic | J51: ='Travel Details'!E59 -> 0 | Q51: ='Travel Details'!F59 -> 0 | X51: ='Travel Details'!G59 -> 0 | AE51: ='Travel Details'!H59 -> 0 | AL51: ='Travel Details'!I59 -> 0
A52: (Use Travel Details tab) | E52: Foreign | J52: ='Travel Details'!P59 -> 0 | Q52: ='Travel Details'!Q59 -> 0 | X52: ='Travel Details'!R59 -> 0 | AE52: ='Travel Details'!S59 -> 0 | AL52: ='Travel Details'!T59 -> 0
E53: Travel Annual Total | J53: =SUM(J51:J52) -> 0 | Q53: =SUM(Q51:Q52) -> 0 | X53: =SUM(X51:X52) -> 0 | AE53: =SUM(AE51:AE52) -> 0 | AL53: =SUM(AL51:AL52) -> 0 | AQ53: =SUM(J53:AL53) -> 0
A54: Patient Care costs
E56: Patient Care costs Annual Total | J56: =SUM(J54:J55) -> 0 | Q56: =SUM(Q54:Q55) -> 0 | X56: =SUM(X54:X55) -> 0 | AE56: =SUM(AE54:AE55) -> 0 | AL56: =SUM(AL54:AL55) -> 0 | AQ56: =SUM(J56:AL56) -> 0
A57: Alterations and Renovations
E59: Alterations and Renovations Annual Total | J59: =SUM(J57:J58) -> 0 | Q59: =SUM(Q57:Q58) -> 0 | X59: =SUM(X57:X58) -> 0 | AE59: =SUM(AE57:AE58) -> 0 | AL59: =SUM(AL57:AL58) -> 0 | AQ59: =SUM(J59:AL59) -> 0
A60: Other Costs
E64: Other Costs Annual Total | J64: =SUM(J60:J63) -> 0 | Q64: =SUM(Q60:Q63) -> 0 | X64: =SUM(X60:X63) -> 0 | AE64: =SUM(AE60:AE63) -> 0 | AL64: =SUM(AL60:AL63) -> 0 | AQ64: =SUM(J64:AL64) -> 0
A65: Sub Awards (use Sub Award tab) | E65: Sub-K under $25k | J65: =SubAwards!D76 -> 0 | Q65: =SubAwards!E76 -> 0 | X65: =SubAwards!F76 -> 0 | AE65: =SubAwards!G76 -> 0 | AL65: =SubAwards!H76 -> 0 | AQ65: =SUM(J65:AL65) -> 0
E66: Sub-K over $25k | J66: =SubAwards!D77 -> 0 | Q66: =SubAwards!E77 -> 0 | X66: =SubAwards!F77 -> 0 | AE66: =SubAwards!G77 -> 0 | AL66: =SubAwards!H77 -> 0 | AQ66: =SUM(J66:AL66) -> 0
E67: Subawards Annual Total | J67: =SUM(J65:J66) -> 0 | Q67: =SUM(Q65:V66) -> 0 | X67: =SUM(X65:X66) -> 0 | AE67: =SUM(AE65:AE66) -> 0 | AL67: =SUM(AL65:AL66) -> 0 | AQ67: =SUM(J67:AL67) -> 0
A68: F&A Rates | I68: MONTHS | P68: MONTHS | W68: MONTHS | AD68: MONTHS | AK68: MONTHS
A69: Input F&A Rates and number of months at each rate | H69: 0.65 | O69: 0.65 | V69: 0.65 | AC69: 0.65 | AJ69: 0.65
A70: F&A Chart | H70: 0.65 | I70: =12-I69 -> 12 | O70: 0.65 | P70: =12-P69 -> 12 | V70: 0.65 | W70: =12-W69 -> 12 | AC70: 0.65 | AD70: =12-AD69 -> 12 | AJ70: 0.65 | AK70: =12-AK69 -> 12
A71: TOTAL DIRECT Costs (including all sub award costs) | J71: =SUM(J33,J37,J40,J47,J50,J53,J56,J59,J64,J67) -> 0 | Q71: =SUM(Q33,Q37,Q40,Q47,Q50,Q53,Q56,Q59,Q64, Q67) -> 0 | X71: =SUM(X33,X37,X40,X47,X50,X53,X56,X59,X64,X67) -> 0 | AE71: =SUM(AE33,AE37,AE40,AE47,AE50,AE53,AE56,AE59,AE64, AE67) -> 0 | AL71: =SUM(AL33,AL37,AL40,AL47,AL50,AL53,AL56,AL59,AL64, AL67) -> 0 | AQ71: =SUM(J71:AL71) -> 0
A72: TOTAL DIRECT Costs (without sub award indirect) | J72: =J71-SubAwards!D75 -> 0 | Q72: =Q71-SubAwards!E75 -> 0 | X72: =X71-SubAwards!F75 -> 0 | AE72: =AE71-SubAwards!G75 -> 0 | AL72: =AL71-SubAwards!H75 -> 0 | AQ72: =SUM(J72:AL72) -> 0
A73: MTDC *if sponsor restrictions, subtract out approporiate categories | J73: =J71 -> 0 | Q73: =Q71 -> 0 | X73: =X71 -> 0 | AE73: =AE71 -> 0 | AL73: =AL71 -> 0 | AQ73: =SUM(J73:AL73) -> 0
A74: BU IDC*calculated on MTDC, if there are sponsor restrictions make adjustments in MTDC line | J74: =((J73/12)*I69*H69)+((J73/12)*I70*H70) -> 0 | Q74: =((Q73/12)*P69*O69)+((Q73/12)*P70*O70) -> 0 | X74: =((X73/12)*W69*V69)+((X73/12)*W70*V70) -> 0 | AE74: =((AE73/12)*AD69*AC69)+((AE73/12)*AD70*AC70) -> 0 | AL74: =((AL73/12)*AK69*AJ69)+((AL73/12)*AK70*AJ70) -> 0 | AQ74: =SUM(J74:AL74) -> 0
A75: TOTAL REQUEST | J75: =J74+J71 -> 0 | Q75: =Q71+Q74 -> 0 | X75: =X71+X74 -> 0 | AE75: =AE71+AE74 -> 0 | AL75: =AL71+AL74 -> 0 | AQ75: =SUM(J75:AL75) -> 0
A79: NOTES

Sheet SubAwards
A1: SUBRECIPIENT | D1: Year 1 | E1: Year 2 | F1: Year 3 | G1: Year 4 | H1: Year 5 | I1: Total
A2: 1 | C2: Direct | I2: =SUM(D2:H2) -> 0
C3: Indirect | I3: =SUM(D3:H3) -> 0
C4: Under | D4: =IF(SUM(D2:D3)>=25000,25000,SUM(D2:D3)) -> 0 | E4: =IF(D6>=25000,0,IF(E6>=25000,25000-D6,SUM(E2:E3))) -> 0 | F4: =IF(E6>=25000,0,IF(F6>=25000,25000-E6,SUM(F2:F3))) -> 0 | G4: =IF(F6>=25000,0,IF(G6>=25000,25000-F6,SUM(G2:G3))) -> 0 | H4: =IF(G6>=25000,0,IF(H6>=25000,25000-G6,SUM(H2:H3))) -> 0 | I4: =SUM(D4:H4) -> 0
C5: Over | D5: =SUM(D2:D3)-D4 -> 0 | E5: =SUM(E2:E3)-E4 -> 0 | F5: =SUM(F2:F3)-F4 -> 0 | G5: =SUM(G2:G3)-G4 -> 0 | H5: =SUM(H2:H3)-H4 -> 0 | I5: =SUM(D5:H5) -> 0
C6: Cumulative total | D6: =SUM(D2:D3) -> 0 | E6: =SUM(D2:D3,E2:E3) -> 0 | F6: =SUM(D2:D3,E2:E3,F2:F3) -> 0 | G6: =SUM(D2:D3,E2:E3,F2:F3,G2:G3) -> 0 | H6: =SUM(D2:D3,E2:E3,F2:F3,G2:G3,H2:H3) -> 0 | I6: =SUM(D7:H7) -> 0
C7: Annual Subtotal | D7: =SUM(D4:D5) -> 0 | E7: =SUM(E4:E5) -> 0 | F7: =SUM(F4:F5) -> 0 | G7: =SUM(G4:G5) -> 0 | H7: =SUM(H4:H5) -> 0 | I7: =SUM(D7:H7) -> 0
A8: 2 | C8: Direct | I8: =SUM(D8:H8) -> 0
C9: Indirect | I9: =SUM(D9:H9) -> 0
C10: Under | D10: =IF(SUM(D8:D9)>=25000,25000,SUM(D8:D9)) -> 0 | E10: =IF(D12>=25000,0,IF(E12>=25000,25000-D12,SUM(E8:E9))) -> 0 | F10: =IF(E12>=25000,0,IF(F12>=25000,25000-E12,SUM(F8:F9))) -> 0 | G10: =IF(F12>=25000,0,IF(G12>=25000,25000-F12,SUM(G8:G9))) -> 0 | H10: =IF(G12>=25000,0,IF(H12>=25000,25000-G12,SUM(H8:H9))) -> 0 | I10: =SUM(D10:H10) -> 0
C11: Over | D11: =SUM(D8:D9)-D10 -> 0 | E11: =SUM(E8:E9)-E10 -> 0 | F11: =SUM(F8:F9)-F10 -> 0 | G11: =SUM(G8:G9)-G10 -> 0 | H11: =SUM(H8:H9)-H10 -> 0 | I11: =SUM(D11:H11) -> 0
C12: Cumulative total | D12: =SUM(D8:D9) -> 0 | E12: =SUM(D8:D9,E8:E9) -> 0 | F12: =SUM(D8:D9,E8:E9,F8:F9) -> 0 | G12: =SUM(D8:D9,E8:E9,F8:F9,G8:G9) -> 0 | H12: =SUM(D8:D9,E8:E9,F8:F9,G8:G9,H8:H9) -> 0 | I12: =SUM(D13:H13) -> 0
C13: Annual Total | D13: =SUM(D10:D11) -> 0 | E13: =SUM(E10:E11) -> 0 | F13: =SUM(F10:F11) -> 0 | G13: =SUM(G10:G11) -> 0 | H13: =SUM(H10:H11) -> 0 | I13: =SUM(D13:H13) -> 0
A14: 3 | C14: Direct | I14: =SUM(D14:H14) -> 0
C15: Indirect | I15: =SUM(D15:H15) -> 0
C16: Under | D16: =IF(SUM(D14:D15)>=25000,25000,SUM(D14:D15)) -> 0 | E16: =IF(D18>=25000,0,IF(E18>=25000,25000-D18,SUM(E14:E15))) -> 0 | F16: =IF(E18>=25000,0,IF(F18>=25000,25000-E18,SUM(F14:F15))) -> 0 | G16: =IF(F18>=25000,0,IF(G18>=25000,25000-F18,SUM(G14:G15))) -> 0 | H16: =IF(G18>=25000,0,IF(H18>=25000,25000-G18,SUM(H14:H15))) -> 0 | I16: =SUM(D16:H16) -> 0
C17: Over | D17: =SUM(D14:D15)-D16 -> 0 | E17: =SUM(E14:E15)-E16 -> 0 | F17: =SUM(F14:F15)-F16 -> 0 | G17: =SUM(G14:G15)-G16 -> 0 | H17: =SUM(H14:H15)-H16 -> 0 | I17: =SUM(D17:H17) -> 0
C18: Cumulative total | D18: =SUM(D14:D15) -> 0 | E18: =SUM(D14:D15,E14:E15) -> 0 | F18: =SUM(D14:D15,E14:E15,F14:F15) -> 0 | G18: =SUM(D14:D15,E14:E15,F14:F15,G14:G15) -> 0 | H18: =SUM(D14:D15,E14:E15,F14:F15,G14:G15,H14:H15) -> 0 | I18: =SUM(D19:H19) -> 0
C19: Annual Total | D19: =SUM(D16:D17) -> 0 | E19: =SUM(E16:E17) -> 0 | F19: =SUM(F16:F17) -> 0 | G19: =SUM(G16:G17) -> 0 | H19: =SUM(H16:H17) -> 0 | I19: =SUM(D19:H19) -> 0
A20: 4 | C20: Direct | I20: =SUM(D20:H20) -> 0
C21: Indirect | I21: =SUM(D21:H21) -> 0
C22: Under | D22: =IF(SUM(D20:D21)>=25000,25000,SUM(D20:D21)) -> 0 | E22: =IF(D24>=25000,0,IF(E24>=25000,25000-D24,SUM(E20:E21))) -> 0 | F22: =IF(E24>=25000,0,IF(F24>=25000,25000-E24,SUM(F20:F21))) -> 0 | G22: =IF(F24>=25000,0,IF(G24>=25000,25000-F24,SUM(G20:G21))) -> 0 | H22: =IF(G24>=25000,0,IF(H24>=25000,25000-G24,SUM(H20:H21))) -> 0 | I22: =SUM(D22:H22) -> 0
C23: Over | D23: =SUM(D20:D21)-D22 -> 0 | E23: =SUM(E20:E21)-E22 -> 0 | F23: =SUM(F20:F21)-F22 -> 0 | G23: =SUM(G20:G21)-G22 -> 0 | H23: =SUM(H20:H21)-H22 -> 0 | I23: =SUM(D23:H23) -> 0
C24: Cumulative total | D24: =SUM(D20:D21) -> 0 | E24: =SUM(D20:D21,E20:E21) -> 0 | F24: =SUM(D20:D21,E20:E21,F20:F21) -> 0 | G24: =SUM(D20:D21,E20:E21,F20:F21,G20:G21) -> 0 | H24: =SUM(D20:D21,E20:E21,F20:F21,G20:G21,H20:H21) -> 0 | I24: =SUM(D25:H25) -> 0
C25: Annual Total | D25: =SUM(D22:D23) -> 0 | E25: =SUM(E22:E23) -> 0 | F25: =SUM(F22:F23) -> 0 | G25: =SUM(G22:G23) -> 0 | H25: =SUM(H22:H23) -> 0 | I25: =SUM(D25:H25) -> 0
A26: 5 | C26: Direct | I26: =SUM(D26:H26) -> 0
C27: Indirect | I27: =SUM(D27:H27) -> 0
C28: Under | D28: =IF(SUM(D26:D27)>=25000,25000,SUM(D26:D27)) -> 0 | E28: =IF(D30>=25000,0,IF(E30>=25000,25000-D30,SUM(E26:E27))) -> 0 | F28: =IF(E30>=25000,0,IF(F30>=25000,25000-E30,SUM(F26:F27))) -> 0 | G28: =IF(F30>=25000,0,IF(G30>=25000,25000-F30,SUM(G26:G27))) -> 0 | H28: =IF(G30>=25000,0,IF(H30>=25000,25000-G30,SUM(H26:H27))) -> 0 | I28: =SUM(D28:H28) -> 0
C29: Over | D29: =SUM(D26:D27)-D28 -> 0 | E29: =SUM(E26:E27)-E28 -> 0 | F29: =SUM(F26:F27)-F28 -> 0 | G29: =SUM(G26:G27)-G28 -> 0 | H29: =SUM(H26:H27)-H28 -> 0 | I29: =SUM(D29:H29) -> 0
C30: Cumulative total | D30: =SUM(D26:D27) -> 0 | E30: =SUM(D26:D27,E26:E27) -> 0 | F30: =SUM(D26:D27,E26:E27,F26:F27) -> 0 | G30: =SUM(D26:D27,E26:E27,F26:F27,G26:G27) -> 0 | H30: =SUM(D26:D27,E26:E27,F26:F27,G26:G27,H26:H27) -> 0 | I30: =SUM(D31:H31) -> 0
C31: Annual Total | D31: =SUM(D28:D29) -> 0 | E31: =SUM(E28:E29) -> 0 | F31: =SUM(F28:F29) -> 0 | G31: =SUM(G28:G29) -> 0 | H31: =SUM(H28:H29) -> 0 | I31: =SUM(D31:H31) -> 0
A32: 6 | C32: Direct | I32: =SUM(D32:H32) -> 0
C33: Indirect | I33: =SUM(D33:H33) -> 0
C34: Under | D34: =IF(SUM(D32:D33)>=25000,25000,SUM(D32:D33)) -> 0 | E34: =IF(D36>=25000,0,IF(E36>=25000,25000-D36,SUM(E32:E33))) -> 0 | F34: =IF(E36>=25000,0,IF(F36>=25000,25000-E36,SUM(F32:F33))) -> 0 | G34: =IF(F36>=25000,0,IF(G36>=25000,25000-F36,SUM(G32:G33))) -> 0 | H34: =IF(G36>=25000,0,IF(H36>=25000,25000-G36,SUM(H32:H33))) -> 0 | I34: =SUM(D34:H34) -> 0
C35: Over | D35: =SUM(D32:D33)-D34 -> 0 | E35: =SUM(E32:E33)-E34 -> 0 | F35: =SUM(F32:F33)-F34 -> 0 | G35: =SUM(G32:G33)-G34 -> 0 | H35: =SUM(H32:H33)-H34 -> 0 | I35: =SUM(D35:H35) -> 0
C36: Cumulative total | D36: =SUM(D32:D33) -> 0 | E36: =SUM(D32:D33,E32:E33) -> 0 | F36: =SUM(D32:D33,E32:E33,F32:F33) -> 0 | G36: =SUM(D32:D33,E32:E33,F32:F33,G32:G33) -> 0 | H36: =SUM(D32:D33,E32:E33,F32:F33,G32:G33,H32:H33) -> 0 | I36: =SUM(D37:H37) -> 0
C37: Annual Total | D37: =SUM(D34:D35) -> 0 | E37: =SUM(E34:E35) -> 0 | F37: =SUM(F34:F35) -> 0 | G37: =SUM(G34:G35) -> 0 | H37: =SUM(H34:H35) -> 0 | I37: =SUM(D37:H37) -> 0
A38: 7 | C38: Direct | I38: =SUM(D38:H38) -> 0
C39: Indirect | I39: =SUM(D39:H39) -> 0
C40: Under | D40: =IF(SUM(D38:D39)>=25000,25000,SUM(D38:D39)) -> 0 | E40: =IF(D42>=25000,0,IF(E42>=25000,25000-D42,SUM(E38:E39))) -> 0 | F40: =IF(E42>=25000,0,IF(F42>=25000,25000-E42,SUM(F38:F39))) -> 0 | G40: =IF(F42>=25000,0,IF(G42>=25000,25000-F42,SUM(G38:G39))) -> 0 | H40: =IF(G42>=25000,0,IF(H42>=25000,25000-G42,SUM(H38:H39))) -> 0 | I40: =SUM(D40:H40) -> 0
C41: Over | D41: =SUM(D38:D39)-D40 -> 0 | E41: =SUM(E38:E39)-E40 -> 0 | F41: =SUM(F38:F39)-F40 -> 0 | G41: =SUM(G38:G39)-G40 -> 0 | H41: =SUM(H38:H39)-H40 -> 0 | I41: =SUM(D41:H41) -> 0
C42: Cumulative total | D42: =SUM(D38:D39) -> 0 | E42: =SUM(D38:D39,E38:E39) -> 0 | F42: =SUM(D38:D39,E38:E39,F38:F39) -> 0 | G42: =SUM(D38:D39,E38:E39,F38:F39,G38:G39) -> 0 | H42: =SUM(D38:D39,E38:E39,F38:F39,G38:G39,H38:H39) -> 0 | I42: =SUM(D43:H43) -> 0
C43: Annual Total | D43: =SUM(D40:D41) -> 0 | E43: =SUM(E40:E41) -> 0 | F43: =SUM(F40:F41) -> 0 | G43: =SUM(G40:G41) -> 0 | H43: =SUM(H40:H41) -> 0 | I43: =SUM(D43:H43) -> 0
A44: 8 | C44: Direct | I44: =SUM(D44:H44) -> 0
C45: Indirect | I45: =SUM(D45:H45) -> 0
C46: Under | D46: =IF(SUM(D44:D45)>=25000,25000,SUM(D44:D45)) -> 0 | E46: =IF(D48>=25000,0,IF(E48>=25000,25000-D48,SUM(E44:E45))) -> 0 | F46: =IF(E48>=25000,0,IF(F48>=25000,25000-E48,SUM(F44:F45))) -> 0 | G46: =IF(F48>=25000,0,IF(G48>=25000,25000-F48,SUM(G44:G45))) -> 0 | H46: =IF(G48>=25000,0,IF(H48>=25000,25000-G48,SUM(H44:H45))) -> 0 | I46: =SUM(D46:H46) -> 0
C47: Over | D47: =SUM(D44:D45)-D46 -> 0 | E47: =SUM(E44:E45)-E46 -> 0 | F47: =SUM(F44:F45)-F46 -> 0 | G47: =SUM(G44:G45)-G46 -> 0 | H47: =SUM(H44:H45)-H46 -> 0 | I47: =SUM(D47:H47) -> 0
C48: Cumulative total | D48: =SUM(D44:D45) -> 0 | E48: =SUM(D44:D45,E44:E45) -> 0 | F48: =SUM(D44:D45,E44:E45,F44:F45) -> 0 | G48: =SUM(D44:D45,E44:E45,F44:F45,G44:G45) -> 0 | H48: =SUM(D44:D45,E44:E45,F44:F45,G44:G45,H44:H45) -> 0 | I48: =SUM(D49:H49) -> 0
C49: Annual Total | D49: =SUM(D46:D47) -> 0 | E49: =SUM(E46:E47) -> 0 | F49: =SUM(F46:F47) -> 0 | G49: =SUM(G46:G47) -> 0 | H49: =SUM(H46:H47) -> 0 | I49: =SUM(D49:H49) -> 0
A50: 9 | C50: Direct | I50: =SUM(D50:H50) -> 0
C51: Indirect | I51: =SUM(D51:H51) -> 0
C52: Under | D52: =IF(SUM(D50:D51)>=25000,25000,SUM(D50:D51)) -> 0 | E52: =IF(D54>=25000,0,IF(E54>=25000,25000-D54,SUM(E50:E51))) -> 0 | F52: =IF(E54>=25000,0,IF(F54>=25000,25000-E54,SUM(F50:F51))) -> 0 | G52: =IF(F54>=25000,0,IF(G54>=25000,25000-F54,SUM(G50:G51))) -> 0 | H52: =IF(G54>=25000,0,IF(H54>=25000,25000-G54,SUM(H50:H51))) -> 0 | I52: =SUM(D52:H52) -> 0
C53: Over | D53: =SUM(D50:D51)-D52 -> 0 | E53: =SUM(E50:E51)-E52 -> 0 | F53: =SUM(F50:F51)-F52 -> 0 | G53: =SUM(G50:G51)-G52 -> 0 | H53: =SUM(H50:H51)-H52 -> 0 | I53: =SUM(D53:H53) -> 0
C54: Cumulative total | D54: =SUM(D50:D51) -> 0 | E54: =SUM(D50:D51,E50:E51) -> 0 | F54: =SUM(D50:D51,E50:E51,F50:F51) -> 0 | G54: =SUM(D50:D51,E50:E51,F50:F51,G50:G51) -> 0 | H54: =SUM(D50:D51,E50:E51,F50:F51,G50:G51,H50:H51) -> 0 | I54: =SUM(D55:H55) -> 0
C55: Annual Total | D55: =SUM(D52:D53) -> 0 | E55: =SUM(E52:E53) -> 0 | F55: =SUM(F52:F53) -> 0 | G55: =SUM(G52:G53) -> 0 | H55: =SUM(H52:H53) -> 0 | I55: =SUM(D55:H55) -> 0
A56: 10 | C56: Direct | I56: =SUM(D56:H56) -> 0
C57: Indirect | I57: =SUM(D57:H57) -> 0
C58: Under | D58: =IF(SUM(D56:D57)>=25000,25000,SUM(D56:D57)) -> 0 | E58: =IF(D60>=25000,0,IF(E60>=25000,25000-D60,SUM(E56:E57))) -> 0 | F58: =IF(E60>=25000,0,IF(F60>=25000,25000-E60,SUM(F56:F57))) -> 0 | G58: =IF(F60>=25000,0,IF(G60>=25000,25000-F60,SUM(G56:G57))) -> 0 | H58: =IF(G60>=25000,0,IF(H60>=25000,25000-G60,SUM(H56:H57))) -> 0 | I58: =SUM(D58:H58) -> 0
C59: Over | D59: =SUM(D56:D57)-D58 -> 0 | E59: =SUM(E56:E57)-E58 -> 0 | F59: =SUM(F56:F57)-F58 -> 0 | G59: =SUM(G56:G57)-G58 -> 0 | H59: =SUM(H56:H57)-H58 -> 0 | I59: =SUM(D59:H59) -> 0
C60: Cumulative total | D60: =SUM(D56:D57) -> 0 | E60: =SUM(D56:D57,E56:E57) -> 0 | F60: =SUM(D56:D57,E56:E57,F56:F57) -> 0 | G60: =SUM(D56:D57,E56:E57,F56:F57,G56:G57) -> 0 | H60: =SUM(D56:D57,E56:E57,F56:F57,G56:G57,H56:H57) -> 0 | I60: =SUM(D61:H61) -> 0
C61: Annual Total | D61: =SUM(D58:D59) -> 0 | E61: =SUM(E58:E59) -> 0 | F61: =SUM(F58:F59) -> 0 | G61: =SUM(G58:G59) -> 0 | H61: =SUM(H58:H59) -> 0 | I61: =SUM(D61:H61) -> 0
A62: 11 | C62: Direct | I62: =SUM(D62:H62) -> 0
C63: Indirect | I63: =SUM(D63:H63) -> 0
C64: Under | D64: =IF(SUM(D62:D63)>=25000,25000,SUM(D62:D63)) -> 0 | E64: =IF(D66>=25000,0,IF(E66>=25000,25000-D66,SUM(E62:E63))) -> 0 | F64: =IF(E66>=25000,0,IF(F66>=25000,25000-E66,SUM(F62:F63))) -> 0 | G64: =IF(F66>=25000,0,IF(G66>=25000,25000-F66,SUM(G62:G63))) -> 0 | H64: =IF(G66>=25000,0,IF(H66>=25000,25000-G66,SUM(H62:H63))) -> 0 | I64: =SUM(D64:H64) -> 0
C65: Over | D65: =SUM(D62:D63)-D64 -> 0 | E65: =SUM(E62:E63)-E64 -> 0 | F65: =SUM(F62:F63)-F64 -> 0 | G65: =SUM(G62:G63)-G64 -> 0 | H65: =SUM(H62:H63)-H64 -> 0 | I65: =SUM(D65:H65) -> 0
C66: Cumulative total | D66: =SUM(D62:D63) -> 0 | E66: =SUM(D62:D63,E62:E63) -> 0 | F66: =SUM(D62:D63,E62:E63,F62:F63) -> 0 | G66: =SUM(D62:D63,E62:E63,F62:F63,G62:G63) -> 0 | H66: =SUM(D62:D63,E62:E63,F62:F63,G62:G63,H62:H63) -> 0 | I66: =SUM(D67:H67) -> 0
C67: Annual Total | D67: =SUM(D64:D65) -> 0 | E67: =SUM(E64:E65) -> 0 | F67: =SUM(F64:F65) -> 0 | G67: =SUM(G64:G65) -> 0 | H67: =SUM(H64:H65) -> 0 | I67: =SUM(D67:H67) -> 0
A68: 12 | C68: Direct | I68: =SUM(D68:H68) -> 0
C69: Indirect | I69: =SUM(D69:H69) -> 0
C70: Under | D70: =IF(SUM(D68:D69)>=25000,25000,SUM(D68:D69)) -> 0 | E70: =IF(D72>=25000,0,IF(E72>=25000,25000-D72,SUM(E68:E69))) -> 0 | F70: =IF(E72>=25000,0,IF(F72>=25000,25000-E72,SUM(F68:F69))) -> 0 | G70: =IF(F72>=25000,0,IF(G72>=25000,25000-F72,SUM(G68:G69))) -> 0 | H70: =IF(G72>=25000,0,IF(H72>=25000,25000-G72,SUM(H68:H69))) -> 0 | I70: =SUM(D70:H70) -> 0
C71: Over | D71: =SUM(D68:D69)-D70 -> 0 | E71: =SUM(E68:E69)-E70 -> 0 | F71: =SUM(F68:F69)-F70 -> 0 | G71: =SUM(G68:G69)-G70 -> 0 | H71: =SUM(H68:H69)-H70 -> 0 | I71: =SUM(D71:H71) -> 0
C72: Cumulative total | D72: =SUM(D68:D69) -> 0 | E72: =SUM(D68:D69,E68:E69) -> 0 | F72: =SUM(D68:D69,E68:E69,F68:F69) -> 0 | G72: =SUM(D68:D69,E68:E69,F68:F69,G68:G69) -> 0 | H72: =SUM(D68:D69,E68:E69,F68:F69,G68:G69,H68:H69) -> 0 | I72: =SUM(D73:H73) -> 0
C73: Annual Total | D73: =SUM(D70:D71) -> 0 | E73: =SUM(E70:E71) -> 0 | F73: =SUM(F70:F71) -> 0 | G73: =SUM(G70:G71) -> 0 | H73: =SUM(H70:H71) -> 0 | I73: =SUM(D73:H73) -> 0
A74: Grand Total | C74: Direct | D74: =SUMIF($C$2:$C$73,$C$74,D2:D73) -> 0 | E74: =SUMIF($C$2:$C$73,$C$74,E2:E73) -> 0 | F74: =SUMIF($C$2:$C$73,$C$74,F2:F73) -> 0 | G74: =SUMIF($C$2:$C$73,$C$74,G2:G73) -> 0 | H74: =SUMIF($C$2:$C$73,$C$74,H2:H73) -> 0 | I74: =SUM(D74:H74) -> 0
A75: ***For modular budget, reference this | C75: Indirect | D75: =SUMIF($C$2:$C$73,$C$75,D2:D73) -> 0 | E75: =SUMIF($C$2:$C$73,$C$75,E2:E73) -> 0 | F75: =SUMIF($C$2:$C$73,$C$75,F2:F73) -> 0 | G75: =SUMIF($C$2:$C$73,$C$75,G2:G73) -> 0 | H75: =SUMIF($C$2:$C$73,$C$75,H2:H73) -> 0 | I75: =SUM(D75:H75) -> 0
C76: Under | D76: =SUMIF($C$4:$C$73,$C$76,D4:D73) -> 0 | E76: =SUMIF($C$4:$C$73,$C$76,E4:E73) -> 0 | F76: =SUMIF($C$4:$C$73,$C$76,F4:F73) -> 0 | G76: =SUMIF($C$4:$C$73,$C$76,G4:G73) -> 0 | H76: =SUMIF($C$4:$C$73,$C$76,H4:H73) -> 0 | I76: =SUM(D76:H76) -> 0
C77: Over | D77: =SUMIF($C$4:$C$73, $C$77, D4:D73) -> 0 | E77: =SUMIF($C$4:$C$73, $C$77, E4:E73) -> 0 | F77: =SUMIF($C$4:$C$73, $C$77, F4:F73) -> 0 | G77: =SUMIF($C$4:$C$73, $C$77, G4:G73) -> 0 | H77: =SUMIF($C$4:$C$73, $C$77, H4:H73) -> 0 | I77: =SUM(D77:H77) -> 0
C78: Total | D78: =SUM(D76:D77) -> 0 | E78: =SUM(E76:E77) -> 0 | F78: =SUM(F76:F77) -> 0 | G78: =SUM(G76:G77) -> 0 | H78: =SUM(H76:H77) -> 0 | I78: =SUM(D78:H78) -> 0

Sheet Travel Details
A1: Domestic Travel | L1: Foreign Travel
A2: INSTRUCTIONS: For all anticipated trips, fill out a trip in either domestic or foreign travel table. Please describe the details of the trip in the description section. Input number of travelers and estimate the line item costs for each trip. Select which year this trip will occur in using Yes/No drop-down menu. It is possible to select multiple years, but the base cost per traveler and number of travelers can not vary year to year. If you need more flexibility for annual changes, create a separate trip. Annual totals for domestic and foreign travel are rolled up into the Federal Detail budget automatically.
C3: Number of Travelers | D3: Base Cost per Traveler | E3: Year 1 | F3: Year 2 | G3: Year 3 | H3: Year 4 | I3: Year 5 | J3: Total | N3: Number of Travelers | O3: Base Cost per Traveler | P3: Year 1 | Q3: Year 2 | R3: Year 3 | S3: Year 4 | T3: Year 5 | U3: Total
A4: Trip 1 | E4: No | F4: No | G4: No | H4: No | I4: No | L4: Trip 1 | P4: No | Q4: No | R4: No | S4: No | T4: No
A5: Description: | C5: Airfare | L5: Description: | N5: Airfare
C6: Car Rental | N6: Car Rental
C7: Registration | N7: Registration
C8: Lodging | N8: Lodging
C9: Per diem | N9: Per diem
C10: Parking | N10: Parking
C11: Other | N11: Other
A12: Subtotal | D12: =SUM(D5:D11) -> 0 | E12: =IF(E4= "Yes", $D$12*$C$4, 0) -> 0 | F12: =IF(F4= "Yes", $D$12*$C$4, 0) -> 0 | G12: =IF(G4= "Yes", $D$12*$C$4, 0) -> 0 | H12: =IF(H4= "Yes", $D$12*$C$4, 0) -> 0 | I12: =IF(I4= "Yes", $D$12*$C$4, 0) -> 0 | J12: =SUM(E12:I12) -> 0 | L12: Subtotal | O12: =SUM(O5:O11) -> 0 | P12: =IF(P4= "Yes", $O$12*$N$4, 0) -> 0 | Q12: =IF(Q4= "Yes", $O$12*$N$4, 0) -> 0 | R12: =IF(R4= "Yes", $O$12*$N$4, 0) -> 0 | S12: =IF(S4= "Yes", $O$12*$N$4, 0) -> 0 | T12: =IF(T4= "Yes", $O$12*$N$4, 0) -> 0 | U12: =SUM(P12:T12) -> 0
A13: Trip 2 | E13: No | F13: No | G13: No | H13: No | I13: No | L13: Trip 2 | P13: No | Q13: No | R13: No | S13: No | T13: No
A14: Description: | C14: Airfare | L14: Description: | N14: Airfare
C15: Car Rental | N15: Car Rental
C16: Registration | N16: Registration
C17: Lodging | N17: Lodging
C18: Per diem | N18: Per diem
C19: Parking | N19: Parking
C20: Other | N20: Other
A21: Subtotal | D21: =SUM(D14:D20) -> 0 | E21: =IF(E13= "Yes", $D$21*$C$13, 0) -> 0 | F21: =IF(F13= "Yes", $D$21*$C$13, 0) -> 0 | G21: =IF(G13= "Yes", $D$21*$C$13, 0) -> 0 | H21: =IF(H13= "Yes", $D$21*$C$13, 0) -> 0 | I21: =IF(I13= "Yes", $D$21*$C$13, 0) -> 0 | J21: =SUM(E21:I21) -> 0 | L21: Subtotal | O21: =SUM(O14:O20) -> 0 | P21: =IF(P13= "Yes", $O$21*$N$13, 0) -> 0 | Q21: =IF(Q13= "Yes", $O$21*$N$13, 0) -> 0 | R21: =IF(R13= "Yes", $O$21*$N$13, 0) -> 0 | S21: =IF(S13= "Yes", $O$21*$N$13, 0) -> 0 | T21: =IF(T13= "Yes", $O$21*$N$13, 0) -> 0 | U21: =SUM(P21:T21) -> 0
A22: Trip 3 | E22: No | F22: No | G22: No | H22: No | I22: No | L22: Trip 3 | P22: No | Q22: No | R22: No | S22: No | T22: No
A23: Description: | C23: Airfare | L23: Description: | N23: Airfare
C24: Car Rental | N24: Car Rental
C25: Registration | N25: Registration
C26: Lodging | N26: Lodging
C27: Per diem | N27: Per diem
C28: Parking | N28: Parking
C29: Other | N29: Other
A30: Subtotal | D30: =SUM(D23:D29) -> 0 | E30: =IF(E22= "Yes", $D$30*$C$22, 0) -> 0 | F30: =IF(F22= "Yes", $D$30*$C$22, 0) -> 0 | G30: =IF(G22= "Yes", $D$30*$C$22, 0) -> 0 | H30: =IF(H22= "Yes", $D$30*$C$22, 0) -> 0 | I30: =IF(I22= "Yes", $D$30*$C$22, 0) -> 0 | J30: =SUM(E30:I30) -> 0 | L30: Subtotal | O30: =SUM(O23:O29) -> 0 | P30: =IF(P22= "Yes",$O$30*$N$22, 0) -> 0 | Q30: =IF(Q22= "Yes",$O$30*$N$22, 0) -> 0 | R30: =IF(R22= "Yes",$O$30*$N$22, 0) -> 0 | S30: =IF(S22= "Yes",$O$30*$N$22, 0) -> 0 | T30: =IF(T22= "Yes",$O$30*$N$22, 0) -> 0 | U30: =SUM(P30:T30) -> 0
A31: Trip 4 | E31: No | F31: No | G31: No | H31: No | I31: No | L31: Trip 4 | P31: No | Q31: No | R31: No | S31: No | T31: No
A32: Description: | C32: Airfare | L32: Description: | N32: Airfare
C33: Car Rental | N33: Car Rental
C34: Registration | N34: Registration
C35: Lodging | N35: Lodging
C36: Per diem | N36: Per diem
C37: Parking | N37: Parking
C38: Other | N38: Other
A39: Subtotal | D39: =SUM(D32:D38) -> 0 | E39: =IF(E31= "Yes", $D$39*$C$31, 0) -> 0 | F39: =IF(F31= "Yes", $D$39*$C$31, 0) -> 0 | G39: =IF(G31= "Yes", $D$39*$C$31, 0) -> 0 | H39: =IF(H31= "Yes", $D$39*$C$31, 0) -> 0 | I39: =IF(I31= "Yes", $D$39*$C$31, 0) -> 0 | J39: =SUM(E39:I39) -> 0 | L39: Subtotal | O39: =SUM(O32:O38) -> 0 | P39: =IF(P31= "Yes",$O$39*$N$31, 0) -> 0 | Q39: =IF(Q31= "Yes",$O$39*$N$31, 0) -> 0 | R39: =IF(R31= "Yes",$O$39*$N$31, 0) -> 0 | S39: =IF(S31= "Yes",$O$39*$N$31, 0) -> 0 | T39: =IF(T31= "Yes",$O$39*$N$31, 0) -> 0 | U39: =SUM(P39:T39) -> 0
A40: Trip 5 | E40: No | F40: No | G40: No | H40: No | I40: No | L40: Trip 5 | P40: No | Q40: No | R40: No | S40: No | T40: No
A41: Description: | C41: Airfare | L41: Description: | N41: Airfare
C42: Car Rental | N42: Car Rental
C43: Registration | N43: Registration
C44: Lodging | N44: Lodging
C45: Per diem | N45: Per diem
C46: Parking | N46: Parking
C47: Other | N47: Other
A48: Subtotal | D48: =SUM(D41:D47) -> 0 | E48: =IF(E40= "Yes", $D$48*$C$40, 0) -> 0 | F48: =IF(F40= "Yes", $D$48*$C$40, 0) -> 0 | G48: =IF(G40= "Yes", $D$48*$C$40, 0) -> 0 | H48: =IF(H40= "Yes", $D$48*$C$40, 0) -> 0 | I48: =IF(I40= "Yes", $D$48*$C$40, 0) -> 0 | J48: =SUM(E48:I48) -> 0 | L48: Subtotal | O48: =SUM(O41:O47) -> 0 | P48: =IF(P40= "Yes",$O$48*$N$40, 0) -> 0 | Q48: =IF(Q40= "Yes",$O$48*$N$40, 0) -> 0 | R48: =IF(R40= "Yes",$O$48*$N$40, 0) -> 0 | S48: =IF(S40= "Yes",$O$48*$N$40, 0) -> 0 | T48: =IF(T40= "Yes",$O$48*$N$40, 0) -> 0 | U48: =SUM(P48:T48) -> 0
A49: Trip 6 | E49: No | F49: No | G49: No | H49: No | I49: No | L49: Trip 6 | P49: No | Q49: No | R49: No | S49: No | T49: No
A50: Description: | C50: Airfare | L50: Description: | N50: Airfare
C51: Car Rental | N51: Car Rental
C52: Registration | N52: Registration
C53: Lodging | N53: Lodging
C54: Per diem | N54: Per diem
C55: Parking | N55: Parking
C56: Other | N56: Other
A57: Subtotal | D57: =SUM(D50:D56) -> 0 | E57: =IF(E49= "Yes", $D$57*$C$49, 0) -> 0 | F57: =IF(F49= "Yes", $D$57*$C$49, 0) -> 0 | G57: =IF(G49= "Yes", $D$57*$C$49, 0) -> 0 | H57: =IF(H49= "Yes", $D$57*$C$49, 0) -> 0 | I57: =IF(I49= "Yes", $D$57*$C$49, 0) -> 0 | J57: =SUM(E57:I57) -> 0 | L57: Subtotal | O57: =SUM(O50:O56) -> 0 | P57: =IF(P49= "Yes", $O$57*$N$49, 0) -> 0 | Q57: =IF(Q49= "Yes", $O$57*$N$49, 0) -> 0 | R57: =IF(R49= "Yes", $O$57*$N$49, 0) -> 0 | S57: =IF(S49= "Yes", $O$57*$N$49, 0) -> 0 | T57: =IF(T49= "Yes", $O$57*$N$49, 0) -> 0 | U57: =SUM(P57:T57) -> 0
A59: Domestic Travel | E59: =SUM(E12:E57) -> 0 | F59: =SUM(F12:F57) -> 0 | G59: =SUM(G12:G57) -> 0 | H59: =SUM(H12:H57) -> 0 | I59: =SUM(I12:I57) -> 0 | J59: =SUM(J12:J57) -> 0 | L59: Domestic Travel | P59: =SUM(P12:P57) -> 0 | Q59: =SUM(Q12:Q57) -> 0 | R59: =SUM(R12:R57) -> 0 | S59: =SUM(S12:S57) -> 0 | T59: =SUM(T12:T57) -> 0 | U59: =SUM(U12:U57) -> 0

Sheet Non Federal Cost Share
A1: PI Name: | E1: COST SHARE | L1: Fringe Rates | P1: Effort Conversion Calculator
A2: Department Submitting Proposal:
A3: Budget Preparer: | L3: Professional | N3: 0.27 | P3: % Effort | Q3: Calendar Months | R3: Academic Months | S3: Summer Months*
A4: Proposal Title: | E4: yellow indicates change in effort from previous year, prompts need for justification | G4: light red indicates NIH salary cap has been reached | I4: orange indicates error in month entry, choose either calendar months, or academic/summer months | L4: Post Doc | N4: 0.27
E5: Only input data into blue fields, please | L5: Support Staff | N5: 0.24 | Q5: =P5*0.12 -> 0 | R5: =P5*0.09 -> 0 | S5: =P5*0.03 -> 0
A6: Start date: | L6: Grad Student | N6: 0.088 | P6: *Note: Summer months are compensated as overbase and may require completion of Commitment of Summer Effort & Salary Request form. Click here for more info
A7: End date: | L7: Undergrad Student | N7: 0
A8: Federal Sponsor: | E8: Year 1 | K8: Year 2 | R8: Year 3 | Y8: Year 4 | AF8: Year 5
A9: If sub, prime institution: | D9: Dates:
A10: Personnel | B10: Role | C10: Base Salary | D10: Merit | E10: Calendar Months | F10: Academic Months | G10: Summer Months* | H10: Effort % | I10: Requested Salary | J10: Requested Fringe | K10: Base Salary | L10: Calendar Months | M10: Academic Months | N10: Summer Months* | O10: Effort % | P10: Requested Salary | Q10: Requested Fringe | R10: Base Salary | S10: Calendar Months | T10: Academic Months | U10: Summer Months* | V10: Effort % | W10: Requested Salary | X10: Requested Fringe | Y10: Base Salary | Z10: Calendar Months | AA10: Academic Months | AB10: Summer Months* | AC10: Effort % | AD10: Requested Salary | AE10: Requested Fringe | AF10: Base Salary | AG10: Calendar Months | AH10: Academic Months | AI10: Summer Months* | AJ10: Effort % | AK10: Requested Salary | AL10: Requested Fringe | AM10: Year 2 Change | AN10: Year 3 Change | AO10: Year 4 Change | AP10: Year 5 Change | AQ10: Total Request
A11: =B1 -> 0 | B11: Professional | D11: 0.01 | H11: =IF(E11>0,E11/12,IF(F11>0,F11/9,0))+G11/9 -> 0 | I11: =Personnel6[[#This Row],[Column2]]*Personnel6[[#This Row],[Column7]] -> 0 | J11: =IFERROR(VLOOKUP(Personnel6[[#This Row],[Column43]], Table37[#All], 3, 0)*Personnel6[[#This Row],[Column8]], 0) -> 0 | K11: =Personnel6[[#This Row],[Column2]]*(1+Personnel6[[#This Row],[Column3]]) -> 0 | O11: =IF(L11>0,L11/12,IF(M11>0,M11/9,0))+N11/9 -> 0 | P11: =Personnel6[[#This Row],[Column10]]*Personnel6[[#This Row],[Column14]] -> 0 | Q11: =IFERROR(VLOOKUP(Personnel6[[#This Row],[Column43]], Table37[#All], 3, 0)*Personnel6[[#This Row],[Column15]], 0) -> 0 | R11: =Personnel6[[#This Row],[Column10]]*(1+Personnel6[[#This Row],[Column3]]) -> 0 | V11: =IF(S11>0,S11/12,IF(T11>0,T11/9,0))+U11/9 -> 0 | W11: =Personnel6[[#This Row],[Column17]]*Personnel6[[#This Row],[Column21]] -> 0 | X11: =IFERROR(VLOOKUP(Personnel6[[#This Row],[Column43]], Table37[#All], 3, 0)*Personnel6[[#This Row],[Column22]], 0) -> 0 | Y11: =Personnel6[[#This Row],[Column17]]*(1+Personnel6[[#This Row],[Column3]]) -> 0 | AC11: =IF(Z11>0,Z11/12,IF(AA11>0,AA11/9,0))+AB11/9 -> 0 | AD11: =Personnel6[[#This Row],[Column24]]*Personnel6[[#This Row],[Column28]] -> 0 | AE11: =IFERROR(VLOOKUP(Personnel6[[#This Row],[Column43]], Table37[#All], 3, 0)*Personnel6[[#This Row],[Column29]], 0) -> 0 | AF11: =Personnel6[[#This Row],[Column24]]*(1+Personnel6[[#This Row],[Column3]]) -> 0 | AJ11: =IF(AG11>0,AG11/12,IF(AH11>0,AH11/9,0))+AI11/9 -> 0 | AK11: =Personnel6[[#This Row],[Column31]]*Personnel6[[#This Row],[Column35]] -> 0 | AL11: =IFERROR(VLOOKUP(Personnel6[[#This Row],[Column43]], Table37[#All], 3, 0)*Personnel6[[#This Row],[Column36]], 0) -> 0 | AM11: =IF(Personnel6[[#This Row],[Column7]]=Personnel6[[#This Row],[Column14]], 1,0) -> 1 | AN11: =IF(Personnel6[[#This Row],[Column14]]=Personnel6[[#This Row],[Column21]], 1,0) -> 1 | AO11: =IF(Personnel6[[#This Row],[Column21]]=Personnel6[[#This Row],[Column28]], 1,0) -> 1 | AP11: =IF(Personnel6[[#This Row],[Column28]]=Personnel6[[#This Row],[Column35]], 1,0) -> 1 | AQ11: =SUM(I11:J11,P11:Q11,W11:X11,AD11:AE11,AK11:AL11) -> 0
D12: 0 | H12: =IF(E12>0,E12/12,IF(F12>0,F12/9,0))+G12/9 -> 0 | I12: =Personnel6[[#This Row],[Column2]]*Personnel6[[#This Row],[Column7]] -> 0 | J12: =IFERROR(VLOOKUP(Personnel6[[#This Row],[Column43]], Table37[#All], 3, 0)*Personnel6[[#This Row],[Column8]], 0) -> 0 | K12: =Personnel6[[#This Row],[Column2]]*(1+Personnel6[[#This Row],[Column3]]) -> 0 | O12: =IF(L12>0,L12/12,IF(M12>0,M12/9,0))+N12/9 -> 0 | P12: =Personnel6[[#This Row],[Column10]]*Personnel6[[#This Row],[Column14]] -> 0 | Q12: =IFERROR(VLOOKUP(Personnel6[[#This Row],[Column43]], Table37[#All], 3, 0)*Personnel6[[#This Row],[Column15]], 0) -> 0 | R12: =Personnel6[[#This Row],[Column10]]*(1+Personnel6[[#This Row],[Column3]]) -> 0 | V12: =IF(S12>0,S12/12,IF(T12>0,T12/9,0))+U12/9 -> 0 | W12: =Personnel6[[#This Row],[Column17]]*Personnel6[[#This Row],[Column21]] -> 0 | X12: =IFERROR(VLOOKUP(Personnel6[[#This Row],[Column43]], Table37[#All], 3, 0)*Personnel6[[#This Row],[Column22]], 0) -> 0 | Y12: =Personnel6[[#This Row],[Column17]]*(1+Personnel6[[#This Row],[Column3]]) -> 0 | AC12: =IF(Z12>0,Z12/12,IF(AA12>0,AA12/9,0))+AB12/9 -> 0 | AD12: =Personnel6[[#This Row],[Column24]]*Personnel6[[#This Row],[Column28]] -> 0 | AE12: =IFERROR(VLOOKUP(Personnel6[[#This Row],[Column43]], Table37[#All], 3, 0)*Personnel6[[#This Row],[Column29]], 0) -> 0 | AF12: =Personnel6[[#This Row],[Column24]]*(1+Personnel6[[#This Row],[Column3]]) -> 0 | AJ12: =IF(AG12>0,AG12/12,IF(AH12>0,AH12/9,0))+AI12/9 -> 0 | AK12: =Personnel6[[#This Row],[Column31]]*Personnel6[[#This Row],[Column35]] -> 0 | AL12: =IFERROR(VLOOKUP(Personnel6[[#This Row],[Column43]], Table37[#All], 3, 0)*Personnel6[[#This Row],[Column36]], 0) -> 0 | AM12: =IF(Personnel6[[#This Row],[Column7]]=Personnel6[[#This Row],[Column14]], 1,0) -> 1 | AN12: =IF(Personnel6[[#This Row],[Column14]]=Personnel6[[#This Row],[Column21]], 1,0) -> 1 | AO12: =IF(Personnel6[[#This Row],[Column21]]=Personnel6[[#This Row],[Column28]], 1,0) -> 1 | AP12: =IF(Personnel6[[#This Row],[Column28]]=Personnel6[[#This Row],[Column35]], 1,0) -> 1 | AQ12: =SUM(I12:J12,P12:Q12,W12:X12,AD12:AE12,AK12:AL12) -> 0
D13: 0 | H13: =IF(E13>0,E13/12,IF(F13>0,F13/9,0))+G13/9 -> 0 | I13: =Personnel6[[#This Row],[Column2]]*Personnel6[[#This Row],[Column7]] -> 0 | J13: =IFERROR(VLOOKUP(Personnel6[[#This Row],[Column43]], Table37[#All], 3, 0)*Personnel6[[#This Row],[Column8]], 0) -> 0 | K13: =Personnel6[[#This Row],[Column2]]*(1+Personnel6[[#This Row],[Column3]]) -> 0 | O13: =IF(L13>0,L13/12,IF(M13>0,M13/9,0))+N13/9 -> 0 | P13: =Personnel6[[#This Row],[Column10]]*Personnel6[[#This Row],[Column14]] -> 0 | Q13: =IFERROR(VLOOKUP(Personnel6[[#This Row],[Column43]], Table37[#All], 3, 0)*Personnel6[[#This Row],[Column15]], 0) -> 0 | R13: =Personnel6[[#This Row],[Column10]]*(1+Personnel6[[#This Row],[Column3]]) -> 0 | V13: =IF(S13>0,S13/12,IF(T13>0,T13/9,0))+U13/9 -> 0 | W13: =Personnel6[[#This Row],[Column17]]*Personnel6[[#This Row],[Column21]] -> 0 | X13: =IFERROR(VLOOKUP(Personnel6[[#This Row],[Column43]], Table37[#All], 3, 0)*Personnel6[[#This Row],[Column22]], 0) -> 0 | Y13: =Personnel6[[#This Row],[Column17]]*(1+Personnel6[[#This Row],[Column3]]) -> 0 | AC13: =IF(Z13>0,Z13/12,IF(AA13>0,AA13/9,0))+AB13/9 -> 0 | AD13: =Personnel6[[#This Row],[Column24]]*Personnel6[[#This Row],[Column28]] -> 0 | AE13: =IFERROR(VLOOKUP(Personnel6[[#This Row],[Column43]], Table37[#All], 3, 0)*Personnel6[[#This Row],[Column29]], 0) -> 0 | AF13: =Personnel6[[#This Row],[Column24]]*(1+Personnel6[[#This Row],[Column3]]) -> 0 | AJ13: =IF(AG13>0,AG13/12,IF(AH13>0,AH13/9,0))+AI13/9 -> 0 | AK13: =Personnel6[[#This Row],[Column31]]*Personnel6[[#This Row],[Column35]] -> 0 | AL13: =IFERROR(VLOOKUP(Personnel6[[#This Row],[Column43]], Table37[#All], 3, 0)*Personnel6[[#This Row],[Column36]], 0) -> 0 | AM13: =IF(Personnel6[[#This Row],[Column7]]=Personnel6[[#This Row],[Column14]], 1,0) -> 1 | AN13: =IF(Personnel6[[#This Row],[Column14]]=Personnel6[[#This Row],[Column21]], 1,0) -> 1 | AO13: =IF(Personnel6[[#This Row],[Column21]]=Personnel6[[#This Row],[Column28]], 1,0) -> 1 | AP13: =IF(Personnel6[[#This Row],[Column28]]=Personnel6[[#This Row],[Column35]], 1,0) -> 1 | AQ13: =SUM(I13:J13,P13:Q13,W13:X13,AD13:AE13,AK13:AL13) -> 0
D14: 0 | H14: =IF(E14>0,E14/12,IF(F14>0,F14/9,0))+G14/9 -> 0 | I14: =H14*C14 -> 0 | J14: =IFERROR(VLOOKUP(Personnel6[[#This Row],[Column43]], Table37[#All], 3, 0)*Personnel6[[#This Row],[Column8]], 0) -> 0 | K14: =Personnel6[[#This Row],[Column2]]*(1+Personnel6[[#This Row],[Column3]]) -> 0 | O14: =IF(L14>0,L14/12,IF(M14>0,M14/9,0))+N14/9 -> 0 | P14: =Personnel6[[#This Row],[Column10]]*Personnel6[[#This Row],[Column14]] -> 0 | Q14: =IFERROR(VLOOKUP(Personnel6[[#This Row],[Column43]], Table37[#All], 3, 0)*Personnel6[[#This Row],[Column15]], 0) -> 0 | R14: =Personnel6[[#This Row],[Column10]]*(1+Personnel6[[#This Row],[Column3]]) -> 0 | V14: =IF(S14>0,S14/12,IF(T14>0,T14/9,0))+U14/9 -> 0 | W14: =Personnel6[[#This Row],[Column17]]*Personnel6[[#This Row],[Column21]] -> 0 | X14: =IFERROR(VLOOKUP(Personnel6[[#This Row],[Column43]], Table37[#All], 3, 0)*Personnel6[[#This Row],[Column22]], 0) -> 0 | Y14: =Personnel6[[#This Row],[Column17]]*(1+Personnel6[[#This Row],[Column3]]) -> 0 | AC14: =IF(Z14>0,Z14/12,IF(AA14>0,AA14/9,0))+AB14/9 -> 0 | AD14: =Personnel6[[#This Row],[Column24]]*Personnel6[[#This Row],[Column28]] -> 0 | AE14: =IFERROR(VLOOKUP(Personnel6[[#This Row],[Column43]], Table37[#All], 3, 0)*Personnel6[[#This Row],[Column29]], 0) -> 0 | AF14: =Personnel6[[#This Row],[Column24]]*(1+Personnel6[[#This Row],[Column3]]) -> 0 | AJ14: =IF(AG14>0,AG14/12,IF(AH14>0,AH14/9,0))+AI14/9 -> 0 | AK14: =Personnel6[[#This Row],[Column31]]*Personnel6[[#This Row],[Column35]] -> 0 | AL14: =IFERROR(VLOOKUP(Personnel6[[#This Row],[Column43]], Table37[#All], 3, 0)*Personnel6[[#This Row],[Column36]], 0) -> 0 | AM14: =IF(Personnel6[[#This Row],[Column7]]=Personnel6[[#This Row],[Column14]], 1,0) -> 1 | AN14: =IF(Personnel6[[#This Row],[Column14]]=Personnel6[[#This Row],[Column21]], 1,0) -> 1 | AO14: =IF(Personnel6[[#This Row],[Column21]]=Personnel6[[#This Row],[Column28]], 1,0) -> 1 | AP14: =IF(Personnel6[[#This Row],[Column28]]=Personnel6[[#This Row],[Column35]], 1,0) -> 1 | AQ14: =SUM(I14:J14,P14:Q14,W14:X14,AD14:AE14,AK14:AL14) -> 0
D15: 0 | H15: =IF(E15>0,E15/12,IF(F15>0,F15/9,0))+G15/9 -> 0 | I15: =H15*C15 -> 0 | J15: =IFERROR(VLOOKUP(Personnel6[[#This Row],[Column43]], Table37[#All], 3, 0)*Personnel6[[#This Row],[Column8]], 0) -> 0 | K15: =Personnel6[[#This Row],[Column2]]*(1+Personnel6[[#This Row],[Column3]]) -> 0 | O15: =IF(L15>0,L15/12,IF(M15>0,M15/9,0))+N15/9 -> 0 | P15: =Personnel6[[#This Row],[Column10]]*Personnel6[[#This Row],[Column14]] -> 0 | Q15: =IFERROR(VLOOKUP(Personnel6[[#This Row],[Column43]], Table37[#All], 3, 0)*Personnel6[[#This Row],[Column15]], 0) -> 0 | R15: =Personnel6[[#This Row],[Column10]]*(1+Personnel6[[#This Row],[Column3]]) -> 0 | V15: =IF(S15>0,S15/12,IF(T15>0,T15/9,0))+U15/9 -> 0 | W15: =Personnel6[[#This Row],[Column17]]*Personnel6[[#This Row],[Column21]] -> 0 | X15: =IFERROR(VLOOKUP(Personnel6[[#This Row],[Column43]], Table37[#All], 3, 0)*Personnel6[[#This Row],[Column22]], 0) -> 0 | Y15: =Personnel6[[#This Row],[Column17]]*(1+Personnel6[[#This Row],[Column3]]) -> 0 | AC15: =IF(Z15>0,Z15/12,IF(AA15>0,AA15/9,0))+AB15/9 -> 0 | AD15: =Personnel6[[#This Row],[Column24]]*Personnel6[[#This Row],[Column28]] -> 0 | AE15: =IFERROR(VLOOKUP(Personnel6[[#This Row],[Column43]], Table37[#All], 3, 0)*Personnel6[[#This Row],[Column29]], 0) -> 0 | AF15: =Personnel6[[#This Row],[Column24]]*(1+Personnel6[[#This Row],[Column3]]) -> 0 | AJ15: =IF(AG15>0,AG15/12,IF(AH15>0,AH15/9,0))+AI15/9 -> 0 | AK15: =Personnel6[[#This Row],[Column31]]*Personnel6[[#This Row],[Column35]] -> 0 | AL15: =IFERROR(VLOOKUP(Personnel6[[#This Row],[Column43]], Table37[#All], 3, 0)*Personnel6[[#This Row],[Column36]], 0) -> 0 | AM15: =IF(Personnel6[[#This Row],[Column7]]=Personnel6[[#This Row],[Column14]], 1,0) -> 1 | AN15: =IF(Personnel6[[#This Row],[Column14]]=Personnel6[[#This Row],[Column21]], 1,0) -> 1 | AO15: =IF(Personnel6[[#This Row],[Column21]]=Personnel6[[#This Row],[Column28]], 1,0) -> 1 | AP15: =IF(Personnel6[[#This Row],[Column28]]=Personnel6[[#This Row],[Column35]], 1,0) -> 1 | AQ15: =SUM(I15:J15,P15:Q15,W15:X15,AD15:AE15,AK15:AL15) -> 0
D16: 0 | H16: =IF(E16>0,E16/12,IF(F16>0,F16/9,0))+G16/9 -> 0 | I16: =H16*C16 -> 0 | J16: =IFERROR(VLOOKUP(Personnel6[[#This Row],[Column43]], Table37[#All], 3, 0)*Personnel6[[#This Row],[Column8]], 0) -> 0 | K16: =Personnel6[[#This Row],[Column2]]*(1+Personnel6[[#This Row],[Column3]]) -> 0 | O16: =IF(L16>0,L16/12,IF(M16>0,M16/9,0))+N16/9 -> 0 | P16: =Personnel6[[#This Row],[Column10]]*Personnel6[[#This Row],[Column14]] -> 0 | Q16: =IFERROR(VLOOKUP(Personnel6[[#This Row],[Column43]], Table37[#All], 3, 0)*Personnel6[[#This Row],[Column15]], 0) -> 0 | R16: =Personnel6[[#This Row],[Column10]]*(1+Personnel6[[#This Row],[Column3]]) -> 0 | V16: =IF(S16>0,S16/12,IF(T16>0,T16/9,0))+U16/9 -> 0 | W16: =Personnel6[[#This Row],[Column17]]*Personnel6[[#This Row],[Column21]] -> 0 | X16: =IFERROR(VLOOKUP(Personnel6[[#This Row],[Column43]], Table37[#All], 3, 0)*Personnel6[[#This Row],[Column22]], 0) -> 0 | Y16: =Personnel6[[#This Row],[Column17]]*(1+Personnel6[[#This Row],[Column3]]) -> 0 | AC16: =IF(Z16>0,Z16/12,IF(AA16>0,AA16/9,0))+AB16/9 -> 0 | AD16: =Personnel6[[#This Row],[Column24]]*Personnel6[[#This Row],[Column28]] -> 0 | AE16: =IFERROR(VLOOKUP(Personnel6[[#This Row],[Column43]], Table37[#All], 3, 0)*Personnel6[[#This Row],[Column29]], 0) -> 0 | AF16: =Personnel6[[#This Row],[Column24]]*(1+Personnel6[[#This Row],[Column3]]) -> 0 | AJ16: =IF(AG16>0,AG16/12,IF(AH16>0,AH16/9,0))+AI16/9 -> 0 | AK16: =Personnel6[[#This Row],[Column31]]*Personnel6[[#This Row],[Column35]] -> 0 | AL16: =IFERROR(VLOOKUP(Personnel6[[#This Row],[Column43]], Table37[#All], 3, 0)*Personnel6[[#This Row],[Column36]], 0) -> 0 | AM16: =IF(Personnel6[[#This Row],[Column7]]=Personnel6[[#This Row],[Column14]], 1,0) -> 1 | AN16: =IF(Personnel6[[#This Row],[Column14]]=Personnel6[[#This Row],[Column21]], 1,0) -> 1 | AO16: =IF(Personnel6[[#This Row],[Column21]]=Personnel6[[#This Row],[Column28]], 1,0) -> 1 | AP16: =IF(Personnel6[[#This Row],[Column28]]=Personnel6[[#This Row],[Column35]], 1,0) -> 1 | AQ16: =SUM(I16:J16,P16:Q16,W16:X16,AD16:AE16,AK16:AL16) -> 0
D17: 0 | H17: =IF(E17>0,E17/12,IF(F17>0,F17/9,0))+G17/9 -> 0 | I17: =Personnel6[[#This Row],[Column2]]*Personnel6[[#This Row],[Column7]] -> 0 | J17: =IFERROR(VLOOKUP(Personnel6[[#This Row],[Column43]], Table37[#All], 3, 0)*Personnel6[[#This Row],[Column8]], 0) -> 0 | K17: =Personnel6[[#This Row],[Column2]]*(1+Personnel6[[#This Row],[Column3]]) -> 0 | O17: =IF(L17>0,L17/12,IF(M17>0,M17/9,0))+N17/9 -> 0 | P17: =Personnel6[[#This Row],[Column10]]*Personnel6[[#This Row],[Column14]] -> 0 | Q17: =IFERROR(VLOOKUP(Personnel6[[#This Row],[Column43]], Table37[#All], 3, 0)*Personnel6[[#This Row],[Column15]], 0) -> 0 | R17: =Personnel6[[#This Row],[Column10]]*(1+Personnel6[[#This Row],[Column3]]) -> 0 | V17: =IF(S17>0,S17/12,IF(T17>0,T17/9,0))+U17/9 -> 0 | W17: =Personnel6[[#This Row],[Column17]]*Personnel6[[#This Row],[Column21]] -> 0 | X17: =IFERROR(VLOOKUP(Personnel6[[#This Row],[Column43]], Table37[#All], 3, 0)*Personnel6[[#This Row],[Column22]], 0) -> 0 | Y17: =Personnel6[[#This Row],[Column17]]*(1+Personnel6[[#This Row],[Column3]]) -> 0 | AC17: =IF(Z17>0,Z17/12,IF(AA17>0,AA17/9,0))+AB17/9 -> 0 | AD17: =Personnel6[[#This Row],[Column24]]*Personnel6[[#This Row],[Column28]] -> 0 | AE17: =IFERROR(VLOOKUP(Personnel6[[#This Row],[Column43]], Table37[#All], 3, 0)*Personnel6[[#This Row],[Column29]], 0) -> 0 | AF17: =Personnel6[[#This Row],[Column24]]*(1+Personnel6[[#This Row],[Column3]]) -> 0 | AJ17: =IF(AG17>0,AG17/12,IF(AH17>0,AH17/9,0))+AI17/9 -> 0 | AK17: =Personnel6[[#This Row],[Column31]]*Personnel6[[#This Row],[Column35]] -> 0 | AL17: =IFERROR(VLOOKUP(Personnel6[[#This Row],[Column43]], Table37[#All], 3, 0)*Personnel6[[#This Row],[Column36]], 0) -> 0 | AM17: =IF(Personnel6[[#This Row],[Column7]]=Personnel6[[#This Row],[Column14]], 1,0) -> 1 | AN17: =IF(Personnel6[[#This Row],[Column14]]=Personnel6[[#This Row],[Column21]], 1,0) -> 1 | AO17: =IF(Personnel6[[#This Row],[Column21]]=Personnel6[[#This Row],[Column28]], 1,0) -> 1 | AP17: =IF(Personnel6[[#This Row],[Column28]]=Personnel6[[#This Row],[Column35]], 1,0) -> 1 | AQ17: =SUM(I17:J17,P17:Q17,W17:X17,AD17:AE17,AK17:AL17) -> 0
D18: 0 | H18: =IF(E18>0,E18/12,IF(F18>0,F18/9,0))+G18/9 -> 0 | I18: =Personnel6[[#This Row],[Column2]]*Personnel6[[#This Row],[Column7]] -> 0 | J18: =IFERROR(VLOOKUP(Personnel6[[#This Row],[Column43]], Table37[#All], 3, 0)*Personnel6[[#This Row],[Column8]], 0) -> 0 | K18: =Personnel6[[#This Row],[Column2]]*(1+Personnel6[[#This Row],[Column3]]) -> 0 | O18: =IF(L18>0,L18/12,IF(M18>0,M18/9,0))+N18/9 -> 0 | P18: =Personnel6[[#This Row],[Column10]]*Personnel6[[#This Row],[Column14]] -> 0 | Q18: =IFERROR(VLOOKUP(Personnel6[[#This Row],[Column43]], Table37[#All], 3, 0)*Personnel6[[#This Row],[Column15]], 0) -> 0 | R18: =Personnel6[[#This Row],[Column10]]*(1+Personnel6[[#This Row],[Column3]]) -> 0 | V18: =IF(S18>0,S18/12,IF(T18>0,T18/9,0))+U18/9 -> 0 | W18: =Personnel6[[#This Row],[Column17]]*Personnel6[[#This Row],[Column21]] -> 0 | X18: =IFERROR(VLOOKUP(Personnel6[[#This Row],[Column43]], Table37[#All], 3, 0)*Personnel6[[#This Row],[Column22]], 0) -> 0 | Y18: =Personnel6[[#This Row],[Column17]]*(1+Personnel6[[#This Row],[Column3]]) -> 0 | AC18: =IF(Z18>0,Z18/12,IF(AA18>0,AA18/9,0))+AB18/9 -> 0 | AD18: =Personnel6[[#This Row],[Column24]]*Personnel6[[#This Row],[Column28]] -> 0 | AE18: =IFERROR(VLOOKUP(Personnel6[[#This Row],[Column43]], Table37[#All], 3, 0)*Personnel6[[#This Row],[Column29]], 0) -> 0 | AF18: =Personnel6[[#This Row],[Column24]]*(1+Personnel6[[#This Row],[Column3]]) -> 0 | AJ18: =IF(AG18>0,AG18/12,IF(AH18>0,AH18/9,0))+AI18/9 -> 0 | AK18: =Personnel6[[#This Row],[Column31]]*Personnel6[[#This Row],[Column35]] -> 0 | AL18: =IFERROR(VLOOKUP(Personnel6[[#This Row],[Column43]], Table37[#All], 3, 0)*Personnel6[[#This Row],[Column36]], 0) -> 0 | AM18: =IF(Personnel6[[#This Row],[Column7]]=Personnel6[[#This Row],[Column14]], 1,0) -> 1 | AN18: =IF(Personnel6[[#This Row],[Column14]]=Personnel6[[#This Row],[Column21]], 1,0) -> 1 | AO18: =IF(Personnel6[[#This Row],[Column21]]=Personnel6[[#This Row],[Column28]], 1,0) -> 1 | AP18: =IF(Personnel6[[#This Row],[Column28]]=Personnel6[[#This Row],[Column35]], 1,0) -> 1 | AQ18: =SUM(I18:J18,P18:Q18,W18:X18,AD18:AE18,AK18:AL18) -> 0
D19: 0 | H19: =IF(E19>0,E19/12,IF(F19>0,F19/9,0))+G19/9 -> 0 | I19: =H19*C19 -> 0 | J19: =IFERROR(VLOOKUP(Personnel6[[#This Row],[Column43]], Table37[#All], 3, 0)*Personnel6[[#This Row],[Column8]], 0) -> 0 | K19: =Personnel6[[#This Row],[Column2]]*(1+Personnel6[[#This Row],[Column3]]) -> 0 | O19: =IF(L19>0,L19/12,IF(M19>0,M19/9,0))+N19/9 -> 0 | P19: =Personnel6[[#This Row],[Column10]]*Personnel6[[#This Row],[Column14]] -> 0 | Q19: =IFERROR(VLOOKUP(Personnel6[[#This Row],[Column43]], Table37[#All], 3, 0)*Personnel6[[#This Row],[Column15]], 0) -> 0 | R19: =Personnel6[[#This Row],[Column10]]*(1+Personnel6[[#This Row],[Column3]]) -> 0 | V19: =IF(S19>0,S19/12,IF(T19>0,T19/9,0))+U19/9 -> 0 | W19: =Personnel6[[#This Row],[Column17]]*Personnel6[[#This Row],[Column21]] -> 0 | X19: =IFERROR(VLOOKUP(Personnel6[[#This Row],[Column43]], Table37[#All], 3, 0)*Personnel6[[#This Row],[Column22]], 0) -> 0 | Y19: =Personnel6[[#This Row],[Column17]]*(1+Personnel6[[#This Row],[Column3]]) -> 0 | AC19: =IF(Z19>0,Z19/12,IF(AA19>0,AA19/9,0))+AB19/9 -> 0 | AD19: =Personnel6[[#This Row],[Column24]]*Personnel6[[#This Row],[Column28]] -> 0 | AE19: =IFERROR(VLOOKUP(Personnel6[[#This Row],[Column43]], Table37[#All], 3, 0)*Personnel6[[#This Row],[Column29]], 0) -> 0 | AF19: =Personnel6[[#This Row],[Column24]]*(1+Personnel6[[#This Row],[Column3]]) -> 0 | AJ19: =IF(AG19>0,AG19/12,IF(AH19>0,AH19/9,0))+AI19/9 -> 0 | AK19: =Personnel6[[#This Row],[Column31]]*Personnel6[[#This Row],[Column35]] -> 0 | AL19: =IFERROR(VLOOKUP(Personnel6[[#This Row],[Column43]], Table37[#All], 3, 0)*Personnel6[[#This Row],[Column36]], 0) -> 0 | AM19: =IF(Personnel6[[#This Row],[Column7]]=Personnel6[[#This Row],[Column14]], 1,0) -> 1 | AN19: =IF(Personnel6[[#This Row],[Column14]]=Personnel6[[#This Row],[Column21]], 1,0) -> 1 | AO19: =IF(Personnel6[[#This Row],[Column21]]=Personnel6[[#This Row],[Column28]], 1,0) -> 1 | AP19: =IF(Personnel6[[#This Row],[Column28]]=Personnel6[[#This Row],[Column35]], 1,0) -> 1 | AQ19: =SUM(I19:J19,P19:Q19,W19:X19,AD19:AE19,AK19:AL19) -> 0
D20: 0 | H20: =IF(E20>0,E20/12,IF(F20>0,F20/9,0))+G20/9 -> 0 | I20: =Personnel6[[#This Row],[Column2]]*Personnel6[[#This Row],[Column7]] -> 0 | J20: =IFERROR(VLOOKUP(Personnel6[[#This Row],[Column43]], Table37[#All], 3, 0)*Personnel6[[#This Row],[Column8]], 0) -> 0 | K20: =Personnel6[[#This Row],[Column2]]*(1+Personnel6[[#This Row],[Column3]]) -> 0 | O20: =IF(L20>0,L20/12,IF(M20>0,M20/9,0))+N20/9 -> 0 | P20: =Personnel6[[#This Row],[Column10]]*Personnel6[[#This Row],[Column14]] -> 0 | Q20: =IFERROR(VLOOKUP(Personnel6[[#This Row],[Column43]], Table37[#All], 3, 0)*Personnel6[[#This Row],[Column15]], 0) -> 0 | R20: =Personnel6[[#This Row],[Column10]]*(1+Personnel6[[#This Row],[Column3]]) -> 0 | V20: =IF(S20>0,S20/12,IF(T20>0,T20/9,0))+U20/9 -> 0 | W20: =Personnel6[[#This Row],[Column17]]*Personnel6[[#This Row],[Column21]] -> 0 | X20: =IFERROR(VLOOKUP(Personnel6[[#This Row],[Column43]], Table37[#All], 3, 0)*Personnel6[[#This Row],[Column22]], 0) -> 0 | Y20: =Personnel6[[#This Row],[Column17]]*(1+Personnel6[[#This Row],[Column3]]) -> 0 | AC20: =IF(Z20>0,Z20/12,IF(AA20>0,AA20/9,0))+AB20/9 -> 0 | AD20: =Personnel6[[#This Row],[Column24]]*Personnel6[[#This Row],[Column28]] -> 0 | AE20: =IFERROR(VLOOKUP(Personnel6[[#This Row],[Column43]], Table37[#All], 3, 0)*Personnel6[[#This Row],[Column29]], 0) -> 0 | AF20: =Personnel6[[#This Row],[Column24]]*(1+Personnel6[[#This Row],[Column3]]) -> 0 | AJ20: =IF(AG20>0,AG20/12,IF(AH20>0,AH20/9,0))+AI20/9 -> 0 | AK20: =Personnel6[[#This Row],[Column31]]*Personnel6[[#This Row],[Column35]] -> 0 | AL20: =IFERROR(VLOOKUP(Personnel6[[#This Row],[Column43]], Table37[#All], 3, 0)*Personnel6[[#This Row],[Column36]], 0) -> 0 | AM20: =IF(Personnel6[[#This Row],[Column7]]=Personnel6[[#This Row],[Column14]], 1,0) -> 1 | AN20: =IF(Personnel6[[#This Row],[Column14]]=Personnel6[[#This Row],[Column21]], 1,0) -> 1 | AO20: =IF(Personnel6[[#This Row],[Column21]]=Personnel6[[#This Row],[Column28]], 1,0) -> 1 | AP20: =IF(Personnel6[[#This Row],[Column28]]=Personnel6[[#This Row],[Column35]], 1,0) -> 1 | AQ20: =SUM(I20:J20,P20:Q20,W20:X20,AD20:AE20,AK20:AL20) -> 0
D21: 0 | H21: =IF(E21>0,E21/12,IF(F21>0,F21/9,0))+G21/9 -> 0 | I21: =Personnel6[[#This Row],[Column2]]*Personnel6[[#This Row],[Column7]] -> 0 | J21: =IFERROR(VLOOKUP(Personnel6[[#This Row],[Column43]], Table37[#All], 3, 0)*Personnel6[[#This Row],[Column8]], 0) -> 0 | K21: =Personnel6[[#This Row],[Column2]]*(1+Personnel6[[#This Row],[Column3]]) -> 0 | O21: =IF(L21>0,L21/12,IF(M21>0,M21/9,0))+N21/9 -> 0 | P21: =Personnel6[[#This Row],[Column10]]*Personnel6[[#This Row],[Column14]] -> 0 | Q21: =IFERROR(VLOOKUP(Personnel6[[#This Row],[Column43]], Table37[#All], 3, 0)*Personnel6[[#This Row],[Column15]], 0) -> 0 | R21: =Personnel6[[#This Row],[Column10]]*(1+Personnel6[[#This Row],[Column3]]) -> 0 | V21: =IF(S21>0,S21/12,IF(T21>0,T21/9,0))+U21/9 -> 0 | W21: =Personnel6[[#This Row],[Column17]]*Personnel6[[#This Row],[Column21]] -> 0 | X21: =IFERROR(VLOOKUP(Personnel6[[#This Row],[Column43]], Table37[#All], 3, 0)*Personnel6[[#This Row],[Column22]], 0) -> 0 | Y21: =Personnel6[[#This Row],[Column17]]*(1+Personnel6[[#This Row],[Column3]]) -> 0 | AC21: =IF(Z21>0,Z21/12,IF(AA21>0,AA21/9,0))+AB21/9 -> 0 | AD21: =Personnel6[[#This Row],[Column24]]*Personnel6[[#This Row],[Column28]] -> 0 | AE21: =IFERROR(VLOOKUP(Personnel6[[#This Row],[Column43]], Table37[#All], 3, 0)*Personnel6[[#This Row],[Column29]], 0) -> 0 | AF21: =Personnel6[[#This Row],[Column24]]*(1+Personnel6[[#This Row],[Column3]]) -> 0 | AJ21: =IF(AG21>0,AG21/12,IF(AH21>0,AH21/9,0))+AI21/9 -> 0 | AK21: =Personnel6[[#This Row],[Column31]]*Personnel6[[#This Row],[Column35]] -> 0 | AL21: =IFERROR(VLOOKUP(Personnel6[[#This Row],[Column43]], Table37[#All], 3, 0)*Personnel6[[#This Row],[Column36]], 0) -> 0 | AM21: =IF(Personnel6[[#This Row],[Column7]]=Personnel6[[#This Row],[Column14]], 1,0) -> 1 | AN21: =IF(Personnel6[[#This Row],[Column14]]=Personnel6[[#This Row],[Column21]], 1,0) -> 1 | AO21: =IF(Personnel6[[#This Row],[Column21]]=Personnel6[[#This Row],[Column28]], 1,0) -> 1 | AP21: =IF(Personnel6[[#This Row],[Column28]]=Personnel6[[#This Row],[Column35]], 1,0) -> 1 | AQ21: =SUM(I21:J21,P21:Q21,W21:X21,AD21:AE21,AK21:AL21) -> 0
D22: 0 | H22: =IF(E22>0,E22/12,IF(F22>0,F22/9,0))+G22/9 -> 0 | I22: =Personnel6[[#This Row],[Column2]]*Personnel6[[#This Row],[Column7]] -> 0 | J22: =IFERROR(VLOOKUP(Personnel6[[#This Row],[Column43]], Table37[#All], 3, 0)*Personnel6[[#This Row],[Column8]], 0) -> 0 | K22: =Personnel6[[#This Row],[Column2]]*(1+Personnel6[[#This Row],[Column3]]) -> 0 | O22: =IF(L22>0,L22/12,IF(M22>0,M22/9,0))+N22/9 -> 0 | P22: =Personnel6[[#This Row],[Column10]]*Personnel6[[#This Row],[Column14]] -> 0 | Q22: =IFERROR(VLOOKUP(Personnel6[[#This Row],[Column43]], Table37[#All], 3, 0)*Personnel6[[#This Row],[Column15]], 0) -> 0 | R22: =Personnel6[[#This Row],[Column10]]*(1+Personnel6[[#This Row],[Column3]]) -> 0 | V22: =IF(S22>0,S22/12,IF(T22>0,T22/9,0))+U22/9 -> 0 | W22: =Personnel6[[#This Row],[Column17]]*Personnel6[[#This Row],[Column21]] -> 0 | X22: =IFERROR(VLOOKUP(Personnel6[[#This Row],[Column43]], Table37[#All], 3, 0)*Personnel6[[#This Row],[Column22]], 0) -> 0 | Y22: =Personnel6[[#This Row],[Column17]]*(1+Personnel6[[#This Row],[Column3]]) -> 0 | AC22: =IF(Z22>0,Z22/12,IF(AA22>0,AA22/9,0))+AB22/9 -> 0 | AD22: =Personnel6[[#This Row],[Column24]]*Personnel6[[#This Row],[Column28]] -> 0 | AE22: =IFERROR(VLOOKUP(Personnel6[[#This Row],[Column43]], Table37[#All], 3, 0)*Personnel6[[#This Row],[Column29]], 0) -> 0 | AF22: =Personnel6[[#This Row],[Column24]]*(1+Personnel6[[#This Row],[Column3]]) -> 0 | AJ22: =IF(AG22>0,AG22/12,IF(AH22>0,AH22/9,0))+AI22/9 -> 0 | AK22: =Personnel6[[#This Row],[Column31]]*Personnel6[[#This Row],[Column35]] -> 0 | AL22: =IFERROR(VLOOKUP(Personnel6[[#This Row],[Column43]], Table37[#All], 3, 0)*Personnel6[[#This Row],[Column36]], 0) -> 0 | AM22: =IF(Personnel6[[#This Row],[Column7]]=Personnel6[[#This Row],[Column14]], 1,0) -> 1 | AN22: =IF(Personnel6[[#This Row],[Column14]]=Personnel6[[#This Row],[Column21]], 1,0) -> 1 | AO22: =IF(Personnel6[[#This Row],[Column21]]=Personnel6[[#This Row],[Column28]], 1,0) -> 1 | AP22: =IF(Personnel6[[#This Row],[Column28]]=Personnel6[[#This Row],[Column35]], 1,0) -> 1 | AQ22: =SUM(I22:J22,P22:Q22,W22:X22,AD22:AE22,AK22:AL22) -> 0
D23: 0 | H23: =IF(E23>0,E23/12,IF(F23>0,F23/9,0))+G23/9 -> 0 | I23: =Personnel6[[#This Row],[Column2]]*Personnel6[[#This Row],[Column7]] -> 0 | J23: =IFERROR(VLOOKUP(Personnel6[[#This Row],[Column43]], Table37[#All], 3, 0)*Personnel6[[#This Row],[Column8]], 0) -> 0 | K23: =Personnel6[[#This Row],[Column2]]*(1+Personnel6[[#This Row],[Column3]]) -> 0 | O23: =IF(L23>0,L23/12,IF(M23>0,M23/9,0))+N23/9 -> 0 | P23: =Personnel6[[#This Row],[Column10]]*Personnel6[[#This Row],[Column14]] -> 0 | Q23: =IFERROR(VLOOKUP(Personnel6[[#This Row],[Column43]], Table37[#All], 3, 0)*Personnel6[[#This Row],[Column15]], 0) -> 0 | R23: =Personnel6[[#This Row],[Column10]]*(1+Personnel6[[#This Row],[Column3]]) -> 0 | V23: =IF(S23>0,S23/12,IF(T23>0,T23/9,0))+U23/9 -> 0 | W23: =Personnel6[[#This Row],[Column17]]*Personnel6[[#This Row],[Column21]] -> 0 | X23: =IFERROR(VLOOKUP(Personnel6[[#This Row],[Column43]], Table37[#All], 3, 0)*Personnel6[[#This Row],[Column22]], 0) -> 0 | Y23: =Personnel6[[#This Row],[Column17]]*(1+Personnel6[[#This Row],[Column3]]) -> 0 | AC23: =IF(Z23>0,Z23/12,IF(AA23>0,AA23/9,0))+AB23/9 -> 0 | AD23: =Personnel6[[#This Row],[Column24]]*Personnel6[[#This Row],[Column28]] -> 0 | AE23: =IFERROR(VLOOKUP(Personnel6[[#This Row],[Column43]], Table37[#All], 3, 0)*Personnel6[[#This Row],[Column29]], 0) -> 0 | AF23: =Personnel6[[#This Row],[Column24]]*(1+Personnel6[[#This Row],[Column3]]) -> 0 | AJ23: =IF(AG23>0,AG23/12,IF(AH23>0,AH23/9,0))+AI23/9 -> 0 | AK23: =Personnel6[[#This Row],[Column31]]*Personnel6[[#This Row],[Column35]] -> 0 | AL23: =IFERROR(VLOOKUP(Personnel6[[#This Row],[Column43]], Table37[#All], 3, 0)*Personnel6[[#This Row],[Column36]], 0) -> 0 | AM23: =IF(Personnel6[[#This Row],[Column7]]=Personnel6[[#This Row],[Column14]], 1,0) -> 1 | AN23: =IF(Personnel6[[#This Row],[Column14]]=Personnel6[[#This Row],[Column21]], 1,0) -> 1 | AO23: =IF(Personnel6[[#This Row],[Column21]]=Personnel6[[#This Row],[Column28]], 1,0) -> 1 | AP23: =IF(Personnel6[[#This Row],[Column28]]=Personnel6[[#This Row],[Column35]], 1,0) -> 1 | AQ23: =SUM(I23:J23,P23:Q23,W23:X23,AD23:AE23,AK23:AL23) -> 0
D24: 0 | H24: =IF(E24>0,E24/12,IF(F24>0,F24/9,0))+G24/9 -> 0 | I24: =Personnel6[[#This Row],[Column2]]*Personnel6[[#This Row],[Column7]] -> 0 | J24: =IFERROR(VLOOKUP(Personnel6[[#This Row],[Column43]], Table37[#All], 3, 0)*Personnel6[[#This Row],[Column8]], 0) -> 0 | K24: =Personnel6[[#This Row],[Column2]]*(1+Personnel6[[#This Row],[Column3]]) -> 0 | O24: =IF(L24>0,L24/12,IF(M24>0,M24/9,0))+N24/9 -> 0 | P24: =Personnel6[[#This Row],[Column10]]*Personnel6[[#This Row],[Column14]] -> 0 | Q24: =IFERROR(VLOOKUP(Personnel6[[#This Row],[Column43]], Table37[#All], 3, 0)*Personnel6[[#This Row],[Column15]], 0) -> 0 | R24: =Personnel6[[#This Row],[Column10]]*(1+Personnel6[[#This Row],[Column3]]) -> 0 | V24: =IF(S24>0,S24/12,IF(T24>0,T24/9,0))+U24/9 -> 0 | W24: =Personnel6[[#This Row],[Column17]]*Personnel6[[#This Row],[Column21]] -> 0 | X24: =IFERROR(VLOOKUP(Personnel6[[#This Row],[Column43]], Table37[#All], 3, 0)*Personnel6[[#This Row],[Column22]], 0) -> 0 | Y24: =Personnel6[[#This Row],[Column17]]*(1+Personnel6[[#This Row],[Column3]]) -> 0 | AC24: =IF(Z24>0,Z24/12,IF(AA24>0,AA24/9,0))+AB24/9 -> 0 | AD24: =Personnel6[[#This Row],[Column24]]*Personnel6[[#This Row],[Column28]] -> 0 | AE24: =IFERROR(VLOOKUP(Personnel6[[#This Row],[Column43]], Table37[#All], 3, 0)*Personnel6[[#This Row],[Column29]], 0) -> 0 | AF24: =Personnel6[[#This Row],[Column24]]*(1+Personnel6[[#This Row],[Column3]]) -> 0 | AJ24: =IF(AG24>0,AG24/12,IF(AH24>0,AH24/9,0))+AI24/9 -> 0 | AK24: =Personnel6[[#This Row],[Column31]]*Personnel6[[#This Row],[Column35]] -> 0 | AL24: =IFERROR(VLOOKUP(Personnel6[[#This Row],[Column43]], Table37[#All], 3, 0)*Personnel6[[#This Row],[Column36]], 0) -> 0 | AM24: =IF(Personnel6[[#This Row],[Column7]]=Personnel6[[#This Row],[Column14]], 1,0) -> 1 | AN24: =IF(Personnel6[[#This Row],[Column14]]=Personnel6[[#This Row],[Column21]], 1,0) -> 1 | AO24: =IF(Personnel6[[#This Row],[Column21]]=Personnel6[[#This Row],[Column28]], 1,0) -> 1 | AP24: =IF(Personnel6[[#This Row],[Column28]]=Personnel6[[#This Row],[Column35]], 1,0) -> 1 | AQ24: =SUM(I24:J24,P24:Q24,W24:X24,AD24:AE24,AK24:AL24) -> 0
D25: 0 | H25: =IF(E25>0,E25/12,IF(F25>0,F25/9,0))+G25/9 -> 0 | I25: =Personnel6[[#This Row],[Column2]]*Personnel6[[#This Row],[Column7]] -> 0 | J25: =IFERROR(VLOOKUP(Personnel6[[#This Row],[Column43]], Table37[#All], 3, 0)*Personnel6[[#This Row],[Column8]], 0) -> 0 | K25: =Personnel6[[#This Row],[Column2]]*(1+Personnel6[[#This Row],[Column3]]) -> 0 | O25: =IF(L25>0,L25/12,IF(M25>0,M25/9,0))+N25/9 -> 0 | P25: =Personnel6[[#This Row],[Column10]]*Personnel6[[#This Row],[Column14]] -> 0 | Q25: =IFERROR(VLOOKUP(Personnel6[[#This Row],[Column43]], Table37[#All], 3, 0)*Personnel6[[#This Row],[Column15]], 0) -> 0 | R25: =Personnel6[[#This Row],[Column10]]*(1+Personnel6[[#This Row],[Column3]]) -> 0 | V25: =IF(S25>0,S25/12,IF(T25>0,T25/9,0))+U25/9 -> 0 | W25: =Personnel6[[#This Row],[Column17]]*Personnel6[[#This Row],[Column21]] -> 0 | X25: =IFERROR(VLOOKUP(Personnel6[[#This Row],[Column43]], Table37[#All], 3, 0)*Personnel6[[#This Row],[Column22]], 0) -> 0 | Y25: =Personnel6[[#This Row],[Column17]]*(1+Personnel6[[#This Row],[Column3]]) -> 0 | AC25: =IF(Z25>0,Z25/12,IF(AA25>0,AA25/9,0))+AB25/9 -> 0 | AD25: =Personnel6[[#This Row],[Column24]]*Personnel6[[#This Row],[Column28]] -> 0 | AE25: =IFERROR(VLOOKUP(Personnel6[[#This Row],[Column43]], Table37[#All], 3, 0)*Personnel6[[#This Row],[Column29]], 0) -> 0 | AF25: =Personnel6[[#This Row],[Column24]]*(1+Personnel6[[#This Row],[Column3]]) -> 0 | AJ25: =IF(AG25>0,AG25/12,IF(AH25>0,AH25/9,0))+AI25/9 -> 0 | AK25: =Personnel6[[#This Row],[Column31]]*Personnel6[[#This Row],[Column35]] -> 0 | AL25: =IFERROR(VLOOKUP(Personnel6[[#This Row],[Column43]], Table37[#All], 3, 0)*Personnel6[[#This Row],[Column36]], 0) -> 0 | AM25: =IF(Personnel6[[#This Row],[Column7]]=Personnel6[[#This Row],[Column14]], 1,0) -> 1 | AN25: =IF(Personnel6[[#This Row],[Column14]]=Personnel6[[#This Row],[Column21]], 1,0) -> 1 | AO25: =IF(Personnel6[[#This Row],[Column21]]=Personnel6[[#This Row],[Column28]], 1,0) -> 1 | AP25: =IF(Personnel6[[#This Row],[Column28]]=Personnel6[[#This Row],[Column35]], 1,0) -> 1 | AQ25: =SUM(I25:J25,P25:Q25,W25:X25,AD25:AE25,AK25:AL25) -> 0
D26: 0 | H26: =IF(E26>0,E26/12,IF(F26>0,F26/9,0))+G26/9 -> 0 | I26: =Personnel6[[#This Row],[Column2]]*Personnel6[[#This Row],[Column7]] -> 0 | J26: =IFERROR(VLOOKUP(Personnel6[[#This Row],[Column43]], Table37[#All], 3, 0)*Personnel6[[#This Row],[Column8]], 0) -> 0 | K26: =Personnel6[[#This Row],[Column2]]*(1+Personnel6[[#This Row],[Column3]]) -> 0 | O26: =IF(L26>0,L26/12,IF(M26>0,M26/9,0))+N26/9 -> 0 | P26: =Personnel6[[#This Row],[Column10]]*Personnel6[[#This Row],[Column14]] -> 0 | Q26: =IFERROR(VLOOKUP(Personnel6[[#This Row],[Column43]], Table37[#All], 3, 0)*Personnel6[[#This Row],[Column15]], 0) -> 0 | R26: =Personnel6[[#This Row],[Column10]]*(1+Personnel6[[#This Row],[Column3]]) -> 0 | V26: =IF(S26>0,S26/12,IF(T26>0,T26/9,0))+U26/9 -> 0 | W26: =Personnel6[[#This Row],[Column17]]*Personnel6[[#This Row],[Column21]] -> 0 | X26: =IFERROR(VLOOKUP(Personnel6[[#This Row],[Column43]], Table37[#All], 3, 0)*Personnel6[[#This Row],[Column22]], 0) -> 0 | Y26: =Personnel6[[#This Row],[Column17]]*(1+Personnel6[[#This Row],[Column3]]) -> 0 | AC26: =IF(Z26>0,Z26/12,IF(AA26>0,AA26/9,0))+AB26/9 -> 0 | AD26: =Personnel6[[#This Row],[Column24]]*Personnel6[[#This Row],[Column28]] -> 0 | AE26: =IFERROR(VLOOKUP(Personnel6[[#This Row],[Column43]], Table37[#All], 3, 0)*Personnel6[[#This Row],[Column29]], 0) -> 0 | AF26: =Personnel6[[#This Row],[Column24]]*(1+Personnel6[[#This Row],[Column3]]) -> 0 | AJ26: =IF(AG26>0,AG26/12,IF(AH26>0,AH26/9,0))+AI26/9 -> 0 | AK26: =Personnel6[[#This Row],[Column31]]*Personnel6[[#This Row],[Column35]] -> 0 | AL26: =IFERROR(VLOOKUP(Personnel6[[#This Row],[Column43]], Table37[#All], 3, 0)*Personnel6[[#This Row],[Column36]], 0) -> 0 | AM26: =IF(Personnel6[[#This Row],[Column7]]=Personnel6[[#This Row],[Column14]], 1,0) -> 1 | AN26: =IF(Personnel6[[#This Row],[Column14]]=Personnel6[[#This Row],[Column21]], 1,0) -> 1 | AO26: =IF(Personnel6[[#This Row],[Column21]]=Personnel6[[#This Row],[Column28]], 1,0) -> 1 | AP26: =IF(Personnel6[[#This Row],[Column28]]=Personnel6[[#This Row],[Column35]], 1,0) -> 1 | AQ26: =SUM(I26:J26,P26:Q26,W26:X26,AD26:AE26,AK26:AL26) -> 0
D27: 0 | H27: =IF(E27>0,E27/12,IF(F27>0,F27/9,0))+G27/9 -> 0 | I27: =Personnel6[[#This Row],[Column2]]*Personnel6[[#This Row],[Column7]] -> 0 | J27: =IFERROR(VLOOKUP(Personnel6[[#This Row],[Column43]], Table37[#All], 3, 0)*Personnel6[[#This Row],[Column8]], 0) -> 0 | K27: =Personnel6[[#This Row],[Column2]]*(1+Personnel6[[#This Row],[Column3]]) -> 0 | O27: =IF(L27>0,L27/12,IF(M27>0,M27/9,0))+N27/9 -> 0 | P27: =Personnel6[[#This Row],[Column10]]*Personnel6[[#This Row],[Column14]] -> 0 | Q27: =IFERROR(VLOOKUP(Personnel6[[#This Row],[Column43]], Table37[#All], 3, 0)*Personnel6[[#This Row],[Column15]], 0) -> 0 | R27: =Personnel6[[#This Row],[Column10]]*(1+Personnel6[[#This Row],[Column3]]) -> 0 | V27: =IF(S27>0,S27/12,IF(T27>0,T27/9,0))+U27/9 -> 0 | W27: =Personnel6[[#This Row],[Column17]]*Personnel6[[#This Row],[Column21]] -> 0 | X27: =IFERROR(VLOOKUP(Personnel6[[#This Row],[Column43]], Table37[#All], 3, 0)*Personnel6[[#This Row],[Column22]], 0) -> 0 | Y27: =Personnel6[[#This Row],[Column17]]*(1+Personnel6[[#This Row],[Column3]]) -> 0 | AC27: =IF(Z27>0,Z27/12,IF(AA27>0,AA27/9,0))+AB27/9 -> 0 | AD27: =Personnel6[[#This Row],[Column24]]*Personnel6[[#This Row],[Column28]] -> 0 | AE27: =IFERROR(VLOOKUP(Personnel6[[#This Row],[Column43]], Table37[#All], 3, 0)*Personnel6[[#This Row],[Column29]], 0) -> 0 | AF27: =Personnel6[[#This Row],[Column24]]*(1+Personnel6[[#This Row],[Column3]]) -> 0 | AJ27: =IF(AG27>0,AG27/12,IF(AH27>0,AH27/9,0))+AI27/9 -> 0 | AK27: =Personnel6[[#This Row],[Column31]]*Personnel6[[#This Row],[Column35]] -> 0 | AL27: =IFERROR(VLOOKUP(Personnel6[[#This Row],[Column43]], Table37[#All], 3, 0)*Personnel6[[#This Row],[Column36]], 0) -> 0 | AM27: =IF(Personnel6[[#This Row],[Column7]]=Personnel6[[#This Row],[Column14]], 1,0) -> 1 | AN27: =IF(Personnel6[[#This Row],[Column14]]=Personnel6[[#This Row],[Column21]], 1,0) -> 1 | AO27: =IF(Personnel6[[#This Row],[Column21]]=Personnel6[[#This Row],[Column28]], 1,0) -> 1 | AP27: =IF(Personnel6[[#This Row],[Column28]]=Personnel6[[#This Row],[Column35]], 1,0) -> 1 | AQ27: =SUM(I27:J27,P27:Q27,W27:X27,AD27:AE27,AK27:AL27) -> 0
A28: Subtotals | I28: =SUM(I11:I27) -> 0 | J28: =SUM(J11:J27) -> 0 | P28: =SUM(P11:P27) -> 0 | Q28: =SUM(Q11:Q27) -> 0 | W28: =SUM(W11:W27) -> 0 | X28: =SUM(X11:X27) -> 0 | AD28: =SUM(AD11:AD27) -> 0 | AE28: =SUM(AE11:AE27) -> 0 | AK28: =SUM(AK11:AK27) -> 0 | AL28: =SUM(AL11:AL27) -> 0 | AQ28: =SUM(I28:J28,P28:Q28,W28:X28,AD28:AE28,AK28:AL28) -> 0
AQ29: =SUM(I29:J29,P29:Q29,W29:X29,AD29:AE29,AK29:AL29) -> 0
A30: Personnel Totals | J30: =SUM(I28:J28) -> 0 | Q30: =SUM(P28:Q28) -> 0 | X30: =SUM(W28:X28) -> 0 | AE30: =SUM(AD28:AE28) -> 0 | AL30: =SUM(AK28:AL28) -> 0 | AQ30: =SUM(I30:J30,P30:Q30,W30:X30,AD30:AE30,AK30:AL30) -> 0
A31: Non Personnel Details | E31: =E8 -> Year 1 | K31: =K8 -> Year 2 | R31: =R8 -> Year 3 | Y31: =Y8 -> Year 4 | AF31: Year 5
A32: Consultants
E34: Consultants Annual Total | J34: =SUM(J32:J33) -> 0 | Q34: =SUM(Q32:Q33) -> 0 | X34: =SUM(X32:X33) -> 0 | AE34: =SUM(AE32:AE33) -> 0 | AL34: =SUM(AL32:AL33) -> 0 | AQ34: =SUM(J34:AL34) -> 0
A35: Equipment (stand alone pieces>$5k)*
E37: Equipment Annual Total | J37: =SUM(J35:J36) -> 0 | Q37: =SUM(Q35:Q36) -> 0 | X37: =SUM(X35:X36) -> 0 | AE37: =SUM(AE35:AE36) -> 0 | AL37: =SUM(AL35:AL36) -> 0 | AQ37: =SUM(J37:AL37) -> 0
A38: Supplies
E44: Supplies Annual Total | J44: =SUM(J38:J43) -> 0 | Q44: =SUM(Q38:Q43) -> 0 | X44: =SUM(X38:X43) -> 0 | AE44: =SUM(AE38:AE43) -> 0 | AL44: =SUM(AL38:AL43) -> 0 | AQ44: =SUM(J44:AL44) -> 0
A45: Animal Costs
E47: =CONCATENATE(A45, " Annual Total") -> Animal Costs Annual Total | J47: =SUM(J45:J46) -> 0 | Q47: =SUM(Q45:Q46) -> 0 | X47: =SUM(X45:X46) -> 0 | AE47: =SUM(AE45:AE46) -> 0 | AL47: =SUM(AL45:AL46) -> 0 | AQ47: =SUM(J47:AL47) -> 0
A48: Travel | E48: Domestic
A49: (Include details in Notes) | E49: Foreign
E50: Travel Annual Total | J50: =SUM(J48:J49) -> 0 | Q50: =SUM(Q48:Q49) -> 0 | X50: =SUM(X48:X49) -> 0 | AE50: =SUM(AE48:AE49) -> 0 | AL50: =SUM(AL48:AL49) -> 0 | AQ50: =SUM(J50:AL50) -> 0
A51: Patient Care costs*
E53: Patient Care costs* Annual Total | J53: =SUM(J51:J52) -> 0 | Q53: =SUM(Q51:Q52) -> 0 | X53: =SUM(X51:X52) -> 0 | AE53: =SUM(AE51:AE52) -> 0 | AL53: =SUM(AL51:AL52) -> 0 | AQ53: =SUM(J53:AL53) -> 0
A54: Alterations and Renovations*
E56: Alterations and Renovations* Annual Total | J56: =SUM(J54:J55) -> 0 | Q56: =SUM(Q54:Q55) -> 0 | X56: =SUM(X54:X55) -> 0 | AE56: =SUM(AE54:AE55) -> 0 | AL56: =SUM(AL54:AL55) -> 0 | AQ56: =SUM(J56:AL56) -> 0
A57: Other Costs
E61: Other Costs Annual Total | J61: =SUM(J57:J60) -> 0 | Q61: =SUM(Q57:Q60) -> 0 | X61: =SUM(X57:X60) -> 0 | AE61: =SUM(AE57:AE60) -> 0 | AL61: =SUM(AL57:AL60) -> 0 | AQ61: =SUM(J61:AL61) -> 0
A62: Subawards (include details in Notes) | E62: Sub-K under $25k | AQ62: =SUM(J62:AL62) -> 0
E63: Sub-K over $25k | AQ63: =SUM(J63:AL63) -> 0
E64: Subawards Annual Total | J64: =SUM(J62:J63) -> 0 | Q64: =SUM(Q62:V63) -> 0 | X64: =SUM(X62:X63) -> 0 | AE64: =SUM(AE62:AE63) -> 0 | AL64: =SUM(AL62:AL63) -> 0 | AQ64: =SUM(J64:AL64) -> 0
A65: F&A Rates | I65: MONTHS | P65: MONTHS | W65: MONTHS | AD65: MONTHS | AK65: MONTHS
A66: Input F&A Rates and number of months at each rate | H66: 0.645 | O66: 0.65 | V66: 0.65 | AC66: 0.65 | AJ66: 0.65
A67: F&A Chart | H67: 0.65 | I67: =12-I66 -> 12 | O67: 0.65 | P67: =12-P66 -> 12 | V67: 0.65 | W67: =12-W66 -> 12 | AC67: 0.65 | AD67: =12-AD66 -> 12 | AJ67: 0.65 | AK67: =12-AK66 -> 12
A68: TOTAL DIRECT Costs (including all sub award costs) | J68: =SUM(J30,J34,J37,J44,J47,J50,J53,J56,J61,J64) -> 0 | Q68: =SUM(Q30,Q34,Q37,Q44,Q47,Q50,Q53,Q56,Q61, Q64) -> 0 | X68: =SUM(X30,X34,X37,X44,X47,X50,X53,X56,X61,X64) -> 0 | AE68: =SUM(AE30,AE34,AE37,AE44,AE47,AE50,AE53,AE56,AE61, AE64) -> 0 | AL68: =SUM(AL30,AL34,AL37,AL44,AL47,AL50,AL53,AL56,AL61, AL64) -> 0 | AQ68: =SUM(J68:AL68) -> 0
A69: IDC | J69: =((J68/12)*I66*H66)+((J68/12)*I67*H67) -> 0 | Q69: =((Q68/12)*P66*O66)+((Q68/12)*P67*O67) -> 0 | X69: =((X68/12)*W66*V66)+((X68/12)*W67*V67) -> 0 | AE69: =((AE68/12)*AD66*AC66)+((AE68/12)*AD67*AC67) -> 0 | AL69: =((AL68/12)*AK66*AJ66)+((AL68/12)*AK67*AJ67) -> 0 | AQ69: =SUM(J69:AL69) -> 0
A70: TOTAL REQUEST | J70: =J69+J68 -> 0 | Q70: =Q69+Q68 -> 0 | X70: =X69+X68 -> 0 | AE70: =AE69+AE68 -> 0 | AL70: =AL69+AL68 -> 0 | AQ70: =SUM(J70:AL70) -> 0
A74: NOTES
